BEGIN:VCALENDAR
VERSION:2.0
PRODID:NSDV - Nordschwäbischer Dartverband e. V.
BEGIN:VEVENT
UID:69e4fdcceb1f3
DTSTART:20210913T180000Z
SEQUENCE:0
TRANSP:OPAQUE
LOCATION:Keltenstraße 17\, 86845 Großaitingen
SUMMARY:3. Liga Gruppe Süd: Underground Darter Aitingen vs. SV Gablingen S
 chmutter Dart Boyz 3 (Vereinsraum im UG)
CLASS:PUBLIC
DTSTAMP:20260419T180740Z
END:VEVENT
BEGIN:VEVENT
UID:69e4fdcceb936
DTSTART:20210914T180000Z
SEQUENCE:0
TRANSP:OPAQUE
LOCATION:Georgenstr. 2\, 86152 Augsburg
SUMMARY:3. Liga Gruppe Süd: Double Trouble Augsburg vs. D'Augschburger 2 (
 Oki's)
CLASS:PUBLIC
DTSTAMP:20260419T180740Z
END:VEVENT
BEGIN:VEVENT
UID:69e4fdcceba5d
DTSTART:20210915T180000Z
SEQUENCE:0
TRANSP:OPAQUE
LOCATION:Derchinger Str. 118 c\, 86165 Augsburg
SUMMARY:3. Liga Gruppe Süd: DJK Lechhausen 3 vs. Flying Darter Untermeitin
 gen (DJK Lechhausen Sporth. Fußball)
CLASS:PUBLIC
DTSTAMP:20260419T180740Z
END:VEVENT
BEGIN:VEVENT
UID:69e4fdccec31b
DTSTART:20210916T180000Z
SEQUENCE:0
TRANSP:OPAQUE
LOCATION:\,  
SUMMARY:3. Liga Gruppe Süd: Dart'agnans vs. DC Schwabmünchen ()
CLASS:PUBLIC
DTSTAMP:20260419T180740Z
END:VEVENT
BEGIN:VEVENT
UID:69e4fdccecaee
DTSTART:20210927T180000Z
SEQUENCE:0
TRANSP:OPAQUE
LOCATION:Bismarckstraße 7\, 86159 Augsburg
SUMMARY:3. Liga Gruppe Süd: Clochard Darter Augsburg 3 vs. Clochard Darter
  Augsburg 4 (Bismarck Bistro)
CLASS:PUBLIC
DTSTAMP:20260419T180740Z
END:VEVENT
BEGIN:VEVENT
UID:69e4fdccecc35
DTSTART:20210921T180000Z
SEQUENCE:0
TRANSP:OPAQUE
LOCATION:Meisenweg 25\, 86156 Augsburg
SUMMARY:3. Liga Gruppe Süd: D'Augschburger 2 vs. Underground Darter Aiting
 en (Sergio´s)
CLASS:PUBLIC
DTSTAMP:20260419T180740Z
END:VEVENT
BEGIN:VEVENT
UID:69e4fdccecd34
DTSTART:20210922T180000Z
SEQUENCE:0
TRANSP:OPAQUE
LOCATION:Herbststraße 9\, 86836 Untermeitingen
SUMMARY:3. Liga Gruppe Süd: Flying Darter Untermeitingen vs. Dart'agnans (
 Imhofstadl)
CLASS:PUBLIC
DTSTAMP:20260419T180740Z
END:VEVENT
BEGIN:VEVENT
UID:69e4fdccece3d
DTSTART:20210922T180000Z
SEQUENCE:0
TRANSP:OPAQUE
LOCATION:Hauptstraße 8\, 86853 Langerringen
SUMMARY:3. Liga Gruppe Süd: DC Schwabmünchen vs. Double Trouble Augsburg 
 (Gasthof Deutsches Haus)
CLASS:PUBLIC
DTSTAMP:20260419T180740Z
END:VEVENT
BEGIN:VEVENT
UID:69e4fdcced23b
DTSTART:20210922T180000Z
SEQUENCE:0
TRANSP:OPAQUE
LOCATION:Gersthofer Straße 1\, 86456 Gablingen
SUMMARY:3. Liga Gruppe Süd: SV Gablingen Schmutter Dart Boyz 3 vs. Clochar
 d Darter Augsburg 3 (Sportheim SV Gablingen)
CLASS:PUBLIC
DTSTAMP:20260419T180740Z
END:VEVENT
BEGIN:VEVENT
UID:69e4fdcced4cd
DTSTART:20210928T180000Z
SEQUENCE:0
TRANSP:OPAQUE
LOCATION:Bismarckstraße 7\, 86159 Augsburg
SUMMARY:3. Liga Gruppe Süd: Clochard Darter Augsburg 4 vs. DJK Lechhausen 
 3 (Bismarck Bistro)
CLASS:PUBLIC
DTSTAMP:20260419T180740Z
END:VEVENT
BEGIN:VEVENT
UID:69e4fdcced4eb
DTSTART:20211005T180000Z
SEQUENCE:0
TRANSP:OPAQUE
LOCATION:Bismarckstraße 7\, 86159 Augsburg
SUMMARY:3. Liga Gruppe Süd: Clochard Darter Augsburg 3 vs. DJK Lechhausen 
 3 (Bismarck Bistro)
CLASS:PUBLIC
DTSTAMP:20260419T180740Z
END:VEVENT
BEGIN:VEVENT
UID:69e4fdcced507
DTSTART:20211005T180000Z
SEQUENCE:0
TRANSP:OPAQUE
LOCATION:Georgenstr. 2\, 86152 Augsburg
SUMMARY:3. Liga Gruppe Süd: Double Trouble Augsburg vs. Flying Darter Unte
 rmeitingen (Oki's)
CLASS:PUBLIC
DTSTAMP:20260419T180740Z
END:VEVENT
BEGIN:VEVENT
UID:69e4fdcced522
DTSTART:20211005T180000Z
SEQUENCE:0
TRANSP:OPAQUE
LOCATION:Keltenstraße 17\, 86845 Großaitingen
SUMMARY:3. Liga Gruppe Süd: Underground Darter Aitingen vs. DC Schwabmünc
 hen (Vereinsraum im UG)
CLASS:PUBLIC
DTSTAMP:20260419T180740Z
END:VEVENT
BEGIN:VEVENT
UID:69e4fdcced53c
DTSTART:20211006T180000Z
SEQUENCE:0
TRANSP:OPAQUE
LOCATION:\,  
SUMMARY:3. Liga Gruppe Süd: Dart'agnans vs. Clochard Darter Augsburg 4 ()
CLASS:PUBLIC
DTSTAMP:20260419T180740Z
END:VEVENT
BEGIN:VEVENT
UID:69e4fdcced760
DTSTART:20211006T180000Z
SEQUENCE:0
TRANSP:OPAQUE
LOCATION:Gersthofer Straße 1\, 86456 Gablingen
SUMMARY:3. Liga Gruppe Süd: SV Gablingen Schmutter Dart Boyz 3 vs. D'Augsc
 hburger 2 (Sportheim SV Gablingen)
CLASS:PUBLIC
DTSTAMP:20260419T180740Z
END:VEVENT
BEGIN:VEVENT
UID:69e4fdcced777
DTSTART:20211025T180000Z
SEQUENCE:0
TRANSP:OPAQUE
LOCATION:Meisenweg 25\, 86156 Augsburg
SUMMARY:3. Liga Gruppe Süd: D'Augschburger 2 vs. Clochard Darter Augsburg 
 3 (Sergio´s)
CLASS:PUBLIC
DTSTAMP:20260419T180740Z
END:VEVENT
BEGIN:VEVENT
UID:69e4fdcced78d
DTSTART:20211026T180000Z
SEQUENCE:0
TRANSP:OPAQUE
LOCATION:Bismarckstraße 7\, 86159 Augsburg
SUMMARY:3. Liga Gruppe Süd: Clochard Darter Augsburg 4 vs. Double Trouble 
 Augsburg (Bismarck Bistro)
CLASS:PUBLIC
DTSTAMP:20260419T180740Z
END:VEVENT
BEGIN:VEVENT
UID:69e4fdcced7a2
DTSTART:20211027T180000Z
SEQUENCE:0
TRANSP:OPAQUE
LOCATION:Hauptstraße 8\, 86853 Langerringen
SUMMARY:3. Liga Gruppe Süd: DC Schwabmünchen vs. SV Gablingen Schmutter D
 art Boyz 3 (Gasthof Deutsches Haus)
CLASS:PUBLIC
DTSTAMP:20260419T180740Z
END:VEVENT
BEGIN:VEVENT
UID:69e4fdcced7b7
DTSTART:20211027T180000Z
SEQUENCE:0
TRANSP:OPAQUE
LOCATION:Derchinger Str. 118 c\, 86165 Augsburg
SUMMARY:3. Liga Gruppe Süd: DJK Lechhausen 3 vs. Dart'agnans (DJK Lechhaus
 en Sporth. Fußball)
CLASS:PUBLIC
DTSTAMP:20260419T180740Z
END:VEVENT
BEGIN:VEVENT
UID:69e4fdcced7cd
DTSTART:20211029T180000Z
SEQUENCE:0
TRANSP:OPAQUE
LOCATION:Herbststraße 9\, 86836 Untermeitingen
SUMMARY:3. Liga Gruppe Süd: Flying Darter Untermeitingen vs. Underground D
 arter Aitingen (Imhofstadl)
CLASS:PUBLIC
DTSTAMP:20260419T180740Z
END:VEVENT
BEGIN:VEVENT
UID:69e4fdcced7e2
DTSTART:20211019T180000Z
SEQUENCE:0
TRANSP:OPAQUE
LOCATION:Keltenstraße 17\, 86845 Großaitingen
SUMMARY:3. Liga Gruppe Süd: Underground Darter Aitingen vs. Clochard Darte
 r Augsburg 4 (Vereinsraum im UG)
CLASS:PUBLIC
DTSTAMP:20260419T180740Z
END:VEVENT
BEGIN:VEVENT
UID:69e4fdcced7f7
DTSTART:20211108T190000Z
SEQUENCE:0
TRANSP:OPAQUE
LOCATION:Meisenweg 25\, 86156 Augsburg
SUMMARY:3. Liga Gruppe Süd: D'Augschburger 2 vs. DC Schwabmünchen (Sergio
 ´s)
CLASS:PUBLIC
DTSTAMP:20260419T180740Z
END:VEVENT
BEGIN:VEVENT
UID:69e4fdcced80c
DTSTART:20211116T190000Z
SEQUENCE:0
TRANSP:OPAQUE
LOCATION:Bismarckstraße 7\, 86159 Augsburg
SUMMARY:3. Liga Gruppe Süd: Clochard Darter Augsburg 3 vs. Dart'agnans (Bi
 smarck Bistro)
CLASS:PUBLIC
DTSTAMP:20260419T180740Z
END:VEVENT
BEGIN:VEVENT
UID:69e4fdcced821
DTSTART:20211117T190000Z
SEQUENCE:0
TRANSP:OPAQUE
LOCATION:Gersthofer Straße 1\, 86456 Gablingen
SUMMARY:3. Liga Gruppe Süd: SV Gablingen Schmutter Dart Boyz 3 vs. Flying 
 Darter Untermeitingen (Sportheim SV Gablingen)
CLASS:PUBLIC
DTSTAMP:20260419T180740Z
END:VEVENT
BEGIN:VEVENT
UID:69e4fdcced835
DTSTART:20211123T190000Z
SEQUENCE:0
TRANSP:OPAQUE
LOCATION:Georgenstr. 2\, 86152 Augsburg
SUMMARY:3. Liga Gruppe Süd: Double Trouble Augsburg vs. DJK Lechhausen 3 (
 Oki's)
CLASS:PUBLIC
DTSTAMP:20260419T180740Z
END:VEVENT
BEGIN:VEVENT
UID:69e4fdcced84a
DTSTART:20220309T190000Z
SEQUENCE:0
TRANSP:OPAQUE
LOCATION:Herbststraße 9\, 86836 Untermeitingen
SUMMARY:3. Liga Gruppe Süd: Flying Darter Untermeitingen vs. D'Augschburge
 r 2 (Imhofstadl)
CLASS:PUBLIC
DTSTAMP:20260419T180740Z
END:VEVENT
BEGIN:VEVENT
UID:69e4fdcced870
DTSTART:20220309T190000Z
SEQUENCE:0
TRANSP:OPAQUE
LOCATION:Hauptstraße 8\, 86853 Langerringen
SUMMARY:3. Liga Gruppe Süd: DC Schwabmünchen vs. Clochard Darter Augsburg
  3 (Gasthof Deutsches Haus)
CLASS:PUBLIC
DTSTAMP:20260419T180740Z
END:VEVENT
BEGIN:VEVENT
UID:69e4fdcced885
DTSTART:20220309T190000Z
SEQUENCE:0
TRANSP:OPAQUE
LOCATION:\,  
SUMMARY:3. Liga Gruppe Süd: Dart'agnans vs. Double Trouble Augsburg ()
CLASS:PUBLIC
DTSTAMP:20260419T180740Z
END:VEVENT
BEGIN:VEVENT
UID:69e4fdccedab9
DTSTART:20220309T190000Z
SEQUENCE:0
TRANSP:OPAQUE
LOCATION:Derchinger Str. 118 c\, 86165 Augsburg
SUMMARY:3. Liga Gruppe Süd: DJK Lechhausen 3 vs. Underground Darter Aiting
 en (DJK Lechhausen Sporth. Fußball)
CLASS:PUBLIC
DTSTAMP:20260419T180740Z
END:VEVENT
BEGIN:VEVENT
UID:69e4fdccedad0
DTSTART:20220412T180000Z
SEQUENCE:0
TRANSP:OPAQUE
LOCATION:Gersthofer Straße 1\, 86456 Gablingen
SUMMARY:3. Liga Gruppe Süd: SV Gablingen Schmutter Dart Boyz 3 vs. Clochar
 d Darter Augsburg 4 (Sportheim SV Gablingen)
CLASS:PUBLIC
DTSTAMP:20260419T180740Z
END:VEVENT
BEGIN:VEVENT
UID:69e4fdccedae6
DTSTART:20220314T190000Z
SEQUENCE:0
TRANSP:OPAQUE
LOCATION:Keltenstraße 17\, 86845 Großaitingen
SUMMARY:3. Liga Gruppe Süd: Underground Darter Aitingen vs. Dart'agnans (V
 ereinsraum im UG)
CLASS:PUBLIC
DTSTAMP:20260419T180740Z
END:VEVENT
BEGIN:VEVENT
UID:69e4fdccedafb
DTSTART:20220314T190000Z
SEQUENCE:0
TRANSP:OPAQUE
LOCATION:Meisenweg 25\, 86156 Augsburg
SUMMARY:3. Liga Gruppe Süd: D'Augschburger 2 vs. Clochard Darter Augsburg 
 4 (Sergio´s)
CLASS:PUBLIC
DTSTAMP:20260419T180740Z
END:VEVENT
BEGIN:VEVENT
UID:69e4fdccedb10
DTSTART:20220315T190000Z
SEQUENCE:0
TRANSP:OPAQUE
LOCATION:Bismarckstraße 7\, 86159 Augsburg
SUMMARY:3. Liga Gruppe Süd: Clochard Darter Augsburg 3 vs. Double Trouble 
 Augsburg (Bismarck Bistro)
CLASS:PUBLIC
DTSTAMP:20260419T180740Z
END:VEVENT
BEGIN:VEVENT
UID:69e4fdccedb25
DTSTART:20220316T190000Z
SEQUENCE:0
TRANSP:OPAQUE
LOCATION:Hauptstraße 8\, 86853 Langerringen
SUMMARY:3. Liga Gruppe Süd: DC Schwabmünchen vs. Flying Darter Untermeiti
 ngen (Gasthof Deutsches Haus)
CLASS:PUBLIC
DTSTAMP:20260419T180740Z
END:VEVENT
BEGIN:VEVENT
UID:69e4fdccedb39
DTSTART:20220316T190000Z
SEQUENCE:0
TRANSP:OPAQUE
LOCATION:Gersthofer Straße 1\, 86456 Gablingen
SUMMARY:3. Liga Gruppe Süd: SV Gablingen Schmutter Dart Boyz 3 vs. DJK Lec
 hhausen 3 (Sportheim SV Gablingen)
CLASS:PUBLIC
DTSTAMP:20260419T180740Z
END:VEVENT
BEGIN:VEVENT
UID:69e4fdccedb4e
DTSTART:20220323T190000Z
SEQUENCE:0
TRANSP:OPAQUE
LOCATION:\,  
SUMMARY:3. Liga Gruppe Süd: Dart'agnans vs. SV Gablingen Schmutter Dart Bo
 yz 3 ()
CLASS:PUBLIC
DTSTAMP:20260419T180740Z
END:VEVENT
BEGIN:VEVENT
UID:69e4fdccedcc9
DTSTART:20220323T190000Z
SEQUENCE:0
TRANSP:OPAQUE
LOCATION:Derchinger Str. 118 c\, 86165 Augsburg
SUMMARY:3. Liga Gruppe Süd: DJK Lechhausen 3 vs. D'Augschburger 2 (DJK Lec
 hhausen Sporth. Fußball)
CLASS:PUBLIC
DTSTAMP:20260419T180740Z
END:VEVENT
BEGIN:VEVENT
UID:69e4fdccedce0
DTSTART:20220323T190000Z
SEQUENCE:0
TRANSP:OPAQUE
LOCATION:Hauptstraße 8\, 86853 Langerringen
SUMMARY:3. Liga Gruppe Süd: DC Schwabmünchen vs. Clochard Darter Augsburg
  4 (Gasthof Deutsches Haus)
CLASS:PUBLIC
DTSTAMP:20260419T180740Z
END:VEVENT
BEGIN:VEVENT
UID:69e4fdccedcf5
DTSTART:20220324T190000Z
SEQUENCE:0
TRANSP:OPAQUE
LOCATION:Bismarckstraße 7\, 86159 Augsburg
SUMMARY:3. Liga Gruppe Süd: Clochard Darter Augsburg 3 vs. Flying Darter U
 ntermeitingen (Bismarck Bistro)
CLASS:PUBLIC
DTSTAMP:20260419T180740Z
END:VEVENT
BEGIN:VEVENT
UID:69e4fdccedd0a
DTSTART:20220329T180000Z
SEQUENCE:0
TRANSP:OPAQUE
LOCATION:Georgenstr. 2\, 86152 Augsburg
SUMMARY:3. Liga Gruppe Süd: Double Trouble Augsburg vs. Underground Darter
  Aitingen (Oki's)
CLASS:PUBLIC
DTSTAMP:20260419T180740Z
END:VEVENT
BEGIN:VEVENT
UID:69e4fdccedd1f
DTSTART:20220404T180000Z
SEQUENCE:0
TRANSP:OPAQUE
LOCATION:Meisenweg 25\, 86156 Augsburg
SUMMARY:3. Liga Gruppe Süd: D'Augschburger 2 vs. Dart'agnans (Sergio´s)
CLASS:PUBLIC
DTSTAMP:20260419T180740Z
END:VEVENT
BEGIN:VEVENT
UID:69e4fdccedd33
DTSTART:20220406T180000Z
SEQUENCE:0
TRANSP:OPAQUE
LOCATION:Hauptstraße 8\, 86853 Langerringen
SUMMARY:3. Liga Gruppe Süd: DC Schwabmünchen vs. DJK Lechhausen 3 (Gastho
 f Deutsches Haus)
CLASS:PUBLIC
DTSTAMP:20260419T180740Z
END:VEVENT
BEGIN:VEVENT
UID:69e4fdccedd48
DTSTART:20220406T180000Z
SEQUENCE:0
TRANSP:OPAQUE
LOCATION:Gersthofer Straße 1\, 86456 Gablingen
SUMMARY:3. Liga Gruppe Süd: SV Gablingen Schmutter Dart Boyz 3 vs. Double 
 Trouble Augsburg (Sportheim SV Gablingen)
CLASS:PUBLIC
DTSTAMP:20260419T180740Z
END:VEVENT
BEGIN:VEVENT
UID:69e4fdccedd5d
DTSTART:20220411T180000Z
SEQUENCE:0
TRANSP:OPAQUE
LOCATION:Bismarckstraße 7\, 86159 Augsburg
SUMMARY:3. Liga Gruppe Süd: Clochard Darter Augsburg 4 vs. Flying Darter U
 ntermeitingen (Bismarck Bistro)
CLASS:PUBLIC
DTSTAMP:20260419T180740Z
END:VEVENT
BEGIN:VEVENT
UID:69e4fdccedd72
DTSTART:20220411T180000Z
SEQUENCE:0
TRANSP:OPAQUE
LOCATION:Keltenstraße 17\, 86845 Großaitingen
SUMMARY:3. Liga Gruppe Süd: Underground Darter Aitingen vs. Clochard Darte
 r Augsburg 3 (Vereinsraum im UG)
CLASS:PUBLIC
DTSTAMP:20260419T180740Z
END:VEVENT
BEGIN:VEVENT
UID:69e4fdccedd86
DTSTART:20220425T180000Z
SEQUENCE:0
TRANSP:OPAQUE
LOCATION:Meisenweg 25\, 86156 Augsburg
SUMMARY:3. Liga Gruppe Süd: D'Augschburger 2 vs. Double Trouble Augsburg (
 Sergio´s)
CLASS:PUBLIC
DTSTAMP:20260419T180740Z
END:VEVENT
BEGIN:VEVENT
UID:69e4fdccedd9b
DTSTART:20220426T180000Z
SEQUENCE:0
TRANSP:OPAQUE
LOCATION:Bismarckstraße 7\, 86159 Augsburg
SUMMARY:3. Liga Gruppe Süd: Clochard Darter Augsburg 4 vs. Clochard Darter
  Augsburg 3 (Bismarck Bistro)
CLASS:PUBLIC
DTSTAMP:20260419T180740Z
END:VEVENT
BEGIN:VEVENT
UID:69e4fdcceddb0
DTSTART:20220427T180000Z
SEQUENCE:0
TRANSP:OPAQUE
LOCATION:Hauptstraße 8\, 86853 Langerringen
SUMMARY:3. Liga Gruppe Süd: DC Schwabmünchen vs. Dart'agnans (Gasthof Deu
 tsches Haus)
CLASS:PUBLIC
DTSTAMP:20260419T180740Z
END:VEVENT
BEGIN:VEVENT
UID:69e4fdcceddc4
DTSTART:20220427T180000Z
SEQUENCE:0
TRANSP:OPAQUE
LOCATION:Herbststraße 9\, 86836 Untermeitingen
SUMMARY:3. Liga Gruppe Süd: Flying Darter Untermeitingen vs. DJK Lechhause
 n 3 (Imhofstadl)
CLASS:PUBLIC
DTSTAMP:20260419T180740Z
END:VEVENT
BEGIN:VEVENT
UID:69e4fdcceddd9
DTSTART:20220427T180000Z
SEQUENCE:0
TRANSP:OPAQUE
LOCATION:Gersthofer Straße 1\, 86456 Gablingen
SUMMARY:3. Liga Gruppe Süd: SV Gablingen Schmutter Dart Boyz 3 vs. Undergr
 ound Darter Aitingen (Sportheim SV Gablingen)
CLASS:PUBLIC
DTSTAMP:20260419T180740Z
END:VEVENT
BEGIN:VEVENT
UID:69e4fdccedded
DTSTART:20220502T180000Z
SEQUENCE:0
TRANSP:OPAQUE
LOCATION:Keltenstraße 17\, 86845 Großaitingen
SUMMARY:3. Liga Gruppe Süd: Underground Darter Aitingen vs. D'Augschburger
  2 (Vereinsraum im UG)
CLASS:PUBLIC
DTSTAMP:20260419T180740Z
END:VEVENT
BEGIN:VEVENT
UID:69e4fdccede02
DTSTART:20220503T180000Z
SEQUENCE:0
TRANSP:OPAQUE
LOCATION:Georgenstr. 2\, 86152 Augsburg
SUMMARY:3. Liga Gruppe Süd: Double Trouble Augsburg vs. DC Schwabmünchen 
 (Oki's)
CLASS:PUBLIC
DTSTAMP:20260419T180740Z
END:VEVENT
BEGIN:VEVENT
UID:69e4fdccede16
DTSTART:20220503T180000Z
SEQUENCE:0
TRANSP:OPAQUE
LOCATION:Bismarckstraße 7\, 86159 Augsburg
SUMMARY:3. Liga Gruppe Süd: Clochard Darter Augsburg 3 vs. SV Gablingen Sc
 hmutter Dart Boyz 3 (Bismarck Bistro)
CLASS:PUBLIC
DTSTAMP:20260419T180740Z
END:VEVENT
BEGIN:VEVENT
UID:69e4fdccede2b
DTSTART:20220504T180000Z
SEQUENCE:0
TRANSP:OPAQUE
LOCATION:Derchinger Str. 118 c\, 86165 Augsburg
SUMMARY:3. Liga Gruppe Süd: DJK Lechhausen 3 vs. Clochard Darter Augsburg 
 4 (DJK Lechhausen Sporth. Fußball)
CLASS:PUBLIC
DTSTAMP:20260419T180740Z
END:VEVENT
BEGIN:VEVENT
UID:69e4fdccede40
DTSTART:20220504T180000Z
SEQUENCE:0
TRANSP:OPAQUE
LOCATION:\,  
SUMMARY:3. Liga Gruppe Süd: Dart'agnans vs. Flying Darter Untermeitingen (
 )
CLASS:PUBLIC
DTSTAMP:20260419T180740Z
END:VEVENT
BEGIN:VEVENT
UID:69e4fdccedf66
DTSTART:20220509T180000Z
SEQUENCE:0
TRANSP:OPAQUE
LOCATION:Meisenweg 25\, 86156 Augsburg
SUMMARY:3. Liga Gruppe Süd: D'Augschburger 2 vs. SV Gablingen Schmutter Da
 rt Boyz 3 (Sergio´s)
CLASS:PUBLIC
DTSTAMP:20260419T180740Z
END:VEVENT
BEGIN:VEVENT
UID:69e4fdccedf7d
DTSTART:20220510T180000Z
SEQUENCE:0
TRANSP:OPAQUE
LOCATION:Bismarckstraße 7\, 86159 Augsburg
SUMMARY:3. Liga Gruppe Süd: Clochard Darter Augsburg 4 vs. Dart'agnans (Bi
 smarck Bistro)
CLASS:PUBLIC
DTSTAMP:20260419T180740Z
END:VEVENT
BEGIN:VEVENT
UID:69e4fdccedf93
DTSTART:20220511T180000Z
SEQUENCE:0
TRANSP:OPAQUE
LOCATION:Derchinger Str. 118 c\, 86165 Augsburg
SUMMARY:3. Liga Gruppe Süd: DJK Lechhausen 3 vs. Clochard Darter Augsburg 
 3 (DJK Lechhausen Sporth. Fußball)
CLASS:PUBLIC
DTSTAMP:20260419T180740Z
END:VEVENT
BEGIN:VEVENT
UID:69e4fdccedfa7
DTSTART:20220511T180000Z
SEQUENCE:0
TRANSP:OPAQUE
LOCATION:Herbststraße 9\, 86836 Untermeitingen
SUMMARY:3. Liga Gruppe Süd: Flying Darter Untermeitingen vs. Double Troubl
 e Augsburg (Imhofstadl)
CLASS:PUBLIC
DTSTAMP:20260419T180740Z
END:VEVENT
BEGIN:VEVENT
UID:69e4fdccedfbc
DTSTART:20220511T180000Z
SEQUENCE:0
TRANSP:OPAQUE
LOCATION:Hauptstraße 8\, 86853 Langerringen
SUMMARY:3. Liga Gruppe Süd: DC Schwabmünchen vs. Underground Darter Aitin
 gen (Gasthof Deutsches Haus)
CLASS:PUBLIC
DTSTAMP:20260419T180740Z
END:VEVENT
BEGIN:VEVENT
UID:69e4fdccedfd1
DTSTART:20220517T180000Z
SEQUENCE:0
TRANSP:OPAQUE
LOCATION:Bismarckstraße 7\, 86159 Augsburg
SUMMARY:3. Liga Gruppe Süd: Clochard Darter Augsburg 3 vs. D'Augschburger 
 2 (Bismarck Bistro)
CLASS:PUBLIC
DTSTAMP:20260419T180740Z
END:VEVENT
BEGIN:VEVENT
UID:69e4fdccedfe6
DTSTART:20220523T180000Z
SEQUENCE:0
TRANSP:OPAQUE
LOCATION:Keltenstraße 17\, 86845 Großaitingen
SUMMARY:3. Liga Gruppe Süd: Underground Darter Aitingen vs. Flying Darter 
 Untermeitingen (Vereinsraum im UG)
CLASS:PUBLIC
DTSTAMP:20260419T180740Z
END:VEVENT
BEGIN:VEVENT
UID:69e4fdccedffc
DTSTART:20220524T180000Z
SEQUENCE:0
TRANSP:OPAQUE
LOCATION:Georgenstr. 2\, 86152 Augsburg
SUMMARY:3. Liga Gruppe Süd: Double Trouble Augsburg vs. Clochard Darter Au
 gsburg 4 (Oki's)
CLASS:PUBLIC
DTSTAMP:20260419T180740Z
END:VEVENT
BEGIN:VEVENT
UID:69e4fdccee011
DTSTART:20220525T180000Z
SEQUENCE:0
TRANSP:OPAQUE
LOCATION:Gersthofer Straße 1\, 86456 Gablingen
SUMMARY:3. Liga Gruppe Süd: SV Gablingen Schmutter Dart Boyz 3 vs. DC Schw
 abmünchen (Sportheim SV Gablingen)
CLASS:PUBLIC
DTSTAMP:20260419T180740Z
END:VEVENT
BEGIN:VEVENT
UID:69e4fdccee026
DTSTART:20220525T180000Z
SEQUENCE:0
TRANSP:OPAQUE
LOCATION:\,  
SUMMARY:3. Liga Gruppe Süd: Dart'agnans vs. DJK Lechhausen 3 ()
CLASS:PUBLIC
DTSTAMP:20260419T180740Z
END:VEVENT
BEGIN:VEVENT
UID:69e4fdccee164
DTSTART:20220531T180000Z
SEQUENCE:0
TRANSP:OPAQUE
LOCATION:Bismarckstraße 7\, 86159 Augsburg
SUMMARY:3. Liga Gruppe Süd: Clochard Darter Augsburg 4 vs. Underground Dar
 ter Aitingen (Bismarck Bistro)
CLASS:PUBLIC
DTSTAMP:20260419T180740Z
END:VEVENT
BEGIN:VEVENT
UID:69e4fdccee181
DTSTART:20220601T180000Z
SEQUENCE:0
TRANSP:OPAQUE
LOCATION:\,  
SUMMARY:3. Liga Gruppe Süd: Dart'agnans vs. Clochard Darter Augsburg 3 ()
CLASS:PUBLIC
DTSTAMP:20260419T180740Z
END:VEVENT
BEGIN:VEVENT
UID:69e4fdccee27d
DTSTART:20220601T180000Z
SEQUENCE:0
TRANSP:OPAQUE
LOCATION:Derchinger Str. 118 c\, 86165 Augsburg
SUMMARY:3. Liga Gruppe Süd: DJK Lechhausen 3 vs. Double Trouble Augsburg (
 DJK Lechhausen Sporth. Fußball)
CLASS:PUBLIC
DTSTAMP:20260419T180740Z
END:VEVENT
BEGIN:VEVENT
UID:69e4fdccee299
DTSTART:20220601T180000Z
SEQUENCE:0
TRANSP:OPAQUE
LOCATION:Hauptstraße 8\, 86853 Langerringen
SUMMARY:3. Liga Gruppe Süd: DC Schwabmünchen vs. D'Augschburger 2 (Gastho
 f Deutsches Haus)
CLASS:PUBLIC
DTSTAMP:20260419T180740Z
END:VEVENT
BEGIN:VEVENT
UID:69e4fdccee2b5
DTSTART:20220601T180000Z
SEQUENCE:0
TRANSP:OPAQUE
LOCATION:Herbststraße 9\, 86836 Untermeitingen
SUMMARY:3. Liga Gruppe Süd: Flying Darter Untermeitingen vs. SV Gablingen 
 Schmutter Dart Boyz 3 (Imhofstadl)
CLASS:PUBLIC
DTSTAMP:20260419T180740Z
END:VEVENT
BEGIN:VEVENT
UID:69e4fdccee2cf
DTSTART:20220620T180000Z
SEQUENCE:0
TRANSP:OPAQUE
LOCATION:Meisenweg 25\, 86156 Augsburg
SUMMARY:3. Liga Gruppe Süd: D'Augschburger 2 vs. Flying Darter Untermeitin
 gen (Sergio´s)
CLASS:PUBLIC
DTSTAMP:20260419T180740Z
END:VEVENT
BEGIN:VEVENT
UID:69e4fdccee2e8
DTSTART:20220620T180000Z
SEQUENCE:0
TRANSP:OPAQUE
LOCATION:Bismarckstraße 7\, 86159 Augsburg
SUMMARY:3. Liga Gruppe Süd: Clochard Darter Augsburg 4 vs. SV Gablingen Sc
 hmutter Dart Boyz 3 (Bismarck Bistro)
CLASS:PUBLIC
DTSTAMP:20260419T180740Z
END:VEVENT
BEGIN:VEVENT
UID:69e4fdccee302
DTSTART:20220621T180000Z
SEQUENCE:0
TRANSP:OPAQUE
LOCATION:Bismarckstraße 7\, 86159 Augsburg
SUMMARY:3. Liga Gruppe Süd: Clochard Darter Augsburg 3 vs. DC Schwabmünch
 en (Bismarck Bistro)
CLASS:PUBLIC
DTSTAMP:20260419T180740Z
END:VEVENT
BEGIN:VEVENT
UID:69e4fdccee31c
DTSTART:20220621T180000Z
SEQUENCE:0
TRANSP:OPAQUE
LOCATION:Georgenstr. 2\, 86152 Augsburg
SUMMARY:3. Liga Gruppe Süd: Double Trouble Augsburg vs. Dart'agnans (Oki's
 )
CLASS:PUBLIC
DTSTAMP:20260419T180740Z
END:VEVENT
BEGIN:VEVENT
UID:69e4fdccee335
DTSTART:20220622T180000Z
SEQUENCE:0
TRANSP:OPAQUE
LOCATION:Keltenstraße 17\, 86845 Großaitingen
SUMMARY:3. Liga Gruppe Süd: Underground Darter Aitingen vs. DJK Lechhausen
  3 (Vereinsraum im UG)
CLASS:PUBLIC
DTSTAMP:20260419T180740Z
END:VEVENT
BEGIN:VEVENT
UID:69e4fdccee34f
DTSTART:20220628T180000Z
SEQUENCE:0
TRANSP:OPAQUE
LOCATION:Bismarckstraße 7\, 86159 Augsburg
SUMMARY:3. Liga Gruppe Süd: Clochard Darter Augsburg 4 vs. D'Augschburger 
 2 (Bismarck Bistro)
CLASS:PUBLIC
DTSTAMP:20260419T180740Z
END:VEVENT
BEGIN:VEVENT
UID:69e4fdccee369
DTSTART:20220629T180000Z
SEQUENCE:0
TRANSP:OPAQUE
LOCATION:Herbststraße 9\, 86836 Untermeitingen
SUMMARY:3. Liga Gruppe Süd: Flying Darter Untermeitingen vs. DC Schwabmün
 chen (Imhofstadl)
CLASS:PUBLIC
DTSTAMP:20260419T180740Z
END:VEVENT
BEGIN:VEVENT
UID:69e4fdccee382
DTSTART:20220629T180000Z
SEQUENCE:0
TRANSP:OPAQUE
LOCATION:\,  
SUMMARY:3. Liga Gruppe Süd: Dart'agnans vs. Underground Darter Aitingen ()
CLASS:PUBLIC
DTSTAMP:20260419T180740Z
END:VEVENT
BEGIN:VEVENT
UID:69e4fdccee4bf
DTSTART:20220629T180000Z
SEQUENCE:0
TRANSP:OPAQUE
LOCATION:Derchinger Str. 118 c\, 86165 Augsburg
SUMMARY:3. Liga Gruppe Süd: DJK Lechhausen 3 vs. SV Gablingen Schmutter Da
 rt Boyz 3 (DJK Lechhausen Sporth. Fußball)
CLASS:PUBLIC
DTSTAMP:20260419T180740Z
END:VEVENT
BEGIN:VEVENT
UID:69e4fdccee4db
DTSTART:20220705T180000Z
SEQUENCE:0
TRANSP:OPAQUE
LOCATION:Georgenstr. 2\, 86152 Augsburg
SUMMARY:3. Liga Gruppe Süd: Double Trouble Augsburg vs. Clochard Darter Au
 gsburg 3 (Oki's)
CLASS:PUBLIC
DTSTAMP:20260419T180740Z
END:VEVENT
BEGIN:VEVENT
UID:69e4fdccee4f5
DTSTART:20220704T180000Z
SEQUENCE:0
TRANSP:OPAQUE
LOCATION:Keltenstraße 17\, 86845 Großaitingen
SUMMARY:3. Liga Gruppe Süd: Underground Darter Aitingen vs. Double Trouble
  Augsburg (Vereinsraum im UG)
CLASS:PUBLIC
DTSTAMP:20260419T180740Z
END:VEVENT
BEGIN:VEVENT
UID:69e4fdccee50e
DTSTART:20220704T180000Z
SEQUENCE:0
TRANSP:OPAQUE
LOCATION:Meisenweg 25\, 86156 Augsburg
SUMMARY:3. Liga Gruppe Süd: D'Augschburger 2 vs. DJK Lechhausen 3 (Sergio
 ´s)
CLASS:PUBLIC
DTSTAMP:20260419T180740Z
END:VEVENT
BEGIN:VEVENT
UID:69e4fdccee528
DTSTART:20220705T180000Z
SEQUENCE:0
TRANSP:OPAQUE
LOCATION:Bismarckstraße 7\, 86159 Augsburg
SUMMARY:3. Liga Gruppe Süd: Clochard Darter Augsburg 4 vs. DC Schwabmünch
 en (Bismarck Bistro)
CLASS:PUBLIC
DTSTAMP:20260419T180740Z
END:VEVENT
BEGIN:VEVENT
UID:69e4fdccee541
DTSTART:20220706T180000Z
SEQUENCE:0
TRANSP:OPAQUE
LOCATION:Herbststraße 9\, 86836 Untermeitingen
SUMMARY:3. Liga Gruppe Süd: Flying Darter Untermeitingen vs. Clochard Dart
 er Augsburg 3 (Imhofstadl)
CLASS:PUBLIC
DTSTAMP:20260419T180740Z
END:VEVENT
BEGIN:VEVENT
UID:69e4fdccee55a
DTSTART:20220706T180000Z
SEQUENCE:0
TRANSP:OPAQUE
LOCATION:Gersthofer Straße 1\, 86456 Gablingen
SUMMARY:3. Liga Gruppe Süd: SV Gablingen Schmutter Dart Boyz 3 vs. Dart'ag
 nans (Sportheim SV Gablingen)
CLASS:PUBLIC
DTSTAMP:20260419T180740Z
END:VEVENT
BEGIN:VEVENT
UID:69e4fdccee574
DTSTART:20220713T180000Z
SEQUENCE:0
TRANSP:OPAQUE
LOCATION:Herbststraße 9\, 86836 Untermeitingen
SUMMARY:3. Liga Gruppe Süd: Flying Darter Untermeitingen vs. Clochard Dart
 er Augsburg 4 (Imhofstadl)
CLASS:PUBLIC
DTSTAMP:20260419T180740Z
END:VEVENT
BEGIN:VEVENT
UID:69e4fdccee592
DTSTART:20220713T180000Z
SEQUENCE:0
TRANSP:OPAQUE
LOCATION:Derchinger Str. 118 c\, 86165 Augsburg
SUMMARY:3. Liga Gruppe Süd: DJK Lechhausen 3 vs. DC Schwabmünchen (DJK Le
 chhausen Sporth. Fußball)
CLASS:PUBLIC
DTSTAMP:20260419T180740Z
END:VEVENT
BEGIN:VEVENT
UID:69e4fdccee5ac
DTSTART:20220713T180000Z
SEQUENCE:0
TRANSP:OPAQUE
LOCATION:\,  
SUMMARY:3. Liga Gruppe Süd: Dart'agnans vs. D'Augschburger 2 ()
CLASS:PUBLIC
DTSTAMP:20260419T180740Z
END:VEVENT
BEGIN:VEVENT
UID:69e4fdccee6c7
DTSTART:20220713T180000Z
SEQUENCE:0
TRANSP:OPAQUE
LOCATION:Georgenstr. 2\, 86152 Augsburg
SUMMARY:3. Liga Gruppe Süd: Double Trouble Augsburg vs. SV Gablingen Schmu
 tter Dart Boyz 3 (Oki's)
CLASS:PUBLIC
DTSTAMP:20260419T180740Z
END:VEVENT
BEGIN:VEVENT
UID:69e4fdccee6dd
DTSTART:20220713T180000Z
SEQUENCE:0
TRANSP:OPAQUE
LOCATION:Bismarckstraße 7\, 86159 Augsburg
SUMMARY:3. Liga Gruppe Süd: Clochard Darter Augsburg 3 vs. Underground Dar
 ter Aitingen (Bismarck Bistro)
CLASS:PUBLIC
DTSTAMP:20260419T180740Z
END:VEVENT
END:VCALENDAR