BEGIN:VCALENDAR
VERSION:2.0
PRODID:NSDV - Nordschwäbischer Dartverband e. V.
BEGIN:VEVENT
UID:69e52fa437c29
DTSTART:20210913T180000Z
SEQUENCE:0
TRANSP:OPAQUE
LOCATION:Schlossplatz 2\, 86685 Huisheim OT Gosheim
SUMMARY:3. Liga Gruppe Nord: Firedarters Gosheim 3 vs. SV Wörnitzstein-Ber
 g 2 (Dartstempel Gosheim)
CLASS:PUBLIC
DTSTAMP:20260419T214020Z
END:VEVENT
BEGIN:VEVENT
UID:69e52fa438197
DTSTART:20210915T180000Z
SEQUENCE:0
TRANSP:OPAQUE
LOCATION:Schlossplatz 2\, 86685 Huisheim OT Gosheim
SUMMARY:3. Liga Gruppe Nord: Firedarters Gosheim 4 vs. Firedarters Gosheim 
 5 (Dartstempel Gosheim)
CLASS:PUBLIC
DTSTAMP:20260419T214020Z
END:VEVENT
BEGIN:VEVENT
UID:69e52fa4381ba
DTSTART:20210916T180000Z
SEQUENCE:0
TRANSP:OPAQUE
LOCATION:Wörnitzstraße 4\, 86609 Donauwörth-Wörnitzstein
SUMMARY:3. Liga Gruppe Nord: SV Wörnitzstein-Berg 3 vs. O'Keys Bulls Weiß
 enburg 4 (Sportheim SV Wörnitzstein-Berg)
CLASS:PUBLIC
DTSTAMP:20260419T214020Z
END:VEVENT
BEGIN:VEVENT
UID:69e52fa4382a2
DTSTART:20211011T180000Z
SEQUENCE:0
TRANSP:OPAQUE
LOCATION:Ernst-Graf-von-Moy-Platz 5\, 86704 Tagmersheim
SUMMARY:3. Liga Gruppe Nord: Dart Freunde Tagmersheim vs. DC Laub 2 (Schüt
 zenheim Tagmersheim)
CLASS:PUBLIC
DTSTAMP:20260419T214020Z
END:VEVENT
BEGIN:VEVENT
UID:69e52fa438370
DTSTART:20210922T180000Z
SEQUENCE:0
TRANSP:OPAQUE
LOCATION:Eichholzweg 7\, 86754 Laub
SUMMARY:3. Liga Gruppe Nord: DC Laub 2 vs. Firedarters Gosheim 4 (Sportheim
  Laub)
CLASS:PUBLIC
DTSTAMP:20260419T214020Z
END:VEVENT
BEGIN:VEVENT
UID:69e52fa438452
DTSTART:20210923T180000Z
SEQUENCE:0
TRANSP:OPAQUE
LOCATION:Unterringingen 68 a\, 86657 Bissingen
SUMMARY:3. Liga Gruppe Nord: Knascht Darter Unterringingen vs. Firedarters 
 Gosheim 3 (Jugendtreff Knascht Renge)
CLASS:PUBLIC
DTSTAMP:20260419T214020Z
END:VEVENT
BEGIN:VEVENT
UID:69e52fa43851a
DTSTART:20210923T180000Z
SEQUENCE:0
TRANSP:OPAQUE
LOCATION:Pflastergasse 16\, 91781 Weißenburg
SUMMARY:3. Liga Gruppe Nord: O'Keys Bulls Weißenburg 4 vs. Dart Freunde Ta
 gmersheim (O'Keys)
CLASS:PUBLIC
DTSTAMP:20260419T214020Z
END:VEVENT
BEGIN:VEVENT
UID:69e52fa438603
DTSTART:20211015T180000Z
SEQUENCE:0
TRANSP:OPAQUE
LOCATION:Wörnitzstraße 4\, 86609 Donauwörth-Wörnitzstein
SUMMARY:3. Liga Gruppe Nord: SV Wörnitzstein-Berg 2 vs. SV Wörnitzstein-B
 erg 3 (Sportheim SV Wörnitzstein-Berg)
CLASS:PUBLIC
DTSTAMP:20260419T214020Z
END:VEVENT
BEGIN:VEVENT
UID:69e52fa438620
DTSTART:20211004T180000Z
SEQUENCE:0
TRANSP:OPAQUE
LOCATION:Ernst-Graf-von-Moy-Platz 5\, 86704 Tagmersheim
SUMMARY:3. Liga Gruppe Nord: Dart Freunde Tagmersheim vs. Firedarters Goshe
 im 4 (Schützenheim Tagmersheim)
CLASS:PUBLIC
DTSTAMP:20260419T214020Z
END:VEVENT
BEGIN:VEVENT
UID:69e52fa43863c
DTSTART:20211007T180000Z
SEQUENCE:0
TRANSP:OPAQUE
LOCATION:Pflastergasse 16\, 91781 Weißenburg
SUMMARY:3. Liga Gruppe Nord: O'Keys Bulls Weißenburg 4 vs. SV Wörnitzstei
 n-Berg 2 (O'Keys)
CLASS:PUBLIC
DTSTAMP:20260419T214020Z
END:VEVENT
BEGIN:VEVENT
UID:69e52fa438654
DTSTART:20211008T180000Z
SEQUENCE:0
TRANSP:OPAQUE
LOCATION:Schlossplatz 2\, 86685 Huisheim OT Gosheim
SUMMARY:3. Liga Gruppe Nord: Firedarters Gosheim 3 vs. Firedarters Gosheim 
 5 (Dartstempel Gosheim)
CLASS:PUBLIC
DTSTAMP:20260419T214020Z
END:VEVENT
BEGIN:VEVENT
UID:69e52fa43866b
DTSTART:20211008T180000Z
SEQUENCE:0
TRANSP:OPAQUE
LOCATION:Unterringingen 68 a\, 86657 Bissingen
SUMMARY:3. Liga Gruppe Nord: Knascht Darter Unterringingen vs. SV Wörnitzs
 tein-Berg 3 (Jugendtreff Knascht Renge)
CLASS:PUBLIC
DTSTAMP:20260419T214020Z
END:VEVENT
BEGIN:VEVENT
UID:69e52fa438685
DTSTART:20211026T180000Z
SEQUENCE:0
TRANSP:OPAQUE
LOCATION:Schlossplatz 2\, 86685 Huisheim OT Gosheim
SUMMARY:3. Liga Gruppe Nord: Firedarters Gosheim 5 vs. SV Wörnitzstein-Ber
 g 3 (Dartstempel Gosheim)
CLASS:PUBLIC
DTSTAMP:20260419T214020Z
END:VEVENT
BEGIN:VEVENT
UID:69e52fa43869c
DTSTART:20211027T180000Z
SEQUENCE:0
TRANSP:OPAQUE
LOCATION:Wörnitzstraße 4\, 86609 Donauwörth-Wörnitzstein
SUMMARY:3. Liga Gruppe Nord: SV Wörnitzstein-Berg 2 vs. Dart Freunde Tagme
 rsheim (Sportheim SV Wörnitzstein-Berg)
CLASS:PUBLIC
DTSTAMP:20260419T214020Z
END:VEVENT
BEGIN:VEVENT
UID:69e52fa4386b4
DTSTART:20211027T180000Z
SEQUENCE:0
TRANSP:OPAQUE
LOCATION:Eichholzweg 7\, 86754 Laub
SUMMARY:3. Liga Gruppe Nord: DC Laub 2 vs. Firedarters Gosheim 3 (Sportheim
  Laub)
CLASS:PUBLIC
DTSTAMP:20260419T214020Z
END:VEVENT
BEGIN:VEVENT
UID:69e52fa4386e6
DTSTART:20211028T180000Z
SEQUENCE:0
TRANSP:OPAQUE
LOCATION:Unterringingen 68 a\, 86657 Bissingen
SUMMARY:3. Liga Gruppe Nord: Knascht Darter Unterringingen vs. O'Keys Bulls
  Weißenburg 4 (Jugendtreff Knascht Renge)
CLASS:PUBLIC
DTSTAMP:20260419T214020Z
END:VEVENT
BEGIN:VEVENT
UID:69e52fa438711
DTSTART:20211105T190000Z
SEQUENCE:0
TRANSP:OPAQUE
LOCATION:Schlossplatz 2\, 86685 Huisheim OT Gosheim
SUMMARY:3. Liga Gruppe Nord: Firedarters Gosheim 3 vs. Firedarters Gosheim 
 4 (Dartstempel Gosheim)
CLASS:PUBLIC
DTSTAMP:20260419T214020Z
END:VEVENT
BEGIN:VEVENT
UID:69e52fa43872e
DTSTART:20211118T190000Z
SEQUENCE:0
TRANSP:OPAQUE
LOCATION:Wörnitzstraße 4\, 86609 Donauwörth-Wörnitzstein
SUMMARY:3. Liga Gruppe Nord: SV Wörnitzstein-Berg 3 vs. DC Laub 2 (Sporthe
 im SV Wörnitzstein-Berg)
CLASS:PUBLIC
DTSTAMP:20260419T214020Z
END:VEVENT
BEGIN:VEVENT
UID:69e52fa438747
DTSTART:20211120T190000Z
SEQUENCE:0
TRANSP:OPAQUE
LOCATION:Wörnitzstraße 4\, 86609 Donauwörth-Wörnitzstein
SUMMARY:3. Liga Gruppe Nord: SV Wörnitzstein-Berg 2 vs. Knascht Darter Unt
 erringingen (Sportheim SV Wörnitzstein-Berg)
CLASS:PUBLIC
DTSTAMP:20260419T214020Z
END:VEVENT
BEGIN:VEVENT
UID:69e52fa438760
DTSTART:20220301T190000Z
SEQUENCE:0
TRANSP:OPAQUE
LOCATION:Schlossplatz 2\, 86685 Huisheim OT Gosheim
SUMMARY:3. Liga Gruppe Nord: Firedarters Gosheim 5 vs. O'Keys Bulls Weißen
 burg 4 (Dartstempel Gosheim)
CLASS:PUBLIC
DTSTAMP:20260419T214020Z
END:VEVENT
BEGIN:VEVENT
UID:69e52fa43877d
DTSTART:20220308T190000Z
SEQUENCE:0
TRANSP:OPAQUE
LOCATION:Schlossplatz 2\, 86685 Huisheim OT Gosheim
SUMMARY:3. Liga Gruppe Nord: Firedarters Gosheim 5 vs. SV Wörnitzstein-Ber
 g 2 (Dartstempel Gosheim)
CLASS:PUBLIC
DTSTAMP:20260419T214020Z
END:VEVENT
BEGIN:VEVENT
UID:69e52fa438797
DTSTART:20220309T190000Z
SEQUENCE:0
TRANSP:OPAQUE
LOCATION:Eichholzweg 7\, 86754 Laub
SUMMARY:3. Liga Gruppe Nord: DC Laub 2 vs. O'Keys Bulls Weißenburg 4 (Spor
 theim Laub)
CLASS:PUBLIC
DTSTAMP:20260419T214020Z
END:VEVENT
BEGIN:VEVENT
UID:69e52fa4387b0
DTSTART:20220311T190000Z
SEQUENCE:0
TRANSP:OPAQUE
LOCATION:Schlossplatz 2\, 86685 Huisheim OT Gosheim
SUMMARY:3. Liga Gruppe Nord: Firedarters Gosheim 4 vs. SV Wörnitzstein-Ber
 g 3 (Dartstempel Gosheim)
CLASS:PUBLIC
DTSTAMP:20260419T214020Z
END:VEVENT
BEGIN:VEVENT
UID:69e52fa4387c9
DTSTART:20220326T190000Z
SEQUENCE:0
TRANSP:OPAQUE
LOCATION:Unterringingen 68 a\, 86657 Bissingen
SUMMARY:3. Liga Gruppe Nord: Knascht Darter Unterringingen vs. Dart Freunde
  Tagmersheim (Jugendtreff Knascht Renge)
CLASS:PUBLIC
DTSTAMP:20260419T214020Z
END:VEVENT
BEGIN:VEVENT
UID:69e52fa4387e3
DTSTART:20220314T190000Z
SEQUENCE:0
TRANSP:OPAQUE
LOCATION:Ernst-Graf-von-Moy-Platz 5\, 86704 Tagmersheim
SUMMARY:3. Liga Gruppe Nord: Dart Freunde Tagmersheim vs. Firedarters Goshe
 im 3 (Schützenheim Tagmersheim)
CLASS:PUBLIC
DTSTAMP:20260419T214020Z
END:VEVENT
BEGIN:VEVENT
UID:69e52fa4387fb
DTSTART:20220317T190000Z
SEQUENCE:0
TRANSP:OPAQUE
LOCATION:Unterringingen 68 a\, 86657 Bissingen
SUMMARY:3. Liga Gruppe Nord: Knascht Darter Unterringingen vs. Firedarters 
 Gosheim 5 (Jugendtreff Knascht Renge)
CLASS:PUBLIC
DTSTAMP:20260419T214020Z
END:VEVENT
BEGIN:VEVENT
UID:69e52fa438818
DTSTART:20220329T180000Z
SEQUENCE:0
TRANSP:OPAQUE
LOCATION:Eichholzweg 7\, 86754 Laub
SUMMARY:3. Liga Gruppe Nord: DC Laub 2 vs. SV Wörnitzstein-Berg 2 (Sporthe
 im Laub)
CLASS:PUBLIC
DTSTAMP:20260419T214020Z
END:VEVENT
BEGIN:VEVENT
UID:69e52fa438831
DTSTART:20220329T180000Z
SEQUENCE:0
TRANSP:OPAQUE
LOCATION:Pflastergasse 16\, 91781 Weißenburg
SUMMARY:3. Liga Gruppe Nord: O'Keys Bulls Weißenburg 4 vs. Firedarters Gos
 heim 4 (O'Keys)
CLASS:PUBLIC
DTSTAMP:20260419T214020Z
END:VEVENT
BEGIN:VEVENT
UID:69e52fa43884b
DTSTART:20220321T190000Z
SEQUENCE:0
TRANSP:OPAQUE
LOCATION:Ernst-Graf-von-Moy-Platz 5\, 86704 Tagmersheim
SUMMARY:3. Liga Gruppe Nord: Dart Freunde Tagmersheim vs. Firedarters Goshe
 im 5 (Schützenheim Tagmersheim)
CLASS:PUBLIC
DTSTAMP:20260419T214020Z
END:VEVENT
BEGIN:VEVENT
UID:69e52fa438864
DTSTART:20220321T190000Z
SEQUENCE:0
TRANSP:OPAQUE
LOCATION:Schlossplatz 2\, 86685 Huisheim OT Gosheim
SUMMARY:3. Liga Gruppe Nord: Firedarters Gosheim 3 vs. SV Wörnitzstein-Ber
 g 3 (Dartstempel Gosheim)
CLASS:PUBLIC
DTSTAMP:20260419T214020Z
END:VEVENT
BEGIN:VEVENT
UID:69e52fa438881
DTSTART:20220323T190000Z
SEQUENCE:0
TRANSP:OPAQUE
LOCATION:Schlossplatz 2\, 86685 Huisheim OT Gosheim
SUMMARY:3. Liga Gruppe Nord: Firedarters Gosheim 4 vs. SV Wörnitzstein-Ber
 g 2 (Dartstempel Gosheim)
CLASS:PUBLIC
DTSTAMP:20260419T214020Z
END:VEVENT
BEGIN:VEVENT
UID:69e52fa43889b
DTSTART:20220323T190000Z
SEQUENCE:0
TRANSP:OPAQUE
LOCATION:Eichholzweg 7\, 86754 Laub
SUMMARY:3. Liga Gruppe Nord: DC Laub 2 vs. Knascht Darter Unterringingen (S
 portheim Laub)
CLASS:PUBLIC
DTSTAMP:20260419T214020Z
END:VEVENT
BEGIN:VEVENT
UID:69e52fa4388b3
DTSTART:20220405T180000Z
SEQUENCE:0
TRANSP:OPAQUE
LOCATION:Schlossplatz 2\, 86685 Huisheim OT Gosheim
SUMMARY:3. Liga Gruppe Nord: Firedarters Gosheim 5 vs. DC Laub 2 (Dartstemp
 el Gosheim)
CLASS:PUBLIC
DTSTAMP:20260419T214020Z
END:VEVENT
BEGIN:VEVENT
UID:69e52fa4388d0
DTSTART:20220407T180000Z
SEQUENCE:0
TRANSP:OPAQUE
LOCATION:Schlossplatz 2\, 86685 Huisheim OT Gosheim
SUMMARY:3. Liga Gruppe Nord: Firedarters Gosheim 4 vs. Knascht Darter Unter
 ringingen (Dartstempel Gosheim)
CLASS:PUBLIC
DTSTAMP:20260419T214020Z
END:VEVENT
BEGIN:VEVENT
UID:69e52fa4388e9
DTSTART:20220407T180000Z
SEQUENCE:0
TRANSP:OPAQUE
LOCATION:Wörnitzstraße 4\, 86609 Donauwörth-Wörnitzstein
SUMMARY:3. Liga Gruppe Nord: SV Wörnitzstein-Berg 3 vs. Dart Freunde Tagme
 rsheim (Sportheim SV Wörnitzstein-Berg)
CLASS:PUBLIC
DTSTAMP:20260419T214020Z
END:VEVENT
BEGIN:VEVENT
UID:69e52fa438902
DTSTART:20220408T180000Z
SEQUENCE:0
TRANSP:OPAQUE
LOCATION:Pflastergasse 16\, 91781 Weißenburg
SUMMARY:3. Liga Gruppe Nord: O'Keys Bulls Weißenburg 4 vs. Firedarters Gos
 heim 3 (O'Keys)
CLASS:PUBLIC
DTSTAMP:20260419T214020Z
END:VEVENT
BEGIN:VEVENT
UID:69e52fa43891b
DTSTART:20220421T180000Z
SEQUENCE:0
TRANSP:OPAQUE
LOCATION:Pflastergasse 16\, 91781 Weißenburg
SUMMARY:3. Liga Gruppe Nord: O'Keys Bulls Weißenburg 4 vs. SV Wörnitzstei
 n-Berg 3 (O'Keys)
CLASS:PUBLIC
DTSTAMP:20260419T214020Z
END:VEVENT
BEGIN:VEVENT
UID:69e52fa438934
DTSTART:20220426T180000Z
SEQUENCE:0
TRANSP:OPAQUE
LOCATION:Schlossplatz 2\, 86685 Huisheim OT Gosheim
SUMMARY:3. Liga Gruppe Nord: Firedarters Gosheim 5 vs. Firedarters Gosheim 
 4 (Dartstempel Gosheim)
CLASS:PUBLIC
DTSTAMP:20260419T214020Z
END:VEVENT
BEGIN:VEVENT
UID:69e52fa43894d
DTSTART:20220427T180000Z
SEQUENCE:0
TRANSP:OPAQUE
LOCATION:Eichholzweg 7\, 86754 Laub
SUMMARY:3. Liga Gruppe Nord: DC Laub 2 vs. Dart Freunde Tagmersheim (Sporth
 eim Laub)
CLASS:PUBLIC
DTSTAMP:20260419T214020Z
END:VEVENT
BEGIN:VEVENT
UID:69e52fa438966
DTSTART:20220427T180000Z
SEQUENCE:0
TRANSP:OPAQUE
LOCATION:Wörnitzstraße 4\, 86609 Donauwörth-Wörnitzstein
SUMMARY:3. Liga Gruppe Nord: SV Wörnitzstein-Berg 2 vs. Firedarters Goshei
 m 3 (Sportheim SV Wörnitzstein-Berg)
CLASS:PUBLIC
DTSTAMP:20260419T214020Z
END:VEVENT
BEGIN:VEVENT
UID:69e52fa438986
DTSTART:20220502T180000Z
SEQUENCE:0
TRANSP:OPAQUE
LOCATION:Ernst-Graf-von-Moy-Platz 5\, 86704 Tagmersheim
SUMMARY:3. Liga Gruppe Nord: Dart Freunde Tagmersheim vs. O'Keys Bulls Wei
 ßenburg 4 (Schützenheim Tagmersheim)
CLASS:PUBLIC
DTSTAMP:20260419T214020Z
END:VEVENT
BEGIN:VEVENT
UID:69e52fa43899f
DTSTART:20220506T180000Z
SEQUENCE:0
TRANSP:OPAQUE
LOCATION:Schlossplatz 2\, 86685 Huisheim OT Gosheim
SUMMARY:3. Liga Gruppe Nord: Firedarters Gosheim 4 vs. DC Laub 2 (Dartstemp
 el Gosheim)
CLASS:PUBLIC
DTSTAMP:20260419T214020Z
END:VEVENT
BEGIN:VEVENT
UID:69e52fa4389b8
DTSTART:20220506T180000Z
SEQUENCE:0
TRANSP:OPAQUE
LOCATION:Wörnitzstraße 4\, 86609 Donauwörth-Wörnitzstein
SUMMARY:3. Liga Gruppe Nord: SV Wörnitzstein-Berg 3 vs. SV Wörnitzstein-B
 erg 2 (Sportheim SV Wörnitzstein-Berg)
CLASS:PUBLIC
DTSTAMP:20260419T214020Z
END:VEVENT
BEGIN:VEVENT
UID:69e52fa4389d1
DTSTART:20220520T180000Z
SEQUENCE:0
TRANSP:OPAQUE
LOCATION:Schlossplatz 2\, 86685 Huisheim OT Gosheim
SUMMARY:3. Liga Gruppe Nord: Firedarters Gosheim 3 vs. Knascht Darter Unter
 ringingen (Dartstempel Gosheim)
CLASS:PUBLIC
DTSTAMP:20260419T214020Z
END:VEVENT
BEGIN:VEVENT
UID:69e52fa4389ea
DTSTART:20220510T180000Z
SEQUENCE:0
TRANSP:OPAQUE
LOCATION:Schlossplatz 2\, 86685 Huisheim OT Gosheim
SUMMARY:3. Liga Gruppe Nord: Firedarters Gosheim 5 vs. Firedarters Gosheim 
 3 (Dartstempel Gosheim)
CLASS:PUBLIC
DTSTAMP:20260419T214020Z
END:VEVENT
BEGIN:VEVENT
UID:69e52fa438a03
DTSTART:20220511T180000Z
SEQUENCE:0
TRANSP:OPAQUE
LOCATION:Schlossplatz 2\, 86685 Huisheim OT Gosheim
SUMMARY:3. Liga Gruppe Nord: Firedarters Gosheim 4 vs. Dart Freunde Tagmers
 heim (Dartstempel Gosheim)
CLASS:PUBLIC
DTSTAMP:20260419T214020Z
END:VEVENT
BEGIN:VEVENT
UID:69e52fa438a20
DTSTART:20220511T180000Z
SEQUENCE:0
TRANSP:OPAQUE
LOCATION:Wörnitzstraße 4\, 86609 Donauwörth-Wörnitzstein
SUMMARY:3. Liga Gruppe Nord: SV Wörnitzstein-Berg 2 vs. O'Keys Bulls Weiß
 enburg 4 (Sportheim SV Wörnitzstein-Berg)
CLASS:PUBLIC
DTSTAMP:20260419T214020Z
END:VEVENT
BEGIN:VEVENT
UID:69e52fa438a39
DTSTART:20220514T180000Z
SEQUENCE:0
TRANSP:OPAQUE
LOCATION:Wörnitzstraße 4\, 86609 Donauwörth-Wörnitzstein
SUMMARY:3. Liga Gruppe Nord: SV Wörnitzstein-Berg 3 vs. Knascht Darter Unt
 erringingen (Sportheim SV Wörnitzstein-Berg)
CLASS:PUBLIC
DTSTAMP:20260419T214020Z
END:VEVENT
BEGIN:VEVENT
UID:69e52fa438a52
DTSTART:20220519T180000Z
SEQUENCE:0
TRANSP:OPAQUE
LOCATION:Pflastergasse 16\, 91781 Weißenburg
SUMMARY:3. Liga Gruppe Nord: O'Keys Bulls Weißenburg 4 vs. Knascht Darter 
 Unterringingen (O'Keys)
CLASS:PUBLIC
DTSTAMP:20260419T214020Z
END:VEVENT
BEGIN:VEVENT
UID:69e52fa438a6b
DTSTART:20220523T180000Z
SEQUENCE:0
TRANSP:OPAQUE
LOCATION:Ernst-Graf-von-Moy-Platz 5\, 86704 Tagmersheim
SUMMARY:3. Liga Gruppe Nord: Dart Freunde Tagmersheim vs. SV Wörnitzstein-
 Berg 2 (Schützenheim Tagmersheim)
CLASS:PUBLIC
DTSTAMP:20260419T214020Z
END:VEVENT
BEGIN:VEVENT
UID:69e52fa438a88
DTSTART:20220525T180000Z
SEQUENCE:0
TRANSP:OPAQUE
LOCATION:Schlossplatz 2\, 86685 Huisheim OT Gosheim
SUMMARY:3. Liga Gruppe Nord: Firedarters Gosheim 3 vs. DC Laub 2 (Dartstemp
 el Gosheim)
CLASS:PUBLIC
DTSTAMP:20260419T214020Z
END:VEVENT
BEGIN:VEVENT
UID:69e52fa438aa0
DTSTART:20220525T180000Z
SEQUENCE:0
TRANSP:OPAQUE
LOCATION:Wörnitzstraße 4\, 86609 Donauwörth-Wörnitzstein
SUMMARY:3. Liga Gruppe Nord: SV Wörnitzstein-Berg 3 vs. Firedarters Goshei
 m 5 (Sportheim SV Wörnitzstein-Berg)
CLASS:PUBLIC
DTSTAMP:20260419T214020Z
END:VEVENT
BEGIN:VEVENT
UID:69e52fa438abd
DTSTART:20220601T180000Z
SEQUENCE:0
TRANSP:OPAQUE
LOCATION:Eichholzweg 7\, 86754 Laub
SUMMARY:3. Liga Gruppe Nord: DC Laub 2 vs. SV Wörnitzstein-Berg 3 (Sporthe
 im Laub)
CLASS:PUBLIC
DTSTAMP:20260419T214020Z
END:VEVENT
BEGIN:VEVENT
UID:69e52fa438ad6
DTSTART:20220602T180000Z
SEQUENCE:0
TRANSP:OPAQUE
LOCATION:Unterringingen 68 a\, 86657 Bissingen
SUMMARY:3. Liga Gruppe Nord: Knascht Darter Unterringingen vs. SV Wörnitzs
 tein-Berg 2 (Jugendtreff Knascht Renge)
CLASS:PUBLIC
DTSTAMP:20260419T214020Z
END:VEVENT
BEGIN:VEVENT
UID:69e52fa438aee
DTSTART:20220602T180000Z
SEQUENCE:0
TRANSP:OPAQUE
LOCATION:Pflastergasse 16\, 91781 Weißenburg
SUMMARY:3. Liga Gruppe Nord: O'Keys Bulls Weißenburg 4 vs. Firedarters Gos
 heim 5 (O'Keys)
CLASS:PUBLIC
DTSTAMP:20260419T214020Z
END:VEVENT
BEGIN:VEVENT
UID:69e52fa438b07
DTSTART:20220603T180000Z
SEQUENCE:0
TRANSP:OPAQUE
LOCATION:Schlossplatz 2\, 86685 Huisheim OT Gosheim
SUMMARY:3. Liga Gruppe Nord: Firedarters Gosheim 4 vs. Firedarters Gosheim 
 3 (Dartstempel Gosheim)
CLASS:PUBLIC
DTSTAMP:20260419T214020Z
END:VEVENT
BEGIN:VEVENT
UID:69e52fa438b21
DTSTART:20220620T180000Z
SEQUENCE:0
TRANSP:OPAQUE
LOCATION:Ernst-Graf-von-Moy-Platz 5\, 86704 Tagmersheim
SUMMARY:3. Liga Gruppe Nord: Dart Freunde Tagmersheim vs. Knascht Darter Un
 terringingen (Schützenheim Tagmersheim)
CLASS:PUBLIC
DTSTAMP:20260419T214020Z
END:VEVENT
BEGIN:VEVENT
UID:69e52fa438b3d
DTSTART:20220622T180000Z
SEQUENCE:0
TRANSP:OPAQUE
LOCATION:Wörnitzstraße 4\, 86609 Donauwörth-Wörnitzstein
SUMMARY:3. Liga Gruppe Nord: SV Wörnitzstein-Berg 2 vs. Firedarters Goshei
 m 5 (Sportheim SV Wörnitzstein-Berg)
CLASS:PUBLIC
DTSTAMP:20260419T214020Z
END:VEVENT
BEGIN:VEVENT
UID:69e52fa438b56
DTSTART:20220623T180000Z
SEQUENCE:0
TRANSP:OPAQUE
LOCATION:Wörnitzstraße 4\, 86609 Donauwörth-Wörnitzstein
SUMMARY:3. Liga Gruppe Nord: SV Wörnitzstein-Berg 3 vs. Firedarters Goshei
 m 4 (Sportheim SV Wörnitzstein-Berg)
CLASS:PUBLIC
DTSTAMP:20260419T214020Z
END:VEVENT
BEGIN:VEVENT
UID:69e52fa438b70
DTSTART:20220630T180000Z
SEQUENCE:0
TRANSP:OPAQUE
LOCATION:Pflastergasse 16\, 91781 Weißenburg
SUMMARY:3. Liga Gruppe Nord: O'Keys Bulls Weißenburg 4 vs. DC Laub 2 (O'Ke
 ys)
CLASS:PUBLIC
DTSTAMP:20260419T214020Z
END:VEVENT
BEGIN:VEVENT
UID:69e52fa438b89
DTSTART:20220627T180000Z
SEQUENCE:0
TRANSP:OPAQUE
LOCATION:Schlossplatz 2\, 86685 Huisheim OT Gosheim
SUMMARY:3. Liga Gruppe Nord: Firedarters Gosheim 3 vs. Dart Freunde Tagmers
 heim (Dartstempel Gosheim)
CLASS:PUBLIC
DTSTAMP:20260419T214020Z
END:VEVENT
BEGIN:VEVENT
UID:69e52fa438ba5
DTSTART:20220628T180000Z
SEQUENCE:0
TRANSP:OPAQUE
LOCATION:Schlossplatz 2\, 86685 Huisheim OT Gosheim
SUMMARY:3. Liga Gruppe Nord: Firedarters Gosheim 5 vs. Knascht Darter Unter
 ringingen (Dartstempel Gosheim)
CLASS:PUBLIC
DTSTAMP:20260419T214020Z
END:VEVENT
BEGIN:VEVENT
UID:69e52fa438bc0
DTSTART:20220629T180000Z
SEQUENCE:0
TRANSP:OPAQUE
LOCATION:Wörnitzstraße 4\, 86609 Donauwörth-Wörnitzstein
SUMMARY:3. Liga Gruppe Nord: SV Wörnitzstein-Berg 2 vs. DC Laub 2 (Sporthe
 im SV Wörnitzstein-Berg)
CLASS:PUBLIC
DTSTAMP:20260419T214020Z
END:VEVENT
BEGIN:VEVENT
UID:69e52fa438bd9
DTSTART:20220629T180000Z
SEQUENCE:0
TRANSP:OPAQUE
LOCATION:Schlossplatz 2\, 86685 Huisheim OT Gosheim
SUMMARY:3. Liga Gruppe Nord: Firedarters Gosheim 4 vs. O'Keys Bulls Weißen
 burg 4 (Dartstempel Gosheim)
CLASS:PUBLIC
DTSTAMP:20260419T214020Z
END:VEVENT
BEGIN:VEVENT
UID:69e52fa438bff
DTSTART:20220706T180000Z
SEQUENCE:0
TRANSP:OPAQUE
LOCATION:Wörnitzstraße 4\, 86609 Donauwörth-Wörnitzstein
SUMMARY:3. Liga Gruppe Nord: SV Wörnitzstein-Berg 3 vs. Firedarters Goshei
 m 3 (Sportheim SV Wörnitzstein-Berg)
CLASS:PUBLIC
DTSTAMP:20260419T214020Z
END:VEVENT
BEGIN:VEVENT
UID:69e52fa438c19
DTSTART:20220707T180000Z
SEQUENCE:0
TRANSP:OPAQUE
LOCATION:Wörnitzstraße 4\, 86609 Donauwörth-Wörnitzstein
SUMMARY:3. Liga Gruppe Nord: SV Wörnitzstein-Berg 2 vs. Firedarters Goshei
 m 4 (Sportheim SV Wörnitzstein-Berg)
CLASS:PUBLIC
DTSTAMP:20260419T214020Z
END:VEVENT
BEGIN:VEVENT
UID:69e52fa438c2f
DTSTART:20220707T180000Z
SEQUENCE:0
TRANSP:OPAQUE
LOCATION:Unterringingen 68 a\, 86657 Bissingen
SUMMARY:3. Liga Gruppe Nord: Knascht Darter Unterringingen vs. DC Laub 2 (J
 ugendtreff Knascht Renge)
CLASS:PUBLIC
DTSTAMP:20260419T214020Z
END:VEVENT
BEGIN:VEVENT
UID:69e52fa438c46
DTSTART:20220708T180000Z
SEQUENCE:0
TRANSP:OPAQUE
LOCATION:Schlossplatz 2\, 86685 Huisheim OT Gosheim
SUMMARY:3. Liga Gruppe Nord: Firedarters Gosheim 5 vs. Dart Freunde Tagmers
 heim (Dartstempel Gosheim)
CLASS:PUBLIC
DTSTAMP:20260419T214020Z
END:VEVENT
BEGIN:VEVENT
UID:69e52fa438c5d
DTSTART:20220711T180000Z
SEQUENCE:0
TRANSP:OPAQUE
LOCATION:Eichholzweg 7\, 86754 Laub
SUMMARY:3. Liga Gruppe Nord: DC Laub 2 vs. Firedarters Gosheim 5 (Sportheim
  Laub)
CLASS:PUBLIC
DTSTAMP:20260419T214020Z
END:VEVENT
BEGIN:VEVENT
UID:69e52fa438c73
DTSTART:20220711T180000Z
SEQUENCE:0
TRANSP:OPAQUE
LOCATION:Unterringingen 68 a\, 86657 Bissingen
SUMMARY:3. Liga Gruppe Nord: Knascht Darter Unterringingen vs. Firedarters 
 Gosheim 4 (Jugendtreff Knascht Renge)
CLASS:PUBLIC
DTSTAMP:20260419T214020Z
END:VEVENT
BEGIN:VEVENT
UID:69e52fa438c95
DTSTART:20220711T180000Z
SEQUENCE:0
TRANSP:OPAQUE
LOCATION:Schlossplatz 2\, 86685 Huisheim OT Gosheim
SUMMARY:3. Liga Gruppe Nord: Firedarters Gosheim 3 vs. O'Keys Bulls Weißen
 burg 4 (Dartstempel Gosheim)
CLASS:PUBLIC
DTSTAMP:20260419T214020Z
END:VEVENT
BEGIN:VEVENT
UID:69e52fa438cac
DTSTART:20220711T180000Z
SEQUENCE:0
TRANSP:OPAQUE
LOCATION:Ernst-Graf-von-Moy-Platz 5\, 86704 Tagmersheim
SUMMARY:3. Liga Gruppe Nord: Dart Freunde Tagmersheim vs. SV Wörnitzstein-
 Berg 3 (Schützenheim Tagmersheim)
CLASS:PUBLIC
DTSTAMP:20260419T214020Z
END:VEVENT
END:VCALENDAR