BEGIN:VCALENDAR
VERSION:2.0
PRODID:NSDV - Nordschwäbischer Dartverband e. V.
BEGIN:VEVENT
UID:69e519e96f10e
DTSTART:20190909T180000Z
SEQUENCE:0
TRANSP:OPAQUE
LOCATION:Derchinger Str. 118 c\, 86165 Augsburg
SUMMARY:1.Liga: DJK Lechhausen 2 vs. SV Steingriff 1 (DJK Lechhausen Sporth
 . Fußball)
CLASS:PUBLIC
DTSTAMP:20260419T200737Z
END:VEVENT
BEGIN:VEVENT
UID:69e519e96f9fa
DTSTART:20190910T180000Z
SEQUENCE:0
TRANSP:OPAQUE
LOCATION:Am Sportplatz 3\, 86707 Kühlenthal
SUMMARY:1.Liga: Steeldarter Kühlenthal 1 vs. Steeldarter Bissingen 1 (Madh
 ouse)
CLASS:PUBLIC
DTSTAMP:20260419T200737Z
END:VEVENT
BEGIN:VEVENT
UID:69e519e96fb53
DTSTART:20190910T180000Z
SEQUENCE:0
TRANSP:OPAQUE
LOCATION:\,  
SUMMARY:1.Liga: D'Augschburger 1 vs. Dscheina Darter Donauwörth 1 ()
CLASS:PUBLIC
DTSTAMP:20260419T200737Z
END:VEVENT
BEGIN:VEVENT
UID:69e519e96fc60
DTSTART:20190911T180000Z
SEQUENCE:0
TRANSP:OPAQUE
LOCATION:Schlossplatz 2\, 86685 Huisheim OT Gosheim
SUMMARY:1.Liga: Firedarters Gosheim 1 vs. Clochard Darter Augsburg 2 (Darts
 tempel Gosheim)
CLASS:PUBLIC
DTSTAMP:20260419T200737Z
END:VEVENT
BEGIN:VEVENT
UID:69e519e96fd6f
DTSTART:20190911T180000Z
SEQUENCE:0
TRANSP:OPAQUE
LOCATION:Derchinger Str. 118 c\, 86165 Augsburg
SUMMARY:1.Liga: DJK Lechhausen 1 vs. O'Keys Bulls Weißenburg 2 (DJK Lechha
 usen Sporth. Fußball)
CLASS:PUBLIC
DTSTAMP:20260419T200737Z
END:VEVENT
BEGIN:VEVENT
UID:69e519e96fd8b
DTSTART:20190923T180000Z
SEQUENCE:0
TRANSP:OPAQUE
LOCATION:Bismarckstraße 7\, 86159 Augsburg
SUMMARY:1.Liga: Clochard Darter Augsburg 2 vs. DJK Lechhausen 1 (Bismarck B
 istro)
CLASS:PUBLIC
DTSTAMP:20260419T200737Z
END:VEVENT
BEGIN:VEVENT
UID:69e519e96fe8f
DTSTART:20190924T180000Z
SEQUENCE:0
TRANSP:OPAQUE
LOCATION:Pflastergasse 16\, 91781 Weißenburg
SUMMARY:1.Liga: O'Keys Bulls Weißenburg 2 vs. DJK Lechhausen 2 (O'Keys)
CLASS:PUBLIC
DTSTAMP:20260419T200737Z
END:VEVENT
BEGIN:VEVENT
UID:69e519e96ffad
DTSTART:20190925T180000Z
SEQUENCE:0
TRANSP:OPAQUE
LOCATION:Auenweg 7\, 86698 Eggelstetten / Oberndorf am Lech
SUMMARY:1.Liga: Dscheina Darter Donauwörth 1 vs. Firedarters Gosheim 1 (Ve
 reinsheim SV Eggelstetten)
CLASS:PUBLIC
DTSTAMP:20260419T200737Z
END:VEVENT
BEGIN:VEVENT
UID:69e519e9700d8
DTSTART:20190925T180000Z
SEQUENCE:0
TRANSP:OPAQUE
LOCATION:Sportweg 6\, 86529 Schrobenhausen
SUMMARY:1.Liga: SV Steingriff 1 vs. Steeldarter Kühlenthal 1 (Sportgastst
 ätte Liberty)
CLASS:PUBLIC
DTSTAMP:20260419T200737Z
END:VEVENT
BEGIN:VEVENT
UID:69e519e9701fa
DTSTART:20191001T180000Z
SEQUENCE:0
TRANSP:OPAQUE
LOCATION:Erzbischof Schreiber Weg 12\, 86657 Bissingen
SUMMARY:1.Liga: Steeldarter Bissingen 1 vs. D'Augschburger 1 (Sportheim Bis
 singen)
CLASS:PUBLIC
DTSTAMP:20260419T200737Z
END:VEVENT
BEGIN:VEVENT
UID:69e519e97031c
DTSTART:20191008T180000Z
SEQUENCE:0
TRANSP:OPAQUE
LOCATION:Am Sportplatz 3\, 86707 Kühlenthal
SUMMARY:1.Liga: Steeldarter Kühlenthal 1 vs. O'Keys Bulls Weißenburg 2 (M
 adhouse)
CLASS:PUBLIC
DTSTAMP:20260419T200737Z
END:VEVENT
BEGIN:VEVENT
UID:69e519e970339
DTSTART:20191008T180000Z
SEQUENCE:0
TRANSP:OPAQUE
LOCATION:\,  
SUMMARY:1.Liga: D'Augschburger 1 vs. SV Steingriff 1 ()
CLASS:PUBLIC
DTSTAMP:20260419T200737Z
END:VEVENT
BEGIN:VEVENT
UID:69e519e970447
DTSTART:20191009T180000Z
SEQUENCE:0
TRANSP:OPAQUE
LOCATION:Derchinger Str. 118 c\, 86165 Augsburg
SUMMARY:1.Liga: DJK Lechhausen 1 vs. DJK Lechhausen 2 (DJK Lechhausen Sport
 h. Fußball)
CLASS:PUBLIC
DTSTAMP:20260419T200737Z
END:VEVENT
BEGIN:VEVENT
UID:69e519e970463
DTSTART:20191012T180000Z
SEQUENCE:0
TRANSP:OPAQUE
LOCATION:Erzbischof Schreiber Weg 12\, 86657 Bissingen
SUMMARY:1.Liga: Steeldarter Bissingen 1 vs. Firedarters Gosheim 1 (Sporthei
 m Bissingen)
CLASS:PUBLIC
DTSTAMP:20260419T200737Z
END:VEVENT
BEGIN:VEVENT
UID:69e519e97047d
DTSTART:20191014T180000Z
SEQUENCE:0
TRANSP:OPAQUE
LOCATION:Bismarckstraße 7\, 86159 Augsburg
SUMMARY:1.Liga: Clochard Darter Augsburg 2 vs. Dscheina Darter Donauwörth 
 1 (Bismarck Bistro)
CLASS:PUBLIC
DTSTAMP:20260419T200737Z
END:VEVENT
BEGIN:VEVENT
UID:69e519e97049a
DTSTART:20191021T180000Z
SEQUENCE:0
TRANSP:OPAQUE
LOCATION:Derchinger Str. 118 c\, 86165 Augsburg
SUMMARY:1.Liga: DJK Lechhausen 2 vs. Steeldarter Kühlenthal 1 (DJK Lechhau
 sen Sporth. Fußball)
CLASS:PUBLIC
DTSTAMP:20260419T200737Z
END:VEVENT
BEGIN:VEVENT
UID:69e519e9704b4
DTSTART:20191022T180000Z
SEQUENCE:0
TRANSP:OPAQUE
LOCATION:Erzbischof Schreiber Weg 12\, 86657 Bissingen
SUMMARY:1.Liga: Steeldarter Bissingen 1 vs. Clochard Darter Augsburg 2 (Spo
 rtheim Bissingen)
CLASS:PUBLIC
DTSTAMP:20260419T200737Z
END:VEVENT
BEGIN:VEVENT
UID:69e519e9704ce
DTSTART:20191023T180000Z
SEQUENCE:0
TRANSP:OPAQUE
LOCATION:Auenweg 7\, 86698 Eggelstetten / Oberndorf am Lech
SUMMARY:1.Liga: Dscheina Darter Donauwörth 1 vs. DJK Lechhausen 1 (Vereins
 heim SV Eggelstetten)
CLASS:PUBLIC
DTSTAMP:20260419T200737Z
END:VEVENT
BEGIN:VEVENT
UID:69e519e9704e8
DTSTART:20191023T180000Z
SEQUENCE:0
TRANSP:OPAQUE
LOCATION:Sportweg 6\, 86529 Schrobenhausen
SUMMARY:1.Liga: SV Steingriff 1 vs. Firedarters Gosheim 1 (Sportgaststätte
  Liberty)
CLASS:PUBLIC
DTSTAMP:20260419T200737Z
END:VEVENT
BEGIN:VEVENT
UID:69e519e970502
DTSTART:20191029T190000Z
SEQUENCE:0
TRANSP:OPAQUE
LOCATION:Pflastergasse 16\, 91781 Weißenburg
SUMMARY:1.Liga: O'Keys Bulls Weißenburg 2 vs. D'Augschburger 1 (O'Keys)
CLASS:PUBLIC
DTSTAMP:20260419T200737Z
END:VEVENT
BEGIN:VEVENT
UID:69e519e97051c
DTSTART:20191104T190000Z
SEQUENCE:0
TRANSP:OPAQUE
LOCATION:Bismarckstraße 7\, 86159 Augsburg
SUMMARY:1.Liga: Clochard Darter Augsburg 2 vs. SV Steingriff 1 (Bismarck Bi
 stro)
CLASS:PUBLIC
DTSTAMP:20260419T200737Z
END:VEVENT
BEGIN:VEVENT
UID:69e519e970535
DTSTART:20191105T190000Z
SEQUENCE:0
TRANSP:OPAQUE
LOCATION:\,  
SUMMARY:1.Liga: D'Augschburger 1 vs. DJK Lechhausen 2 ()
CLASS:PUBLIC
DTSTAMP:20260419T200737Z
END:VEVENT
BEGIN:VEVENT
UID:69e519e97064a
DTSTART:20191106T190000Z
SEQUENCE:0
TRANSP:OPAQUE
LOCATION:Auenweg 7\, 86698 Eggelstetten / Oberndorf am Lech
SUMMARY:1.Liga: Dscheina Darter Donauwörth 1 vs. Steeldarter Bissingen 1 (
 Vereinsheim SV Eggelstetten)
CLASS:PUBLIC
DTSTAMP:20260419T200737Z
END:VEVENT
BEGIN:VEVENT
UID:69e519e970666
DTSTART:20191106T190000Z
SEQUENCE:0
TRANSP:OPAQUE
LOCATION:Schlossplatz 2\, 86685 Huisheim OT Gosheim
SUMMARY:1.Liga: Firedarters Gosheim 1 vs. O'Keys Bulls Weißenburg 2 (Darts
 tempel Gosheim)
CLASS:PUBLIC
DTSTAMP:20260419T200737Z
END:VEVENT
BEGIN:VEVENT
UID:69e519e970680
DTSTART:20191106T190000Z
SEQUENCE:0
TRANSP:OPAQUE
LOCATION:Derchinger Str. 118 c\, 86165 Augsburg
SUMMARY:1.Liga: DJK Lechhausen 1 vs. Steeldarter Kühlenthal 1 (DJK Lechhau
 sen Sporth. Fußball)
CLASS:PUBLIC
DTSTAMP:20260419T200737Z
END:VEVENT
BEGIN:VEVENT
UID:69e519e97069a
DTSTART:20191118T190000Z
SEQUENCE:0
TRANSP:OPAQUE
LOCATION:Derchinger Str. 118 c\, 86165 Augsburg
SUMMARY:1.Liga: DJK Lechhausen 2 vs. Firedarters Gosheim 1 (DJK Lechhausen 
 Sporth. Fußball)
CLASS:PUBLIC
DTSTAMP:20260419T200737Z
END:VEVENT
BEGIN:VEVENT
UID:69e519e9706b6
DTSTART:20191119T190000Z
SEQUENCE:0
TRANSP:OPAQUE
LOCATION:Erzbischof Schreiber Weg 12\, 86657 Bissingen
SUMMARY:1.Liga: Steeldarter Bissingen 1 vs. DJK Lechhausen 1 (Sportheim Bis
 singen)
CLASS:PUBLIC
DTSTAMP:20260419T200737Z
END:VEVENT
BEGIN:VEVENT
UID:69e519e9706d9
DTSTART:20191119T190000Z
SEQUENCE:0
TRANSP:OPAQUE
LOCATION:Pflastergasse 16\, 91781 Weißenburg
SUMMARY:1.Liga: O'Keys Bulls Weißenburg 2 vs. Clochard Darter Augsburg 2 (
 O'Keys)
CLASS:PUBLIC
DTSTAMP:20260419T200737Z
END:VEVENT
BEGIN:VEVENT
UID:69e519e9706ee
DTSTART:20191126T190000Z
SEQUENCE:0
TRANSP:OPAQUE
LOCATION:Am Sportplatz 3\, 86707 Kühlenthal
SUMMARY:1.Liga: Steeldarter Kühlenthal 1 vs. D'Augschburger 1 (Madhouse)
CLASS:PUBLIC
DTSTAMP:20260419T200737Z
END:VEVENT
BEGIN:VEVENT
UID:69e519e970703
DTSTART:20191205T190000Z
SEQUENCE:0
TRANSP:OPAQUE
LOCATION:Sportweg 6\, 86529 Schrobenhausen
SUMMARY:1.Liga: SV Steingriff 1 vs. Dscheina Darter Donauwörth 1 (Sportgas
 tstätte Liberty)
CLASS:PUBLIC
DTSTAMP:20260419T200737Z
END:VEVENT
BEGIN:VEVENT
UID:69e519e970719
DTSTART:20191203T190000Z
SEQUENCE:0
TRANSP:OPAQUE
LOCATION:Erzbischof Schreiber Weg 12\, 86657 Bissingen
SUMMARY:1.Liga: Steeldarter Bissingen 1 vs. SV Steingriff 1 (Sportheim Biss
 ingen)
CLASS:PUBLIC
DTSTAMP:20260419T200737Z
END:VEVENT
BEGIN:VEVENT
UID:69e519e970735
DTSTART:20191203T190000Z
SEQUENCE:0
TRANSP:OPAQUE
LOCATION:\,  
SUMMARY:1.Liga: D'Augschburger 1 vs. DJK Lechhausen 1 ()
CLASS:PUBLIC
DTSTAMP:20260419T200737Z
END:VEVENT
BEGIN:VEVENT
UID:69e519e97083b
DTSTART:20191204T190000Z
SEQUENCE:0
TRANSP:OPAQUE
LOCATION:Auenweg 7\, 86698 Eggelstetten / Oberndorf am Lech
SUMMARY:1.Liga: Dscheina Darter Donauwörth 1 vs. O'Keys Bulls Weißenburg 
 2 (Vereinsheim SV Eggelstetten)
CLASS:PUBLIC
DTSTAMP:20260419T200737Z
END:VEVENT
BEGIN:VEVENT
UID:69e519e970853
DTSTART:20191204T190000Z
SEQUENCE:0
TRANSP:OPAQUE
LOCATION:Am Sportplatz 3\, 86707 Kühlenthal
SUMMARY:1.Liga: Steeldarter Kühlenthal 1 vs. Firedarters Gosheim 1 (Madhou
 se)
CLASS:PUBLIC
DTSTAMP:20260419T200737Z
END:VEVENT
BEGIN:VEVENT
UID:69e519e970869
DTSTART:20191209T190000Z
SEQUENCE:0
TRANSP:OPAQUE
LOCATION:Bismarckstraße 7\, 86159 Augsburg
SUMMARY:1.Liga: Clochard Darter Augsburg 2 vs. DJK Lechhausen 2 (Bismarck B
 istro)
CLASS:PUBLIC
DTSTAMP:20260419T200737Z
END:VEVENT
BEGIN:VEVENT
UID:69e519e97087e
DTSTART:20191210T190000Z
SEQUENCE:0
TRANSP:OPAQUE
LOCATION:\,  
SUMMARY:1.Liga: D'Augschburger 1 vs. Firedarters Gosheim 1 ()
CLASS:PUBLIC
DTSTAMP:20260419T200737Z
END:VEVENT
BEGIN:VEVENT
UID:69e519e97096f
DTSTART:20191217T190000Z
SEQUENCE:0
TRANSP:OPAQUE
LOCATION:Am Sportplatz 3\, 86707 Kühlenthal
SUMMARY:1.Liga: Steeldarter Kühlenthal 1 vs. Clochard Darter Augsburg 2 (M
 adhouse)
CLASS:PUBLIC
DTSTAMP:20260419T200737Z
END:VEVENT
BEGIN:VEVENT
UID:69e519e970986
DTSTART:20191217T190000Z
SEQUENCE:0
TRANSP:OPAQUE
LOCATION:Pflastergasse 16\, 91781 Weißenburg
SUMMARY:1.Liga: O'Keys Bulls Weißenburg 2 vs. Steeldarter Bissingen 1 (O'K
 eys)
CLASS:PUBLIC
DTSTAMP:20260419T200737Z
END:VEVENT
BEGIN:VEVENT
UID:69e519e97099c
DTSTART:20191218T190000Z
SEQUENCE:0
TRANSP:OPAQUE
LOCATION:Auenweg 7\, 86698 Eggelstetten / Oberndorf am Lech
SUMMARY:1.Liga: Dscheina Darter Donauwörth 1 vs. DJK Lechhausen 2 (Vereins
 heim SV Eggelstetten)
CLASS:PUBLIC
DTSTAMP:20260419T200737Z
END:VEVENT
BEGIN:VEVENT
UID:69e519e9709b1
DTSTART:20200106T190000Z
SEQUENCE:0
TRANSP:OPAQUE
LOCATION:Derchinger Str. 118 c\, 86165 Augsburg
SUMMARY:1.Liga: DJK Lechhausen 1 vs. SV Steingriff 1 (DJK Lechhausen Sporth
 . Fußball)
CLASS:PUBLIC
DTSTAMP:20260419T200737Z
END:VEVENT
BEGIN:VEVENT
UID:69e519e9709c7
DTSTART:20200113T190000Z
SEQUENCE:0
TRANSP:OPAQUE
LOCATION:Bismarckstraße 7\, 86159 Augsburg
SUMMARY:1.Liga: Clochard Darter Augsburg 2 vs. D'Augschburger 1 (Bismarck B
 istro)
CLASS:PUBLIC
DTSTAMP:20260419T200737Z
END:VEVENT
BEGIN:VEVENT
UID:69e519e9709dc
DTSTART:20200114T190000Z
SEQUENCE:0
TRANSP:OPAQUE
LOCATION:Am Sportplatz 3\, 86707 Kühlenthal
SUMMARY:1.Liga: Steeldarter Kühlenthal 1 vs. Dscheina Darter Donauwörth 1
  (Madhouse)
CLASS:PUBLIC
DTSTAMP:20260419T200737Z
END:VEVENT
BEGIN:VEVENT
UID:69e519e9709f2
DTSTART:20200115T190000Z
SEQUENCE:0
TRANSP:OPAQUE
LOCATION:Derchinger Str. 118 c\, 86165 Augsburg
SUMMARY:1.Liga: DJK Lechhausen 1 vs. Firedarters Gosheim 1 (DJK Lechhausen 
 Sporth. Fußball)
CLASS:PUBLIC
DTSTAMP:20260419T200737Z
END:VEVENT
BEGIN:VEVENT
UID:69e519e970a07
DTSTART:20200115T190000Z
SEQUENCE:0
TRANSP:OPAQUE
LOCATION:Sportweg 6\, 86529 Schrobenhausen
SUMMARY:1.Liga: SV Steingriff 1 vs. O'Keys Bulls Weißenburg 2 (Sportgastst
 ätte Liberty)
CLASS:PUBLIC
DTSTAMP:20260419T200737Z
END:VEVENT
BEGIN:VEVENT
UID:69e519e970a1d
DTSTART:20200121T190000Z
SEQUENCE:0
TRANSP:OPAQUE
LOCATION:Erzbischof Schreiber Weg 12\, 86657 Bissingen
SUMMARY:1.Liga: Steeldarter Bissingen 1 vs. DJK Lechhausen 2 (Sportheim Bis
 singen)
CLASS:PUBLIC
DTSTAMP:20260419T200737Z
END:VEVENT
BEGIN:VEVENT
UID:69e519e970a32
DTSTART:20200127T190000Z
SEQUENCE:0
TRANSP:OPAQUE
LOCATION:Bismarckstraße 7\, 86159 Augsburg
SUMMARY:1.Liga: Clochard Darter Augsburg 2 vs. Firedarters Gosheim 1 (Bisma
 rck Bistro)
CLASS:PUBLIC
DTSTAMP:20260419T200737Z
END:VEVENT
BEGIN:VEVENT
UID:69e519e970a47
DTSTART:20200128T190000Z
SEQUENCE:0
TRANSP:OPAQUE
LOCATION:Erzbischof Schreiber Weg 12\, 86657 Bissingen
SUMMARY:1.Liga: Steeldarter Bissingen 1 vs. Steeldarter Kühlenthal 1 (Spor
 theim Bissingen)
CLASS:PUBLIC
DTSTAMP:20260419T200737Z
END:VEVENT
BEGIN:VEVENT
UID:69e519e970a5d
DTSTART:20200128T190000Z
SEQUENCE:0
TRANSP:OPAQUE
LOCATION:Pflastergasse 16\, 91781 Weißenburg
SUMMARY:1.Liga: O'Keys Bulls Weißenburg 2 vs. DJK Lechhausen 1 (O'Keys)
CLASS:PUBLIC
DTSTAMP:20260419T200737Z
END:VEVENT
BEGIN:VEVENT
UID:69e519e970a72
DTSTART:20200129T190000Z
SEQUENCE:0
TRANSP:OPAQUE
LOCATION:Auenweg 7\, 86698 Eggelstetten / Oberndorf am Lech
SUMMARY:1.Liga: Dscheina Darter Donauwörth 1 vs. D'Augschburger 1 (Vereins
 heim SV Eggelstetten)
CLASS:PUBLIC
DTSTAMP:20260419T200737Z
END:VEVENT
BEGIN:VEVENT
UID:69e519e970a87
DTSTART:20200129T190000Z
SEQUENCE:0
TRANSP:OPAQUE
LOCATION:Sportweg 6\, 86529 Schrobenhausen
SUMMARY:1.Liga: SV Steingriff 1 vs. DJK Lechhausen 2 (Sportgaststätte Libe
 rty)
CLASS:PUBLIC
DTSTAMP:20260419T200737Z
END:VEVENT
BEGIN:VEVENT
UID:69e519e970a9c
DTSTART:20200204T190000Z
SEQUENCE:0
TRANSP:OPAQUE
LOCATION:Am Sportplatz 3\, 86707 Kühlenthal
SUMMARY:1.Liga: Steeldarter Kühlenthal 1 vs. SV Steingriff 1 (Madhouse)
CLASS:PUBLIC
DTSTAMP:20260419T200737Z
END:VEVENT
BEGIN:VEVENT
UID:69e519e970ab2
DTSTART:20200211T190000Z
SEQUENCE:0
TRANSP:OPAQUE
LOCATION:\,  
SUMMARY:1.Liga: D'Augschburger 1 vs. Steeldarter Bissingen 1 ()
CLASS:PUBLIC
DTSTAMP:20260419T200737Z
END:VEVENT
BEGIN:VEVENT
UID:69e519e970bb4
DTSTART:20200212T190000Z
SEQUENCE:0
TRANSP:OPAQUE
LOCATION:Schlossplatz 2\, 86685 Huisheim OT Gosheim
SUMMARY:1.Liga: Firedarters Gosheim 1 vs. Dscheina Darter Donauwörth 1 (Da
 rtstempel Gosheim)
CLASS:PUBLIC
DTSTAMP:20260419T200737Z
END:VEVENT
BEGIN:VEVENT
UID:69e519e970bcc
DTSTART:20200212T190000Z
SEQUENCE:0
TRANSP:OPAQUE
LOCATION:Derchinger Str. 118 c\, 86165 Augsburg
SUMMARY:1.Liga: DJK Lechhausen 1 vs. Clochard Darter Augsburg 2 (DJK Lechha
 usen Sporth. Fußball)
CLASS:PUBLIC
DTSTAMP:20260419T200737Z
END:VEVENT
BEGIN:VEVENT
UID:69e519e970bea
DTSTART:20200224T190000Z
SEQUENCE:0
TRANSP:OPAQUE
LOCATION:Derchinger Str. 118 c\, 86165 Augsburg
SUMMARY:1.Liga: DJK Lechhausen 2 vs. O'Keys Bulls Weißenburg 2 (DJK Lechha
 usen Sporth. Fußball)
CLASS:PUBLIC
DTSTAMP:20260419T200737Z
END:VEVENT
BEGIN:VEVENT
UID:69e519e970bff
DTSTART:20200217T190000Z
SEQUENCE:0
TRANSP:OPAQUE
LOCATION:Derchinger Str. 118 c\, 86165 Augsburg
SUMMARY:1.Liga: DJK Lechhausen 2 vs. DJK Lechhausen 1 (DJK Lechhausen Sport
 h. Fußball)
CLASS:PUBLIC
DTSTAMP:20260419T200737Z
END:VEVENT
BEGIN:VEVENT
UID:69e519e970c15
DTSTART:20200218T190000Z
SEQUENCE:0
TRANSP:OPAQUE
LOCATION:Pflastergasse 16\, 91781 Weißenburg
SUMMARY:1.Liga: O'Keys Bulls Weißenburg 2 vs. Steeldarter Kühlenthal 1 (O
 'Keys)
CLASS:PUBLIC
DTSTAMP:20260419T200737Z
END:VEVENT
BEGIN:VEVENT
UID:69e519e970c2a
DTSTART:20200219T190000Z
SEQUENCE:0
TRANSP:OPAQUE
LOCATION:Schlossplatz 2\, 86685 Huisheim OT Gosheim
SUMMARY:1.Liga: Firedarters Gosheim 1 vs. Steeldarter Bissingen 1 (Dartstem
 pel Gosheim)
CLASS:PUBLIC
DTSTAMP:20260419T200737Z
END:VEVENT
BEGIN:VEVENT
UID:69e519e970c40
DTSTART:20200219T190000Z
SEQUENCE:0
TRANSP:OPAQUE
LOCATION:Auenweg 7\, 86698 Eggelstetten / Oberndorf am Lech
SUMMARY:1.Liga: Dscheina Darter Donauwörth 1 vs. Clochard Darter Augsburg 
 2 (Vereinsheim SV Eggelstetten)
CLASS:PUBLIC
DTSTAMP:20260419T200737Z
END:VEVENT
BEGIN:VEVENT
UID:69e519e970c55
DTSTART:20200219T190000Z
SEQUENCE:0
TRANSP:OPAQUE
LOCATION:Sportweg 6\, 86529 Schrobenhausen
SUMMARY:1.Liga: SV Steingriff 1 vs. D'Augschburger 1 (Sportgaststätte Libe
 rty)
CLASS:PUBLIC
DTSTAMP:20260419T200737Z
END:VEVENT
BEGIN:VEVENT
UID:69e519e970c6a
DTSTART:20200303T190000Z
SEQUENCE:0
TRANSP:OPAQUE
LOCATION:\,  
SUMMARY:1.Liga: D'Augschburger 1 vs. O'Keys Bulls Weißenburg 2 ()
CLASS:PUBLIC
DTSTAMP:20260419T200737Z
END:VEVENT
BEGIN:VEVENT
UID:69e519e970d81
DTSTART:20200304T190000Z
SEQUENCE:0
TRANSP:OPAQUE
LOCATION:Schlossplatz 2\, 86685 Huisheim OT Gosheim
SUMMARY:1.Liga: Firedarters Gosheim 1 vs. SV Steingriff 1 (Dartstempel Gosh
 eim)
CLASS:PUBLIC
DTSTAMP:20260419T200737Z
END:VEVENT
BEGIN:VEVENT
UID:69e519e970d99
DTSTART:20200309T190000Z
SEQUENCE:0
TRANSP:OPAQUE
LOCATION:Bismarckstraße 7\, 86159 Augsburg
SUMMARY:1.Liga: Clochard Darter Augsburg 2 vs. Steeldarter Bissingen 1 (Bis
 marck Bistro)
CLASS:PUBLIC
DTSTAMP:20260419T200737Z
END:VEVENT
BEGIN:VEVENT
UID:69e519e970db8
DTSTART:20200309T190000Z
SEQUENCE:0
TRANSP:OPAQUE
LOCATION:Derchinger Str. 118 c\, 86165 Augsburg
SUMMARY:1.Liga: DJK Lechhausen 1 vs. Dscheina Darter Donauwörth 1 (DJK Lec
 hhausen Sporth. Fußball)
CLASS:PUBLIC
DTSTAMP:20260419T200737Z
END:VEVENT
BEGIN:VEVENT
UID:69e519e970dcf
DTSTART:20200310T190000Z
SEQUENCE:0
TRANSP:OPAQUE
LOCATION:Am Sportplatz 3\, 86707 Kühlenthal
SUMMARY:1.Liga: Steeldarter Kühlenthal 1 vs. DJK Lechhausen 2 (Madhouse)
CLASS:PUBLIC
DTSTAMP:20260419T200737Z
END:VEVENT
BEGIN:VEVENT
UID:69e519e970dec
DTSTART:20200316T190000Z
SEQUENCE:0
TRANSP:OPAQUE
LOCATION:Derchinger Str. 118 c\, 86165 Augsburg
SUMMARY:1.Liga: DJK Lechhausen 2 vs. D'Augschburger 1 (DJK Lechhausen Sport
 h. Fußball)
CLASS:PUBLIC
DTSTAMP:20260419T200737Z
END:VEVENT
BEGIN:VEVENT
UID:69e519e970e02
DTSTART:20200316T190000Z
SEQUENCE:0
TRANSP:OPAQUE
LOCATION:Am Sportplatz 3\, 86707 Kühlenthal
SUMMARY:1.Liga: Steeldarter Kühlenthal 1 vs. DJK Lechhausen 1 (Madhouse)
CLASS:PUBLIC
DTSTAMP:20260419T200737Z
END:VEVENT
BEGIN:VEVENT
UID:69e519e970e17
DTSTART:20200317T190000Z
SEQUENCE:0
TRANSP:OPAQUE
LOCATION:Erzbischof Schreiber Weg 12\, 86657 Bissingen
SUMMARY:1.Liga: Steeldarter Bissingen 1 vs. Dscheina Darter Donauwörth 1 (
 Sportheim Bissingen)
CLASS:PUBLIC
DTSTAMP:20260419T200737Z
END:VEVENT
BEGIN:VEVENT
UID:69e519e970e2d
DTSTART:20200317T190000Z
SEQUENCE:0
TRANSP:OPAQUE
LOCATION:Pflastergasse 16\, 91781 Weißenburg
SUMMARY:1.Liga: O'Keys Bulls Weißenburg 2 vs. Firedarters Gosheim 1 (O'Key
 s)
CLASS:PUBLIC
DTSTAMP:20260419T200737Z
END:VEVENT
BEGIN:VEVENT
UID:69e519e970e49
DTSTART:20200318T190000Z
SEQUENCE:0
TRANSP:OPAQUE
LOCATION:Sportweg 6\, 86529 Schrobenhausen
SUMMARY:1.Liga: SV Steingriff 1 vs. Clochard Darter Augsburg 2 (Sportgastst
 ätte Liberty)
CLASS:PUBLIC
DTSTAMP:20260419T200737Z
END:VEVENT
BEGIN:VEVENT
UID:69e519e970e5e
DTSTART:20200330T180000Z
SEQUENCE:0
TRANSP:OPAQUE
LOCATION:Bismarckstraße 7\, 86159 Augsburg
SUMMARY:1.Liga: Clochard Darter Augsburg 2 vs. O'Keys Bulls Weißenburg 2 (
 Bismarck Bistro)
CLASS:PUBLIC
DTSTAMP:20260419T200737Z
END:VEVENT
BEGIN:VEVENT
UID:69e519e970e74
DTSTART:20200331T180000Z
SEQUENCE:0
TRANSP:OPAQUE
LOCATION:\,  
SUMMARY:1.Liga: D'Augschburger 1 vs. Steeldarter Kühlenthal 1 ()
CLASS:PUBLIC
DTSTAMP:20260419T200737Z
END:VEVENT
BEGIN:VEVENT
UID:69e519e970f89
DTSTART:20200401T180000Z
SEQUENCE:0
TRANSP:OPAQUE
LOCATION:Schlossplatz 2\, 86685 Huisheim OT Gosheim
SUMMARY:1.Liga: Firedarters Gosheim 1 vs. DJK Lechhausen 2 (Dartstempel Gos
 heim)
CLASS:PUBLIC
DTSTAMP:20260419T200737Z
END:VEVENT
BEGIN:VEVENT
UID:69e519e970fa1
DTSTART:20200401T180000Z
SEQUENCE:0
TRANSP:OPAQUE
LOCATION:Auenweg 7\, 86698 Eggelstetten / Oberndorf am Lech
SUMMARY:1.Liga: Dscheina Darter Donauwörth 1 vs. SV Steingriff 1 (Vereinsh
 eim SV Eggelstetten)
CLASS:PUBLIC
DTSTAMP:20260419T200737Z
END:VEVENT
BEGIN:VEVENT
UID:69e519e970fb6
DTSTART:20200401T180000Z
SEQUENCE:0
TRANSP:OPAQUE
LOCATION:Derchinger Str. 118 c\, 86165 Augsburg
SUMMARY:1.Liga: DJK Lechhausen 1 vs. Steeldarter Bissingen 1 (DJK Lechhause
 n Sporth. Fußball)
CLASS:PUBLIC
DTSTAMP:20260419T200737Z
END:VEVENT
BEGIN:VEVENT
UID:69e519e970fcb
DTSTART:20200420T180000Z
SEQUENCE:0
TRANSP:OPAQUE
LOCATION:Derchinger Str. 118 c\, 86165 Augsburg
SUMMARY:1.Liga: DJK Lechhausen 2 vs. Clochard Darter Augsburg 2 (DJK Lechha
 usen Sporth. Fußball)
CLASS:PUBLIC
DTSTAMP:20260419T200737Z
END:VEVENT
BEGIN:VEVENT
UID:69e519e970fe0
DTSTART:20200421T180000Z
SEQUENCE:0
TRANSP:OPAQUE
LOCATION:Pflastergasse 16\, 91781 Weißenburg
SUMMARY:1.Liga: O'Keys Bulls Weißenburg 2 vs. Dscheina Darter Donauwörth 
 1 (O'Keys)
CLASS:PUBLIC
DTSTAMP:20260419T200737Z
END:VEVENT
BEGIN:VEVENT
UID:69e519e970ff5
DTSTART:20200422T180000Z
SEQUENCE:0
TRANSP:OPAQUE
LOCATION:Schlossplatz 2\, 86685 Huisheim OT Gosheim
SUMMARY:1.Liga: Firedarters Gosheim 1 vs. Steeldarter Kühlenthal 1 (Dartst
 empel Gosheim)
CLASS:PUBLIC
DTSTAMP:20260419T200737Z
END:VEVENT
BEGIN:VEVENT
UID:69e519e97100a
DTSTART:20200422T180000Z
SEQUENCE:0
TRANSP:OPAQUE
LOCATION:Derchinger Str. 118 c\, 86165 Augsburg
SUMMARY:1.Liga: DJK Lechhausen 1 vs. D'Augschburger 1 (DJK Lechhausen Sport
 h. Fußball)
CLASS:PUBLIC
DTSTAMP:20260419T200737Z
END:VEVENT
BEGIN:VEVENT
UID:69e519e971020
DTSTART:20200423T180000Z
SEQUENCE:0
TRANSP:OPAQUE
LOCATION:Sportweg 6\, 86529 Schrobenhausen
SUMMARY:1.Liga: SV Steingriff 1 vs. Steeldarter Bissingen 1 (Sportgaststät
 te Liberty)
CLASS:PUBLIC
DTSTAMP:20260419T200737Z
END:VEVENT
BEGIN:VEVENT
UID:69e519e971035
DTSTART:20200427T180000Z
SEQUENCE:0
TRANSP:OPAQUE
LOCATION:Bismarckstraße 7\, 86159 Augsburg
SUMMARY:1.Liga: Clochard Darter Augsburg 2 vs. Steeldarter Kühlenthal 1 (B
 ismarck Bistro)
CLASS:PUBLIC
DTSTAMP:20260419T200737Z
END:VEVENT
BEGIN:VEVENT
UID:69e519e97104a
DTSTART:20200504T180000Z
SEQUENCE:0
TRANSP:OPAQUE
LOCATION:Derchinger Str. 118 c\, 86165 Augsburg
SUMMARY:1.Liga: DJK Lechhausen 2 vs. Dscheina Darter Donauwörth 1 (DJK Lec
 hhausen Sporth. Fußball)
CLASS:PUBLIC
DTSTAMP:20260419T200737Z
END:VEVENT
BEGIN:VEVENT
UID:69e519e97105f
DTSTART:20200505T180000Z
SEQUENCE:0
TRANSP:OPAQUE
LOCATION:Erzbischof Schreiber Weg 12\, 86657 Bissingen
SUMMARY:1.Liga: Steeldarter Bissingen 1 vs. O'Keys Bulls Weißenburg 2 (Spo
 rtheim Bissingen)
CLASS:PUBLIC
DTSTAMP:20260419T200737Z
END:VEVENT
BEGIN:VEVENT
UID:69e519e971074
DTSTART:20200506T180000Z
SEQUENCE:0
TRANSP:OPAQUE
LOCATION:Schlossplatz 2\, 86685 Huisheim OT Gosheim
SUMMARY:1.Liga: Firedarters Gosheim 1 vs. D'Augschburger 1 (Dartstempel Gos
 heim)
CLASS:PUBLIC
DTSTAMP:20260419T200737Z
END:VEVENT
BEGIN:VEVENT
UID:69e519e971089
DTSTART:20200506T180000Z
SEQUENCE:0
TRANSP:OPAQUE
LOCATION:Sportweg 6\, 86529 Schrobenhausen
SUMMARY:1.Liga: SV Steingriff 1 vs. DJK Lechhausen 1 (Sportgaststätte Libe
 rty)
CLASS:PUBLIC
DTSTAMP:20260419T200737Z
END:VEVENT
BEGIN:VEVENT
UID:69e519e97109e
DTSTART:20200512T180000Z
SEQUENCE:0
TRANSP:OPAQUE
LOCATION:Pflastergasse 16\, 91781 Weißenburg
SUMMARY:1.Liga: O'Keys Bulls Weißenburg 2 vs. SV Steingriff 1 (O'Keys)
CLASS:PUBLIC
DTSTAMP:20260419T200737Z
END:VEVENT
BEGIN:VEVENT
UID:69e519e9710ba
DTSTART:20200512T180000Z
SEQUENCE:0
TRANSP:OPAQUE
LOCATION:Derchinger Str. 118 c\, 86165 Augsburg
SUMMARY:1.Liga: DJK Lechhausen 2 vs. Steeldarter Bissingen 1 (DJK Lechhause
 n Sporth. Fußball)
CLASS:PUBLIC
DTSTAMP:20260419T200737Z
END:VEVENT
BEGIN:VEVENT
UID:69e519e9710cf
DTSTART:20200512T180000Z
SEQUENCE:0
TRANSP:OPAQUE
LOCATION:Auenweg 7\, 86698 Eggelstetten / Oberndorf am Lech
SUMMARY:1.Liga: Dscheina Darter Donauwörth 1 vs. Steeldarter Kühlenthal 1
  (Vereinsheim SV Eggelstetten)
CLASS:PUBLIC
DTSTAMP:20260419T200737Z
END:VEVENT
BEGIN:VEVENT
UID:69e519e9710e4
DTSTART:20200512T180000Z
SEQUENCE:0
TRANSP:OPAQUE
LOCATION:\,  
SUMMARY:1.Liga: D'Augschburger 1 vs. Clochard Darter Augsburg 2 ()
CLASS:PUBLIC
DTSTAMP:20260419T200737Z
END:VEVENT
BEGIN:VEVENT
UID:69e519e9711eb
DTSTART:20200512T180000Z
SEQUENCE:0
TRANSP:OPAQUE
LOCATION:Schlossplatz 2\, 86685 Huisheim OT Gosheim
SUMMARY:1.Liga: Firedarters Gosheim 1 vs. DJK Lechhausen 1 (Dartstempel Gos
 heim)
CLASS:PUBLIC
DTSTAMP:20260419T200737Z
END:VEVENT
END:VCALENDAR