BEGIN:VCALENDAR
VERSION:2.0
PRODID:NSDV - Nordschwäbischer Dartverband e. V.
BEGIN:VEVENT
UID:69e4d08f2b529
DTSTART:20190911T180000Z
SEQUENCE:0
TRANSP:OPAQUE
LOCATION:Eichholzweg 7\, 86754 Laub
SUMMARY:2.Liga NORD  Gruppe Schwarz: DC Laub 1 vs. O'Keys Bulls Weißenburg
  3 (Sportheim Laub)
CLASS:PUBLIC
DTSTAMP:20260419T145439Z
END:VEVENT
BEGIN:VEVENT
UID:69e4d08f3068b
DTSTART:20190911T180000Z
SEQUENCE:0
TRANSP:OPAQUE
LOCATION:Wörnitzstraße 4\, 86609 Donauwörth-Wörnitzstein
SUMMARY:2.Liga NORD  Gruppe Schwarz: SV Wörnitzstein-Berg 1 vs. BV Bergen 
 (Sportheim SV Wörnitzstein-Berg)
CLASS:PUBLIC
DTSTAMP:20260419T145439Z
END:VEVENT
BEGIN:VEVENT
UID:69e4d08f30ba3
DTSTART:20190913T180000Z
SEQUENCE:0
TRANSP:OPAQUE
LOCATION:Schlossplatz 2\, 86685 Huisheim OT Gosheim
SUMMARY:2.Liga NORD  Gruppe Schwarz: Firedarters Gosheim 2 vs. AL D.C. (Dar
 tstempel Gosheim)
CLASS:PUBLIC
DTSTAMP:20260419T145439Z
END:VEVENT
BEGIN:VEVENT
UID:69e4d08f30db8
DTSTART:20191001T180000Z
SEQUENCE:0
TRANSP:OPAQUE
LOCATION:Am Sportplatz 3\, 86707 Kühlenthal
SUMMARY:2.Liga NORD  Gruppe Schwarz: Steeldarter Kühlenthal 3 vs. Steeldar
 ter Kühlenthal 2 (Madhouse)
CLASS:PUBLIC
DTSTAMP:20260419T145439Z
END:VEVENT
BEGIN:VEVENT
UID:69e4d08f30fc8
DTSTART:20190923T180000Z
SEQUENCE:0
TRANSP:OPAQUE
LOCATION:Schlossplatz 2\, 86685 Huisheim OT Gosheim
SUMMARY:2.Liga NORD  Gruppe Schwarz: Firedarters Gosheim 2 vs. DC Laub 1 (D
 artstempel Gosheim)
CLASS:PUBLIC
DTSTAMP:20260419T145439Z
END:VEVENT
BEGIN:VEVENT
UID:69e4d08f31029
DTSTART:20190924T180000Z
SEQUENCE:0
TRANSP:OPAQUE
LOCATION:Hafenreutherstr. 5\, 86687 Altisheim
SUMMARY:2.Liga NORD  Gruppe Schwarz: AL D.C. vs. SV Wörnitzstein-Berg 1 (S
 chützenheim)
CLASS:PUBLIC
DTSTAMP:20260419T145439Z
END:VEVENT
BEGIN:VEVENT
UID:69e4d08f31254
DTSTART:20190925T180000Z
SEQUENCE:0
TRANSP:OPAQUE
LOCATION:\,  
SUMMARY:2.Liga NORD  Gruppe Schwarz: BV Bergen vs. Steeldarter Kühlenthal 
 2 ()
CLASS:PUBLIC
DTSTAMP:20260419T145439Z
END:VEVENT
BEGIN:VEVENT
UID:69e4d08f31418
DTSTART:20190930T180000Z
SEQUENCE:0
TRANSP:OPAQUE
LOCATION:Schulstraße 6\, 89420 Höchstäd OT Deisenhofen
SUMMARY:2.Liga NORD  Gruppe Schwarz: Bulls-Eye Darter Deisenhofen 3 vs. Ste
 eldarter Kühlenthal 3 (Vereinsräume im 1. OG)
CLASS:PUBLIC
DTSTAMP:20260419T145439Z
END:VEVENT
BEGIN:VEVENT
UID:69e4d08f31624
DTSTART:20191007T180000Z
SEQUENCE:0
TRANSP:OPAQUE
LOCATION:Schlossplatz 2\, 86685 Huisheim OT Gosheim
SUMMARY:2.Liga NORD  Gruppe Schwarz: Firedarters Gosheim 2 vs. SV Wörnitzs
 tein-Berg 1 (Dartstempel Gosheim)
CLASS:PUBLIC
DTSTAMP:20260419T145439Z
END:VEVENT
BEGIN:VEVENT
UID:69e4d08f3167a
DTSTART:20191009T180000Z
SEQUENCE:0
TRANSP:OPAQUE
LOCATION:\,  
SUMMARY:2.Liga NORD  Gruppe Schwarz: BV Bergen vs. Bulls-Eye Darter Deisenh
 ofen 3 ()
CLASS:PUBLIC
DTSTAMP:20260419T145439Z
END:VEVENT
BEGIN:VEVENT
UID:69e4d08f31828
DTSTART:20191009T180000Z
SEQUENCE:0
TRANSP:OPAQUE
LOCATION:Eichholzweg 7\, 86754 Laub
SUMMARY:2.Liga NORD  Gruppe Schwarz: DC Laub 1 vs. Steeldarter Kühlenthal 
 3 (Sportheim Laub)
CLASS:PUBLIC
DTSTAMP:20260419T145439Z
END:VEVENT
BEGIN:VEVENT
UID:69e4d08f3187e
DTSTART:20191009T180000Z
SEQUENCE:0
TRANSP:OPAQUE
LOCATION:Pflastergasse 16\, 91781 Weißenburg
SUMMARY:2.Liga NORD  Gruppe Schwarz: O'Keys Bulls Weißenburg 3 vs. Steelda
 rter Kühlenthal 2 (O'Keys)
CLASS:PUBLIC
DTSTAMP:20260419T145439Z
END:VEVENT
BEGIN:VEVENT
UID:69e4d08f31a67
DTSTART:20191021T180000Z
SEQUENCE:0
TRANSP:OPAQUE
LOCATION:Schulstraße 6\, 89420 Höchstäd OT Deisenhofen
SUMMARY:2.Liga NORD  Gruppe Schwarz: Bulls-Eye Darter Deisenhofen 3 vs. O'K
 eys Bulls Weißenburg 3 (Vereinsräume im 1. OG)
CLASS:PUBLIC
DTSTAMP:20260419T145439Z
END:VEVENT
BEGIN:VEVENT
UID:69e4d08f31abd
DTSTART:20191023T180000Z
SEQUENCE:0
TRANSP:OPAQUE
LOCATION:Am Sportplatz 3\, 86707 Kühlenthal
SUMMARY:2.Liga NORD  Gruppe Schwarz: Steeldarter Kühlenthal 2 vs. AL D.C. 
 (Madhouse)
CLASS:PUBLIC
DTSTAMP:20260419T145439Z
END:VEVENT
BEGIN:VEVENT
UID:69e4d08f31b0c
DTSTART:20191023T180000Z
SEQUENCE:0
TRANSP:OPAQUE
LOCATION:Wörnitzstraße 4\, 86609 Donauwörth-Wörnitzstein
SUMMARY:2.Liga NORD  Gruppe Schwarz: SV Wörnitzstein-Berg 1 vs. DC Laub 1 
 (Sportheim SV Wörnitzstein-Berg)
CLASS:PUBLIC
DTSTAMP:20260419T145439Z
END:VEVENT
BEGIN:VEVENT
UID:69e4d08f31b60
DTSTART:20191023T180000Z
SEQUENCE:0
TRANSP:OPAQUE
LOCATION:\,  
SUMMARY:2.Liga NORD  Gruppe Schwarz: BV Bergen vs. Steeldarter Kühlenthal 
 3 ()
CLASS:PUBLIC
DTSTAMP:20260419T145439Z
END:VEVENT
BEGIN:VEVENT
UID:69e4d08f31d44
DTSTART:20191030T190000Z
SEQUENCE:0
TRANSP:OPAQUE
LOCATION:Am Sportplatz 3\, 86707 Kühlenthal
SUMMARY:2.Liga NORD  Gruppe Schwarz: Steeldarter Kühlenthal 2 vs. SV Wörn
 itzstein-Berg 1 (Madhouse)
CLASS:PUBLIC
DTSTAMP:20260419T145439Z
END:VEVENT
BEGIN:VEVENT
UID:69e4d08f31d98
DTSTART:20191104T190000Z
SEQUENCE:0
TRANSP:OPAQUE
LOCATION:Schulstraße 6\, 89420 Höchstäd OT Deisenhofen
SUMMARY:2.Liga NORD  Gruppe Schwarz: Bulls-Eye Darter Deisenhofen 3 vs. DC 
 Laub 1 (Vereinsräume im 1. OG)
CLASS:PUBLIC
DTSTAMP:20260419T145439Z
END:VEVENT
BEGIN:VEVENT
UID:69e4d08f31de5
DTSTART:20191104T190000Z
SEQUENCE:0
TRANSP:OPAQUE
LOCATION:Schlossplatz 2\, 86685 Huisheim OT Gosheim
SUMMARY:2.Liga NORD  Gruppe Schwarz: Firedarters Gosheim 2 vs. BV Bergen (D
 artstempel Gosheim)
CLASS:PUBLIC
DTSTAMP:20260419T145439Z
END:VEVENT
BEGIN:VEVENT
UID:69e4d08f31e31
DTSTART:20191106T190000Z
SEQUENCE:0
TRANSP:OPAQUE
LOCATION:Pflastergasse 16\, 91781 Weißenburg
SUMMARY:2.Liga NORD  Gruppe Schwarz: O'Keys Bulls Weißenburg 3 vs. AL D.C.
  (O'Keys)
CLASS:PUBLIC
DTSTAMP:20260419T145439Z
END:VEVENT
BEGIN:VEVENT
UID:69e4d08f31e83
DTSTART:20191118T190000Z
SEQUENCE:0
TRANSP:OPAQUE
LOCATION:Am Sportplatz 3\, 86707 Kühlenthal
SUMMARY:2.Liga NORD  Gruppe Schwarz: Steeldarter Kühlenthal 3 vs. AL D.C. 
 (Madhouse)
CLASS:PUBLIC
DTSTAMP:20260419T145439Z
END:VEVENT
BEGIN:VEVENT
UID:69e4d08f31ece
DTSTART:20191118T190000Z
SEQUENCE:0
TRANSP:OPAQUE
LOCATION:Schulstraße 6\, 89420 Höchstäd OT Deisenhofen
SUMMARY:2.Liga NORD  Gruppe Schwarz: Bulls-Eye Darter Deisenhofen 3 vs. SV 
 Wörnitzstein-Berg 1 (Vereinsräume im 1. OG)
CLASS:PUBLIC
DTSTAMP:20260419T145439Z
END:VEVENT
BEGIN:VEVENT
UID:69e4d08f31f1a
DTSTART:20191121T190000Z
SEQUENCE:0
TRANSP:OPAQUE
LOCATION:Eichholzweg 7\, 86754 Laub
SUMMARY:2.Liga NORD  Gruppe Schwarz: DC Laub 1 vs. BV Bergen (Sportheim Lau
 b)
CLASS:PUBLIC
DTSTAMP:20260419T145439Z
END:VEVENT
BEGIN:VEVENT
UID:69e4d08f31f66
DTSTART:20191127T190000Z
SEQUENCE:0
TRANSP:OPAQUE
LOCATION:Pflastergasse 16\, 91781 Weißenburg
SUMMARY:2.Liga NORD  Gruppe Schwarz: O'Keys Bulls Weißenburg 3 vs. Firedar
 ters Gosheim 2 (O'Keys)
CLASS:PUBLIC
DTSTAMP:20260419T145439Z
END:VEVENT
BEGIN:VEVENT
UID:69e4d08f31fb7
DTSTART:20191202T190000Z
SEQUENCE:0
TRANSP:OPAQUE
LOCATION:Am Sportplatz 3\, 86707 Kühlenthal
SUMMARY:2.Liga NORD  Gruppe Schwarz: Steeldarter Kühlenthal 3 vs. SV Wörn
 itzstein-Berg 1 (Madhouse)
CLASS:PUBLIC
DTSTAMP:20260419T145439Z
END:VEVENT
BEGIN:VEVENT
UID:69e4d08f32001
DTSTART:20191203T190000Z
SEQUENCE:0
TRANSP:OPAQUE
LOCATION:Hafenreutherstr. 5\, 86687 Altisheim
SUMMARY:2.Liga NORD  Gruppe Schwarz: AL D.C. vs. Bulls-Eye Darter Deisenhof
 en 3 (Schützenheim)
CLASS:PUBLIC
DTSTAMP:20260419T145439Z
END:VEVENT
BEGIN:VEVENT
UID:69e4d08f3204d
DTSTART:20191204T190000Z
SEQUENCE:0
TRANSP:OPAQUE
LOCATION:\,  
SUMMARY:2.Liga NORD  Gruppe Schwarz: BV Bergen vs. O'Keys Bulls Weißenburg
  3 ()
CLASS:PUBLIC
DTSTAMP:20260419T145439Z
END:VEVENT
BEGIN:VEVENT
UID:69e4d08f321e8
DTSTART:20191211T190000Z
SEQUENCE:0
TRANSP:OPAQUE
LOCATION:Schlossplatz 2\, 86685 Huisheim OT Gosheim
SUMMARY:2.Liga NORD  Gruppe Schwarz: Firedarters Gosheim 2 vs. Steeldarter 
 Kühlenthal 2 (Dartstempel Gosheim)
CLASS:PUBLIC
DTSTAMP:20260419T145439Z
END:VEVENT
BEGIN:VEVENT
UID:69e4d08f32241
DTSTART:20191216T190000Z
SEQUENCE:0
TRANSP:OPAQUE
LOCATION:Schlossplatz 2\, 86685 Huisheim OT Gosheim
SUMMARY:2.Liga NORD  Gruppe Schwarz: Firedarters Gosheim 2 vs. Bulls-Eye Da
 rter Deisenhofen 3 (Dartstempel Gosheim)
CLASS:PUBLIC
DTSTAMP:20260419T145439Z
END:VEVENT
BEGIN:VEVENT
UID:69e4d08f3228e
DTSTART:20191217T190000Z
SEQUENCE:0
TRANSP:OPAQUE
LOCATION:Hafenreutherstr. 5\, 86687 Altisheim
SUMMARY:2.Liga NORD  Gruppe Schwarz: AL D.C. vs. BV Bergen (Schützenheim)
CLASS:PUBLIC
DTSTAMP:20260419T145439Z
END:VEVENT
BEGIN:VEVENT
UID:69e4d08f322da
DTSTART:20191218T190000Z
SEQUENCE:0
TRANSP:OPAQUE
LOCATION:Pflastergasse 16\, 91781 Weißenburg
SUMMARY:2.Liga NORD  Gruppe Schwarz: O'Keys Bulls Weißenburg 3 vs. Steelda
 rter Kühlenthal 3 (O'Keys)
CLASS:PUBLIC
DTSTAMP:20260419T145439Z
END:VEVENT
BEGIN:VEVENT
UID:69e4d08f3233a
DTSTART:20191218T190000Z
SEQUENCE:0
TRANSP:OPAQUE
LOCATION:Am Sportplatz 3\, 86707 Kühlenthal
SUMMARY:2.Liga NORD  Gruppe Schwarz: Steeldarter Kühlenthal 2 vs. DC Laub 
 1 (Madhouse)
CLASS:PUBLIC
DTSTAMP:20260419T145439Z
END:VEVENT
BEGIN:VEVENT
UID:69e4d08f3238c
DTSTART:20200113T190000Z
SEQUENCE:0
TRANSP:OPAQUE
LOCATION:Am Sportplatz 3\, 86707 Kühlenthal
SUMMARY:2.Liga NORD  Gruppe Schwarz: Steeldarter Kühlenthal 3 vs. Firedart
 ers Gosheim 2 (Madhouse)
CLASS:PUBLIC
DTSTAMP:20260419T145439Z
END:VEVENT
BEGIN:VEVENT
UID:69e4d08f323da
DTSTART:20200114T190000Z
SEQUENCE:0
TRANSP:OPAQUE
LOCATION:Hafenreutherstr. 5\, 86687 Altisheim
SUMMARY:2.Liga NORD  Gruppe Schwarz: AL D.C. vs. DC Laub 1 (Schützenheim)
CLASS:PUBLIC
DTSTAMP:20260419T145439Z
END:VEVENT
BEGIN:VEVENT
UID:69e4d08f32426
DTSTART:20200115T190000Z
SEQUENCE:0
TRANSP:OPAQUE
LOCATION:Wörnitzstraße 4\, 86609 Donauwörth-Wörnitzstein
SUMMARY:2.Liga NORD  Gruppe Schwarz: SV Wörnitzstein-Berg 1 vs. O'Keys Bul
 ls Weißenburg 3 (Sportheim SV Wörnitzstein-Berg)
CLASS:PUBLIC
DTSTAMP:20260419T145439Z
END:VEVENT
BEGIN:VEVENT
UID:69e4d08f32472
DTSTART:20200128T190000Z
SEQUENCE:0
TRANSP:OPAQUE
LOCATION:Am Sportplatz 3\, 86707 Kühlenthal
SUMMARY:2.Liga NORD  Gruppe Schwarz: Steeldarter Kühlenthal 2 vs. Bulls-Ey
 e Darter Deisenhofen 3 (Madhouse)
CLASS:PUBLIC
DTSTAMP:20260419T145439Z
END:VEVENT
BEGIN:VEVENT
UID:69e4d08f324c2
DTSTART:20200128T190000Z
SEQUENCE:0
TRANSP:OPAQUE
LOCATION:Hafenreutherstr. 5\, 86687 Altisheim
SUMMARY:2.Liga NORD  Gruppe Schwarz: AL D.C. vs. Firedarters Gosheim 2 (Sch
 ützenheim)
CLASS:PUBLIC
DTSTAMP:20260419T145439Z
END:VEVENT
BEGIN:VEVENT
UID:69e4d08f3250c
DTSTART:20200129T190000Z
SEQUENCE:0
TRANSP:OPAQUE
LOCATION:Am Sportplatz 3\, 86707 Kühlenthal
SUMMARY:2.Liga NORD  Gruppe Schwarz: Steeldarter Kühlenthal 2 vs. Steeldar
 ter Kühlenthal 3 (Madhouse)
CLASS:PUBLIC
DTSTAMP:20260419T145439Z
END:VEVENT
BEGIN:VEVENT
UID:69e4d08f32558
DTSTART:20200129T190000Z
SEQUENCE:0
TRANSP:OPAQUE
LOCATION:Pflastergasse 16\, 91781 Weißenburg
SUMMARY:2.Liga NORD  Gruppe Schwarz: O'Keys Bulls Weißenburg 3 vs. DC Laub
  1 (O'Keys)
CLASS:PUBLIC
DTSTAMP:20260419T145439Z
END:VEVENT
BEGIN:VEVENT
UID:69e4d08f325a4
DTSTART:20200129T190000Z
SEQUENCE:0
TRANSP:OPAQUE
LOCATION:\,  
SUMMARY:2.Liga NORD  Gruppe Schwarz: BV Bergen vs. SV Wörnitzstein-Berg 1 
 ()
CLASS:PUBLIC
DTSTAMP:20260419T145439Z
END:VEVENT
BEGIN:VEVENT
UID:69e4d08f3271d
DTSTART:20200210T190000Z
SEQUENCE:0
TRANSP:OPAQUE
LOCATION:Am Sportplatz 3\, 86707 Kühlenthal
SUMMARY:2.Liga NORD  Gruppe Schwarz: Steeldarter Kühlenthal 3 vs. Bulls-Ey
 e Darter Deisenhofen 3 (Madhouse)
CLASS:PUBLIC
DTSTAMP:20260419T145439Z
END:VEVENT
BEGIN:VEVENT
UID:69e4d08f32770
DTSTART:20200212T190000Z
SEQUENCE:0
TRANSP:OPAQUE
LOCATION:Am Sportplatz 3\, 86707 Kühlenthal
SUMMARY:2.Liga NORD  Gruppe Schwarz: Steeldarter Kühlenthal 2 vs. BV Berge
 n (Madhouse)
CLASS:PUBLIC
DTSTAMP:20260419T145439Z
END:VEVENT
BEGIN:VEVENT
UID:69e4d08f327bc
DTSTART:20200212T190000Z
SEQUENCE:0
TRANSP:OPAQUE
LOCATION:Eichholzweg 7\, 86754 Laub
SUMMARY:2.Liga NORD  Gruppe Schwarz: DC Laub 1 vs. Firedarters Gosheim 2 (S
 portheim Laub)
CLASS:PUBLIC
DTSTAMP:20260419T145439Z
END:VEVENT
BEGIN:VEVENT
UID:69e4d08f32807
DTSTART:20200212T190000Z
SEQUENCE:0
TRANSP:OPAQUE
LOCATION:Wörnitzstraße 4\, 86609 Donauwörth-Wörnitzstein
SUMMARY:2.Liga NORD  Gruppe Schwarz: SV Wörnitzstein-Berg 1 vs. AL D.C. (S
 portheim SV Wörnitzstein-Berg)
CLASS:PUBLIC
DTSTAMP:20260419T145439Z
END:VEVENT
BEGIN:VEVENT
UID:69e4d08f32858
DTSTART:20200217T190000Z
SEQUENCE:0
TRANSP:OPAQUE
LOCATION:Schulstraße 6\, 89420 Höchstäd OT Deisenhofen
SUMMARY:2.Liga NORD  Gruppe Schwarz: Bulls-Eye Darter Deisenhofen 3 vs. BV 
 Bergen (Vereinsräume im 1. OG)
CLASS:PUBLIC
DTSTAMP:20260419T145439Z
END:VEVENT
BEGIN:VEVENT
UID:69e4d08f328a3
DTSTART:20200217T190000Z
SEQUENCE:0
TRANSP:OPAQUE
LOCATION:Am Sportplatz 3\, 86707 Kühlenthal
SUMMARY:2.Liga NORD  Gruppe Schwarz: Steeldarter Kühlenthal 3 vs. DC Laub 
 1 (Madhouse)
CLASS:PUBLIC
DTSTAMP:20260419T145439Z
END:VEVENT
BEGIN:VEVENT
UID:69e4d08f328ee
DTSTART:20200219T190000Z
SEQUENCE:0
TRANSP:OPAQUE
LOCATION:Wörnitzstraße 4\, 86609 Donauwörth-Wörnitzstein
SUMMARY:2.Liga NORD  Gruppe Schwarz: SV Wörnitzstein-Berg 1 vs. Firedarter
 s Gosheim 2 (Sportheim SV Wörnitzstein-Berg)
CLASS:PUBLIC
DTSTAMP:20260419T145439Z
END:VEVENT
BEGIN:VEVENT
UID:69e4d08f329ad
DTSTART:20200219T190000Z
SEQUENCE:0
TRANSP:OPAQUE
LOCATION:Am Sportplatz 3\, 86707 Kühlenthal
SUMMARY:2.Liga NORD  Gruppe Schwarz: Steeldarter Kühlenthal 2 vs. O'Keys B
 ulls Weißenburg 3 (Madhouse)
CLASS:PUBLIC
DTSTAMP:20260419T145439Z
END:VEVENT
BEGIN:VEVENT
UID:69e4d08f329ff
DTSTART:20200302T190000Z
SEQUENCE:0
TRANSP:OPAQUE
LOCATION:Am Sportplatz 3\, 86707 Kühlenthal
SUMMARY:2.Liga NORD  Gruppe Schwarz: Steeldarter Kühlenthal 3 vs. BV Berge
 n (Madhouse)
CLASS:PUBLIC
DTSTAMP:20260419T145439Z
END:VEVENT
BEGIN:VEVENT
UID:69e4d08f32a49
DTSTART:20200303T190000Z
SEQUENCE:0
TRANSP:OPAQUE
LOCATION:Hafenreutherstr. 5\, 86687 Altisheim
SUMMARY:2.Liga NORD  Gruppe Schwarz: AL D.C. vs. Steeldarter Kühlenthal 2 
 (Schützenheim)
CLASS:PUBLIC
DTSTAMP:20260419T145439Z
END:VEVENT
BEGIN:VEVENT
UID:69e4d08f32a94
DTSTART:20200304T190000Z
SEQUENCE:0
TRANSP:OPAQUE
LOCATION:Eichholzweg 7\, 86754 Laub
SUMMARY:2.Liga NORD  Gruppe Schwarz: DC Laub 1 vs. SV Wörnitzstein-Berg 1 
 (Sportheim Laub)
CLASS:PUBLIC
DTSTAMP:20260419T145439Z
END:VEVENT
BEGIN:VEVENT
UID:69e4d08f32adf
DTSTART:20200310T190000Z
SEQUENCE:0
TRANSP:OPAQUE
LOCATION:Pflastergasse 16\, 91781 Weißenburg
SUMMARY:2.Liga NORD  Gruppe Schwarz: O'Keys Bulls Weißenburg 3 vs. Bulls-E
 ye Darter Deisenhofen 3 (O'Keys)
CLASS:PUBLIC
DTSTAMP:20260419T145439Z
END:VEVENT
BEGIN:VEVENT
UID:69e4d08f32b30
DTSTART:20200311T190000Z
SEQUENCE:0
TRANSP:OPAQUE
LOCATION:Eichholzweg 7\, 86754 Laub
SUMMARY:2.Liga NORD  Gruppe Schwarz: DC Laub 1 vs. Bulls-Eye Darter Deisenh
 ofen 3 (Sportheim Laub)
CLASS:PUBLIC
DTSTAMP:20260419T145439Z
END:VEVENT
BEGIN:VEVENT
UID:69e4d08f32b7b
DTSTART:20200312T190000Z
SEQUENCE:0
TRANSP:OPAQUE
LOCATION:Wörnitzstraße 4\, 86609 Donauwörth-Wörnitzstein
SUMMARY:2.Liga NORD  Gruppe Schwarz: SV Wörnitzstein-Berg 1 vs. Steeldarte
 r Kühlenthal 2 (Sportheim SV Wörnitzstein-Berg)
CLASS:PUBLIC
DTSTAMP:20260419T145439Z
END:VEVENT
BEGIN:VEVENT
UID:69e4d08f32bc7
DTSTART:20200317T190000Z
SEQUENCE:0
TRANSP:OPAQUE
LOCATION:Hafenreutherstr. 5\, 86687 Altisheim
SUMMARY:2.Liga NORD  Gruppe Schwarz: AL D.C. vs. O'Keys Bulls Weißenburg 3
  (Schützenheim)
CLASS:PUBLIC
DTSTAMP:20260419T145439Z
END:VEVENT
BEGIN:VEVENT
UID:69e4d08f32c22
DTSTART:20200318T190000Z
SEQUENCE:0
TRANSP:OPAQUE
LOCATION:\,  
SUMMARY:2.Liga NORD  Gruppe Schwarz: BV Bergen vs. Firedarters Gosheim 2 ()
CLASS:PUBLIC
DTSTAMP:20260419T145439Z
END:VEVENT
BEGIN:VEVENT
UID:69e4d08f32db3
DTSTART:20200330T180000Z
SEQUENCE:0
TRANSP:OPAQUE
LOCATION:Schlossplatz 2\, 86685 Huisheim OT Gosheim
SUMMARY:2.Liga NORD  Gruppe Schwarz: Firedarters Gosheim 2 vs. O'Keys Bulls
  Weißenburg 3 (Dartstempel Gosheim)
CLASS:PUBLIC
DTSTAMP:20260419T145439Z
END:VEVENT
BEGIN:VEVENT
UID:69e4d08f32e08
DTSTART:20200331T180000Z
SEQUENCE:0
TRANSP:OPAQUE
LOCATION:Hafenreutherstr. 5\, 86687 Altisheim
SUMMARY:2.Liga NORD  Gruppe Schwarz: AL D.C. vs. Steeldarter Kühlenthal 3 
 (Schützenheim)
CLASS:PUBLIC
DTSTAMP:20260419T145439Z
END:VEVENT
BEGIN:VEVENT
UID:69e4d08f32e54
DTSTART:20200401T180000Z
SEQUENCE:0
TRANSP:OPAQUE
LOCATION:Wörnitzstraße 4\, 86609 Donauwörth-Wörnitzstein
SUMMARY:2.Liga NORD  Gruppe Schwarz: SV Wörnitzstein-Berg 1 vs. Bulls-Eye 
 Darter Deisenhofen 3 (Sportheim SV Wörnitzstein-Berg)
CLASS:PUBLIC
DTSTAMP:20260419T145439Z
END:VEVENT
BEGIN:VEVENT
UID:69e4d08f32ea1
DTSTART:20200401T180000Z
SEQUENCE:0
TRANSP:OPAQUE
LOCATION:\,  
SUMMARY:2.Liga NORD  Gruppe Schwarz: BV Bergen vs. DC Laub 1 ()
CLASS:PUBLIC
DTSTAMP:20260419T145439Z
END:VEVENT
BEGIN:VEVENT
UID:69e4d08f33018
DTSTART:20200420T180000Z
SEQUENCE:0
TRANSP:OPAQUE
LOCATION:Schulstraße 6\, 89420 Höchstäd OT Deisenhofen
SUMMARY:2.Liga NORD  Gruppe Schwarz: Bulls-Eye Darter Deisenhofen 3 vs. AL 
 D.C. (Vereinsräume im 1. OG)
CLASS:PUBLIC
DTSTAMP:20260419T145439Z
END:VEVENT
BEGIN:VEVENT
UID:69e4d08f3306e
DTSTART:20200422T180000Z
SEQUENCE:0
TRANSP:OPAQUE
LOCATION:Pflastergasse 16\, 91781 Weißenburg
SUMMARY:2.Liga NORD  Gruppe Schwarz: O'Keys Bulls Weißenburg 3 vs. BV Berg
 en (O'Keys)
CLASS:PUBLIC
DTSTAMP:20260419T145439Z
END:VEVENT
BEGIN:VEVENT
UID:69e4d08f330bc
DTSTART:20200422T180000Z
SEQUENCE:0
TRANSP:OPAQUE
LOCATION:Wörnitzstraße 4\, 86609 Donauwörth-Wörnitzstein
SUMMARY:2.Liga NORD  Gruppe Schwarz: SV Wörnitzstein-Berg 1 vs. Steeldarte
 r Kühlenthal 3 (Sportheim SV Wörnitzstein-Berg)
CLASS:PUBLIC
DTSTAMP:20260419T145439Z
END:VEVENT
BEGIN:VEVENT
UID:69e4d08f33126
DTSTART:20200422T180000Z
SEQUENCE:0
TRANSP:OPAQUE
LOCATION:Am Sportplatz 3\, 86707 Kühlenthal
SUMMARY:2.Liga NORD  Gruppe Schwarz: Steeldarter Kühlenthal 2 vs. Firedart
 ers Gosheim 2 (Madhouse)
CLASS:PUBLIC
DTSTAMP:20260419T145439Z
END:VEVENT
BEGIN:VEVENT
UID:69e4d08f33178
DTSTART:20200504T180000Z
SEQUENCE:0
TRANSP:OPAQUE
LOCATION:Am Sportplatz 3\, 86707 Kühlenthal
SUMMARY:2.Liga NORD  Gruppe Schwarz: Steeldarter Kühlenthal 3 vs. O'Keys B
 ulls Weißenburg 3 (Madhouse)
CLASS:PUBLIC
DTSTAMP:20260419T145439Z
END:VEVENT
BEGIN:VEVENT
UID:69e4d08f331d7
DTSTART:20200504T180000Z
SEQUENCE:0
TRANSP:OPAQUE
LOCATION:Schulstraße 6\, 89420 Höchstäd OT Deisenhofen
SUMMARY:2.Liga NORD  Gruppe Schwarz: Bulls-Eye Darter Deisenhofen 3 vs. Fir
 edarters Gosheim 2 (Vereinsräume im 1. OG)
CLASS:PUBLIC
DTSTAMP:20260419T145439Z
END:VEVENT
BEGIN:VEVENT
UID:69e4d08f33223
DTSTART:20200506T180000Z
SEQUENCE:0
TRANSP:OPAQUE
LOCATION:\,  
SUMMARY:2.Liga NORD  Gruppe Schwarz: BV Bergen vs. AL D.C. ()
CLASS:PUBLIC
DTSTAMP:20260419T145439Z
END:VEVENT
BEGIN:VEVENT
UID:69e4d08f333ac
DTSTART:20200506T180000Z
SEQUENCE:0
TRANSP:OPAQUE
LOCATION:Eichholzweg 7\, 86754 Laub
SUMMARY:2.Liga NORD  Gruppe Schwarz: DC Laub 1 vs. Steeldarter Kühlenthal 
 2 (Sportheim Laub)
CLASS:PUBLIC
DTSTAMP:20260419T145439Z
END:VEVENT
BEGIN:VEVENT
UID:69e4d08f33405
DTSTART:20200513T180000Z
SEQUENCE:0
TRANSP:OPAQUE
LOCATION:Schlossplatz 2\, 86685 Huisheim OT Gosheim
SUMMARY:2.Liga NORD  Gruppe Schwarz: Firedarters Gosheim 2 vs. Steeldarter 
 Kühlenthal 3 (Dartstempel Gosheim)
CLASS:PUBLIC
DTSTAMP:20260419T145439Z
END:VEVENT
BEGIN:VEVENT
UID:69e4d08f33452
DTSTART:20200513T180000Z
SEQUENCE:0
TRANSP:OPAQUE
LOCATION:Pflastergasse 16\, 91781 Weißenburg
SUMMARY:2.Liga NORD  Gruppe Schwarz: O'Keys Bulls Weißenburg 3 vs. SV Wör
 nitzstein-Berg 1 (O'Keys)
CLASS:PUBLIC
DTSTAMP:20260419T145439Z
END:VEVENT
BEGIN:VEVENT
UID:69e4d08f334ac
DTSTART:20200513T180000Z
SEQUENCE:0
TRANSP:OPAQUE
LOCATION:Eichholzweg 7\, 86754 Laub
SUMMARY:2.Liga NORD  Gruppe Schwarz: DC Laub 1 vs. AL D.C. (Sportheim Laub)
CLASS:PUBLIC
DTSTAMP:20260419T145439Z
END:VEVENT
BEGIN:VEVENT
UID:69e4d08f334f8
DTSTART:20200513T180000Z
SEQUENCE:0
TRANSP:OPAQUE
LOCATION:Schulstraße 6\, 89420 Höchstäd OT Deisenhofen
SUMMARY:2.Liga NORD  Gruppe Schwarz: Bulls-Eye Darter Deisenhofen 3 vs. Ste
 eldarter Kühlenthal 2 (Vereinsräume im 1. OG)
CLASS:PUBLIC
DTSTAMP:20260419T145439Z
END:VEVENT
END:VCALENDAR