BEGIN:VCALENDAR
VERSION:2.0
PRODID:NSDV - Nordschwäbischer Dartverband e. V.
BEGIN:VEVENT
UID:69e51600df131
DTSTART:20190910T180000Z
SEQUENCE:0
TRANSP:OPAQUE
LOCATION:Schulstraße 6\, 89420 Höchstäd OT Deisenhofen
SUMMARY:2.Liga NORD Gruppe Weiß: Bulls-Eye Darter Deisenhofen 2 vs. Bulls-
 Eye Darter Deisenhofen 1 (Vereinsräume im 1. OG)
CLASS:PUBLIC
DTSTAMP:20260419T195056Z
END:VEVENT
BEGIN:VEVENT
UID:69e51600df716
DTSTART:20190910T180000Z
SEQUENCE:0
TRANSP:OPAQUE
LOCATION:Erzbischof Schreiber Weg 12\, 86657 Bissingen
SUMMARY:2.Liga NORD Gruppe Weiß: Steeldarter Bissingen 2 vs. Steeldarter K
 ühlenthal 4 (Sportheim Bissingen)
CLASS:PUBLIC
DTSTAMP:20260419T195056Z
END:VEVENT
BEGIN:VEVENT
UID:69e51600df847
DTSTART:20190910T180000Z
SEQUENCE:0
TRANSP:OPAQUE
LOCATION:Schlossplatz 2\, 86685 Huisheim OT Gosheim
SUMMARY:2.Liga NORD Gruppe Weiß: Firedarters Gosheim 3 vs. SV Wörnitzstei
 n-Berg 2 (Dartstempel Gosheim)
CLASS:PUBLIC
DTSTAMP:20260419T195056Z
END:VEVENT
BEGIN:VEVENT
UID:69e51600df955
DTSTART:20190911T170000Z
SEQUENCE:0
TRANSP:OPAQUE
LOCATION:Auenweg 7\, 86698 Eggelstetten / Oberndorf am Lech
SUMMARY:2.Liga NORD Gruppe Weiß: Dscheina Darter Donauwörth 2 vs. Dart-Fr
 eunde Tagmersheim (Vereinsheim SV Eggelstetten)
CLASS:PUBLIC
DTSTAMP:20260419T195056Z
END:VEVENT
BEGIN:VEVENT
UID:69e51600dfa5a
DTSTART:20190923T180000Z
SEQUENCE:0
TRANSP:OPAQUE
LOCATION:Ernst-Graf-von-Moy-Platz 5\, 86704 Tagmersheim
SUMMARY:2.Liga NORD Gruppe Weiß: Dart-Freunde Tagmersheim vs. Firedarters 
 Gosheim 3 (Schützenheim Tagmersheim)
CLASS:PUBLIC
DTSTAMP:20260419T195056Z
END:VEVENT
BEGIN:VEVENT
UID:69e51600dfb58
DTSTART:20190924T180000Z
SEQUENCE:0
TRANSP:OPAQUE
LOCATION:Eichholzweg 7\, 86754 Laub
SUMMARY:2.Liga NORD Gruppe Weiß: DC Laub 2 vs. Dscheina Darter Donauwörth
  2 (Sportheim Laub)
CLASS:PUBLIC
DTSTAMP:20260419T195056Z
END:VEVENT
BEGIN:VEVENT
UID:69e51600dfc50
DTSTART:20190925T180000Z
SEQUENCE:0
TRANSP:OPAQUE
LOCATION:Schulstraße 6\, 89420 Höchstäd OT Deisenhofen
SUMMARY:2.Liga NORD Gruppe Weiß: Bulls-Eye Darter Deisenhofen 1 vs. Steeld
 arter Bissingen 2 (Vereinsräume im 1. OG)
CLASS:PUBLIC
DTSTAMP:20260419T195056Z
END:VEVENT
BEGIN:VEVENT
UID:69e51600dfc69
DTSTART:20190930T180000Z
SEQUENCE:0
TRANSP:OPAQUE
LOCATION:Am Sportplatz 3\, 86707 Kühlenthal
SUMMARY:2.Liga NORD Gruppe Weiß: Steeldarter Kühlenthal 4 vs. Bulls-Eye D
 arter Deisenhofen 2 (Madhouse)
CLASS:PUBLIC
DTSTAMP:20260419T195056Z
END:VEVENT
BEGIN:VEVENT
UID:69e51600dfd55
DTSTART:20191009T180000Z
SEQUENCE:0
TRANSP:OPAQUE
LOCATION:Auenweg 7\, 86698 Eggelstetten / Oberndorf am Lech
SUMMARY:2.Liga NORD Gruppe Weiß: Dscheina Darter Donauwörth 2 vs. Bulls-E
 ye Darter Deisenhofen 2 (Vereinsheim SV Eggelstetten)
CLASS:PUBLIC
DTSTAMP:20260419T195056Z
END:VEVENT
BEGIN:VEVENT
UID:69e51600dfd6d
DTSTART:20191009T180000Z
SEQUENCE:0
TRANSP:OPAQUE
LOCATION:Wörnitzstraße 4\, 86609 Donauwörth-Wörnitzstein
SUMMARY:2.Liga NORD Gruppe Weiß: SV Wörnitzstein-Berg 2 vs. Dart-Freunde 
 Tagmersheim (Sportheim SV Wörnitzstein-Berg)
CLASS:PUBLIC
DTSTAMP:20260419T195056Z
END:VEVENT
BEGIN:VEVENT
UID:69e51600dfe46
DTSTART:20191009T180000Z
SEQUENCE:0
TRANSP:OPAQUE
LOCATION:Schulstraße 6\, 89420 Höchstäd OT Deisenhofen
SUMMARY:2.Liga NORD Gruppe Weiß: Bulls-Eye Darter Deisenhofen 1 vs. DC Lau
 b 2 (Vereinsräume im 1. OG)
CLASS:PUBLIC
DTSTAMP:20260419T195056Z
END:VEVENT
BEGIN:VEVENT
UID:69e51600dfe5e
DTSTART:20191012T180000Z
SEQUENCE:0
TRANSP:OPAQUE
LOCATION:Erzbischof Schreiber Weg 12\, 86657 Bissingen
SUMMARY:2.Liga NORD Gruppe Weiß: Steeldarter Bissingen 2 vs. Firedarters G
 osheim 3 (Sportheim Bissingen)
CLASS:PUBLIC
DTSTAMP:20260419T195056Z
END:VEVENT
BEGIN:VEVENT
UID:69e51600dfe76
DTSTART:20191021T180000Z
SEQUENCE:0
TRANSP:OPAQUE
LOCATION:Schlossplatz 2\, 86685 Huisheim OT Gosheim
SUMMARY:2.Liga NORD Gruppe Weiß: Firedarters Gosheim 3 vs. Dscheina Darter
  Donauwörth 2 (Dartstempel Gosheim)
CLASS:PUBLIC
DTSTAMP:20260419T195056Z
END:VEVENT
BEGIN:VEVENT
UID:69e51600dfe8b
DTSTART:20191022T180000Z
SEQUENCE:0
TRANSP:OPAQUE
LOCATION:Eichholzweg 7\, 86754 Laub
SUMMARY:2.Liga NORD Gruppe Weiß: DC Laub 2 vs. Steeldarter Bissingen 2 (Sp
 ortheim Laub)
CLASS:PUBLIC
DTSTAMP:20260419T195056Z
END:VEVENT
BEGIN:VEVENT
UID:69e51600dfea0
DTSTART:20191022T180000Z
SEQUENCE:0
TRANSP:OPAQUE
LOCATION:Schulstraße 6\, 89420 Höchstäd OT Deisenhofen
SUMMARY:2.Liga NORD Gruppe Weiß: Bulls-Eye Darter Deisenhofen 2 vs. Dart-F
 reunde Tagmersheim (Vereinsräume im 1. OG)
CLASS:PUBLIC
DTSTAMP:20260419T195056Z
END:VEVENT
BEGIN:VEVENT
UID:69e51600dfeb8
DTSTART:20191030T190000Z
SEQUENCE:0
TRANSP:OPAQUE
LOCATION:Am Sportplatz 3\, 86707 Kühlenthal
SUMMARY:2.Liga NORD Gruppe Weiß: Steeldarter Kühlenthal 4 vs. SV Wörnitz
 stein-Berg 2 (Madhouse)
CLASS:PUBLIC
DTSTAMP:20260419T195056Z
END:VEVENT
BEGIN:VEVENT
UID:69e51600dfecf
DTSTART:20191104T190000Z
SEQUENCE:0
TRANSP:OPAQUE
LOCATION:Am Sportplatz 3\, 86707 Kühlenthal
SUMMARY:2.Liga NORD Gruppe Weiß: Steeldarter Kühlenthal 4 vs. Firedarters
  Gosheim 3 (Madhouse)
CLASS:PUBLIC
DTSTAMP:20260419T195056Z
END:VEVENT
BEGIN:VEVENT
UID:69e51600dfee5
DTSTART:20191105T190000Z
SEQUENCE:0
TRANSP:OPAQUE
LOCATION:Erzbischof Schreiber Weg 12\, 86657 Bissingen
SUMMARY:2.Liga NORD Gruppe Weiß: Steeldarter Bissingen 2 vs. Dscheina Dart
 er Donauwörth 2 (Sportheim Bissingen)
CLASS:PUBLIC
DTSTAMP:20260419T195056Z
END:VEVENT
BEGIN:VEVENT
UID:69e51600dfef9
DTSTART:20191105T190000Z
SEQUENCE:0
TRANSP:OPAQUE
LOCATION:Eichholzweg 7\, 86754 Laub
SUMMARY:2.Liga NORD Gruppe Weiß: DC Laub 2 vs. Dart-Freunde Tagmersheim (S
 portheim Laub)
CLASS:PUBLIC
DTSTAMP:20260419T195056Z
END:VEVENT
BEGIN:VEVENT
UID:69e51600dff0e
DTSTART:20191106T190000Z
SEQUENCE:0
TRANSP:OPAQUE
LOCATION:Schulstraße 6\, 89420 Höchstäd OT Deisenhofen
SUMMARY:2.Liga NORD Gruppe Weiß: Bulls-Eye Darter Deisenhofen 1 vs. SV Wö
 rnitzstein-Berg 2 (Vereinsräume im 1. OG)
CLASS:PUBLIC
DTSTAMP:20260419T195056Z
END:VEVENT
BEGIN:VEVENT
UID:69e51600dff25
DTSTART:20191118T190000Z
SEQUENCE:0
TRANSP:OPAQUE
LOCATION:Ernst-Graf-von-Moy-Platz 5\, 86704 Tagmersheim
SUMMARY:2.Liga NORD Gruppe Weiß: Dart-Freunde Tagmersheim vs. Steeldarter 
 Bissingen 2 (Schützenheim Tagmersheim)
CLASS:PUBLIC
DTSTAMP:20260419T195056Z
END:VEVENT
BEGIN:VEVENT
UID:69e51600dff3b
DTSTART:20191119T190000Z
SEQUENCE:0
TRANSP:OPAQUE
LOCATION:Eichholzweg 7\, 86754 Laub
SUMMARY:2.Liga NORD Gruppe Weiß: DC Laub 2 vs. Steeldarter Kühlenthal 4 (
 Sportheim Laub)
CLASS:PUBLIC
DTSTAMP:20260419T195056Z
END:VEVENT
BEGIN:VEVENT
UID:69e51600dff50
DTSTART:20191119T190000Z
SEQUENCE:0
TRANSP:OPAQUE
LOCATION:Auenweg 7\, 86698 Eggelstetten / Oberndorf am Lech
SUMMARY:2.Liga NORD Gruppe Weiß: Dscheina Darter Donauwörth 2 vs. Bulls-E
 ye Darter Deisenhofen 1 (Vereinsheim SV Eggelstetten)
CLASS:PUBLIC
DTSTAMP:20260419T195056Z
END:VEVENT
BEGIN:VEVENT
UID:69e51600dff65
DTSTART:20191121T190000Z
SEQUENCE:0
TRANSP:OPAQUE
LOCATION:Wörnitzstraße 4\, 86609 Donauwörth-Wörnitzstein
SUMMARY:2.Liga NORD Gruppe Weiß: SV Wörnitzstein-Berg 2 vs. Bulls-Eye Dar
 ter Deisenhofen 2 (Sportheim SV Wörnitzstein-Berg)
CLASS:PUBLIC
DTSTAMP:20260419T195056Z
END:VEVENT
BEGIN:VEVENT
UID:69e51600dff7b
DTSTART:20191202T190000Z
SEQUENCE:0
TRANSP:OPAQUE
LOCATION:Ernst-Graf-von-Moy-Platz 5\, 86704 Tagmersheim
SUMMARY:2.Liga NORD Gruppe Weiß: Dart-Freunde Tagmersheim vs. Steeldarter 
 Kühlenthal 4 (Schützenheim Tagmersheim)
CLASS:PUBLIC
DTSTAMP:20260419T195056Z
END:VEVENT
BEGIN:VEVENT
UID:69e51600dff90
DTSTART:20191203T190000Z
SEQUENCE:0
TRANSP:OPAQUE
LOCATION:Schulstraße 6\, 89420 Höchstäd OT Deisenhofen
SUMMARY:2.Liga NORD Gruppe Weiß: Bulls-Eye Darter Deisenhofen 2 vs. DC Lau
 b 2 (Vereinsräume im 1. OG)
CLASS:PUBLIC
DTSTAMP:20260419T195056Z
END:VEVENT
BEGIN:VEVENT
UID:69e51600dffa5
DTSTART:20191204T190000Z
SEQUENCE:0
TRANSP:OPAQUE
LOCATION:Wörnitzstraße 4\, 86609 Donauwörth-Wörnitzstein
SUMMARY:2.Liga NORD Gruppe Weiß: SV Wörnitzstein-Berg 2 vs. Steeldarter B
 issingen 2 (Sportheim SV Wörnitzstein-Berg)
CLASS:PUBLIC
DTSTAMP:20260419T195056Z
END:VEVENT
BEGIN:VEVENT
UID:69e51600dffba
DTSTART:20191204T190000Z
SEQUENCE:0
TRANSP:OPAQUE
LOCATION:Schulstraße 6\, 89420 Höchstäd OT Deisenhofen
SUMMARY:2.Liga NORD Gruppe Weiß: Bulls-Eye Darter Deisenhofen 1 vs. Fireda
 rters Gosheim 3 (Vereinsräume im 1. OG)
CLASS:PUBLIC
DTSTAMP:20260419T195056Z
END:VEVENT
BEGIN:VEVENT
UID:69e51600dffd1
DTSTART:20191216T190000Z
SEQUENCE:0
TRANSP:OPAQUE
LOCATION:Am Sportplatz 3\, 86707 Kühlenthal
SUMMARY:2.Liga NORD Gruppe Weiß: Steeldarter Kühlenthal 4 vs. Dscheina Da
 rter Donauwörth 2 (Madhouse)
CLASS:PUBLIC
DTSTAMP:20260419T195056Z
END:VEVENT
BEGIN:VEVENT
UID:69e51600dffe5
DTSTART:20191216T190000Z
SEQUENCE:0
TRANSP:OPAQUE
LOCATION:Ernst-Graf-von-Moy-Platz 5\, 86704 Tagmersheim
SUMMARY:2.Liga NORD Gruppe Weiß: Dart-Freunde Tagmersheim vs. Bulls-Eye Da
 rter Deisenhofen 1 (Schützenheim Tagmersheim)
CLASS:PUBLIC
DTSTAMP:20260419T195056Z
END:VEVENT
BEGIN:VEVENT
UID:69e51600dfffa
DTSTART:20191217T190000Z
SEQUENCE:0
TRANSP:OPAQUE
LOCATION:Schulstraße 6\, 89420 Höchstäd OT Deisenhofen
SUMMARY:2.Liga NORD Gruppe Weiß: Bulls-Eye Darter Deisenhofen 2 vs. Fireda
 rters Gosheim 3 (Vereinsräume im 1. OG)
CLASS:PUBLIC
DTSTAMP:20260419T195056Z
END:VEVENT
BEGIN:VEVENT
UID:69e51600e0018
DTSTART:20191218T190000Z
SEQUENCE:0
TRANSP:OPAQUE
LOCATION:Wörnitzstraße 4\, 86609 Donauwörth-Wörnitzstein
SUMMARY:2.Liga NORD Gruppe Weiß: SV Wörnitzstein-Berg 2 vs. DC Laub 2 (Sp
 ortheim SV Wörnitzstein-Berg)
CLASS:PUBLIC
DTSTAMP:20260419T195056Z
END:VEVENT
BEGIN:VEVENT
UID:69e51600e002f
DTSTART:20200113T190000Z
SEQUENCE:0
TRANSP:OPAQUE
LOCATION:Schlossplatz 2\, 86685 Huisheim OT Gosheim
SUMMARY:2.Liga NORD Gruppe Weiß: Firedarters Gosheim 3 vs. DC Laub 2 (Dart
 stempel Gosheim)
CLASS:PUBLIC
DTSTAMP:20260419T195056Z
END:VEVENT
BEGIN:VEVENT
UID:69e51600e0044
DTSTART:20200114T190000Z
SEQUENCE:0
TRANSP:OPAQUE
LOCATION:Schulstraße 6\, 89420 Höchstäd OT Deisenhofen
SUMMARY:2.Liga NORD Gruppe Weiß: Bulls-Eye Darter Deisenhofen 2 vs. Steeld
 arter Bissingen 2 (Vereinsräume im 1. OG)
CLASS:PUBLIC
DTSTAMP:20260419T195056Z
END:VEVENT
BEGIN:VEVENT
UID:69e51600e0059
DTSTART:20200115T190000Z
SEQUENCE:0
TRANSP:OPAQUE
LOCATION:Auenweg 7\, 86698 Eggelstetten / Oberndorf am Lech
SUMMARY:2.Liga NORD Gruppe Weiß: Dscheina Darter Donauwörth 2 vs. SV Wör
 nitzstein-Berg 2 (Vereinsheim SV Eggelstetten)
CLASS:PUBLIC
DTSTAMP:20260419T195056Z
END:VEVENT
BEGIN:VEVENT
UID:69e51600e006e
DTSTART:20200115T190000Z
SEQUENCE:0
TRANSP:OPAQUE
LOCATION:Schulstraße 6\, 89420 Höchstäd OT Deisenhofen
SUMMARY:2.Liga NORD Gruppe Weiß: Bulls-Eye Darter Deisenhofen 1 vs. Steeld
 arter Kühlenthal 4 (Vereinsräume im 1. OG)
CLASS:PUBLIC
DTSTAMP:20260419T195056Z
END:VEVENT
BEGIN:VEVENT
UID:69e51600e0085
DTSTART:20200127T190000Z
SEQUENCE:0
TRANSP:OPAQUE
LOCATION:Am Sportplatz 3\, 86707 Kühlenthal
SUMMARY:2.Liga NORD Gruppe Weiß: Steeldarter Kühlenthal 4 vs. Steeldarter
  Bissingen 2 (Madhouse)
CLASS:PUBLIC
DTSTAMP:20260419T195056Z
END:VEVENT
BEGIN:VEVENT
UID:69e51600e009a
DTSTART:20200127T190000Z
SEQUENCE:0
TRANSP:OPAQUE
LOCATION:Ernst-Graf-von-Moy-Platz 5\, 86704 Tagmersheim
SUMMARY:2.Liga NORD Gruppe Weiß: Dart-Freunde Tagmersheim vs. Dscheina Dar
 ter Donauwörth 2 (Schützenheim Tagmersheim)
CLASS:PUBLIC
DTSTAMP:20260419T195056Z
END:VEVENT
BEGIN:VEVENT
UID:69e51600e00ae
DTSTART:20200129T190000Z
SEQUENCE:0
TRANSP:OPAQUE
LOCATION:Schulstraße 6\, 89420 Höchstäd OT Deisenhofen
SUMMARY:2.Liga NORD Gruppe Weiß: Bulls-Eye Darter Deisenhofen 1 vs. Bulls-
 Eye Darter Deisenhofen 2 (Vereinsräume im 1. OG)
CLASS:PUBLIC
DTSTAMP:20260419T195056Z
END:VEVENT
BEGIN:VEVENT
UID:69e51600e00c3
DTSTART:20200129T190000Z
SEQUENCE:0
TRANSP:OPAQUE
LOCATION:Wörnitzstraße 4\, 86609 Donauwörth-Wörnitzstein
SUMMARY:2.Liga NORD Gruppe Weiß: SV Wörnitzstein-Berg 2 vs. Firedarters G
 osheim 3 (Sportheim SV Wörnitzstein-Berg)
CLASS:PUBLIC
DTSTAMP:20260419T195056Z
END:VEVENT
BEGIN:VEVENT
UID:69e51600e00da
DTSTART:20200210T190000Z
SEQUENCE:0
TRANSP:OPAQUE
LOCATION:Schlossplatz 2\, 86685 Huisheim OT Gosheim
SUMMARY:2.Liga NORD Gruppe Weiß: Firedarters Gosheim 3 vs. Dart-Freunde Ta
 gmersheim (Dartstempel Gosheim)
CLASS:PUBLIC
DTSTAMP:20260419T195056Z
END:VEVENT
BEGIN:VEVENT
UID:69e51600e00ef
DTSTART:20200211T190000Z
SEQUENCE:0
TRANSP:OPAQUE
LOCATION:Erzbischof Schreiber Weg 12\, 86657 Bissingen
SUMMARY:2.Liga NORD Gruppe Weiß: Steeldarter Bissingen 2 vs. Bulls-Eye Dar
 ter Deisenhofen 1 (Sportheim Bissingen)
CLASS:PUBLIC
DTSTAMP:20260419T195056Z
END:VEVENT
BEGIN:VEVENT
UID:69e51600e0104
DTSTART:20200211T190000Z
SEQUENCE:0
TRANSP:OPAQUE
LOCATION:Schulstraße 6\, 89420 Höchstäd OT Deisenhofen
SUMMARY:2.Liga NORD Gruppe Weiß: Bulls-Eye Darter Deisenhofen 2 vs. Steeld
 arter Kühlenthal 4 (Vereinsräume im 1. OG)
CLASS:PUBLIC
DTSTAMP:20260419T195056Z
END:VEVENT
BEGIN:VEVENT
UID:69e51600e0118
DTSTART:20200212T190000Z
SEQUENCE:0
TRANSP:OPAQUE
LOCATION:Auenweg 7\, 86698 Eggelstetten / Oberndorf am Lech
SUMMARY:2.Liga NORD Gruppe Weiß: Dscheina Darter Donauwörth 2 vs. DC Laub
  2 (Vereinsheim SV Eggelstetten)
CLASS:PUBLIC
DTSTAMP:20260419T195056Z
END:VEVENT
BEGIN:VEVENT
UID:69e51600e012f
DTSTART:20200217T190000Z
SEQUENCE:0
TRANSP:OPAQUE
LOCATION:Schlossplatz 2\, 86685 Huisheim OT Gosheim
SUMMARY:2.Liga NORD Gruppe Weiß: Firedarters Gosheim 3 vs. Steeldarter Bis
 singen 2 (Dartstempel Gosheim)
CLASS:PUBLIC
DTSTAMP:20260419T195056Z
END:VEVENT
BEGIN:VEVENT
UID:69e51600e0144
DTSTART:20200217T190000Z
SEQUENCE:0
TRANSP:OPAQUE
LOCATION:Ernst-Graf-von-Moy-Platz 5\, 86704 Tagmersheim
SUMMARY:2.Liga NORD Gruppe Weiß: Dart-Freunde Tagmersheim vs. SV Wörnitzs
 tein-Berg 2 (Schützenheim Tagmersheim)
CLASS:PUBLIC
DTSTAMP:20260419T195056Z
END:VEVENT
BEGIN:VEVENT
UID:69e51600e0159
DTSTART:20200218T190000Z
SEQUENCE:0
TRANSP:OPAQUE
LOCATION:Schulstraße 6\, 89420 Höchstäd OT Deisenhofen
SUMMARY:2.Liga NORD Gruppe Weiß: Bulls-Eye Darter Deisenhofen 2 vs. Dschei
 na Darter Donauwörth 2 (Vereinsräume im 1. OG)
CLASS:PUBLIC
DTSTAMP:20260419T195056Z
END:VEVENT
BEGIN:VEVENT
UID:69e51600e016e
DTSTART:20200218T190000Z
SEQUENCE:0
TRANSP:OPAQUE
LOCATION:Eichholzweg 7\, 86754 Laub
SUMMARY:2.Liga NORD Gruppe Weiß: DC Laub 2 vs. Bulls-Eye Darter Deisenhofe
 n 1 (Sportheim Laub)
CLASS:PUBLIC
DTSTAMP:20260419T195056Z
END:VEVENT
BEGIN:VEVENT
UID:69e51600e0184
DTSTART:20200302T190000Z
SEQUENCE:0
TRANSP:OPAQUE
LOCATION:Ernst-Graf-von-Moy-Platz 5\, 86704 Tagmersheim
SUMMARY:2.Liga NORD Gruppe Weiß: Dart-Freunde Tagmersheim vs. Bulls-Eye Da
 rter Deisenhofen 2 (Schützenheim Tagmersheim)
CLASS:PUBLIC
DTSTAMP:20260419T195056Z
END:VEVENT
BEGIN:VEVENT
UID:69e51600e0199
DTSTART:20200303T190000Z
SEQUENCE:0
TRANSP:OPAQUE
LOCATION:Erzbischof Schreiber Weg 12\, 86657 Bissingen
SUMMARY:2.Liga NORD Gruppe Weiß: Steeldarter Bissingen 2 vs. DC Laub 2 (Sp
 ortheim Bissingen)
CLASS:PUBLIC
DTSTAMP:20260419T195056Z
END:VEVENT
BEGIN:VEVENT
UID:69e51600e01ad
DTSTART:20200304T190000Z
SEQUENCE:0
TRANSP:OPAQUE
LOCATION:Auenweg 7\, 86698 Eggelstetten / Oberndorf am Lech
SUMMARY:2.Liga NORD Gruppe Weiß: Dscheina Darter Donauwörth 2 vs. Firedar
 ters Gosheim 3 (Vereinsheim SV Eggelstetten)
CLASS:PUBLIC
DTSTAMP:20260419T195056Z
END:VEVENT
BEGIN:VEVENT
UID:69e51600e01c2
DTSTART:20200304T190000Z
SEQUENCE:0
TRANSP:OPAQUE
LOCATION:Wörnitzstraße 4\, 86609 Donauwörth-Wörnitzstein
SUMMARY:2.Liga NORD Gruppe Weiß: SV Wörnitzstein-Berg 2 vs. Steeldarter K
 ühlenthal 4 (Sportheim SV Wörnitzstein-Berg)
CLASS:PUBLIC
DTSTAMP:20260419T195056Z
END:VEVENT
BEGIN:VEVENT
UID:69e51600e01d9
DTSTART:20200316T190000Z
SEQUENCE:0
TRANSP:OPAQUE
LOCATION:Schlossplatz 2\, 86685 Huisheim OT Gosheim
SUMMARY:2.Liga NORD Gruppe Weiß: Firedarters Gosheim 3 vs. Steeldarter Kü
 hlenthal 4 (Dartstempel Gosheim)
CLASS:PUBLIC
DTSTAMP:20260419T195056Z
END:VEVENT
BEGIN:VEVENT
UID:69e51600e01ee
DTSTART:20200316T190000Z
SEQUENCE:0
TRANSP:OPAQUE
LOCATION:Ernst-Graf-von-Moy-Platz 5\, 86704 Tagmersheim
SUMMARY:2.Liga NORD Gruppe Weiß: Dart-Freunde Tagmersheim vs. DC Laub 2 (S
 chützenheim Tagmersheim)
CLASS:PUBLIC
DTSTAMP:20260419T195056Z
END:VEVENT
BEGIN:VEVENT
UID:69e51600e020e
DTSTART:20200318T190000Z
SEQUENCE:0
TRANSP:OPAQUE
LOCATION:Auenweg 7\, 86698 Eggelstetten / Oberndorf am Lech
SUMMARY:2.Liga NORD Gruppe Weiß: Dscheina Darter Donauwörth 2 vs. Steelda
 rter Bissingen 2 (Vereinsheim SV Eggelstetten)
CLASS:PUBLIC
DTSTAMP:20260419T195056Z
END:VEVENT
BEGIN:VEVENT
UID:69e51600e0223
DTSTART:20200318T190000Z
SEQUENCE:0
TRANSP:OPAQUE
LOCATION:Wörnitzstraße 4\, 86609 Donauwörth-Wörnitzstein
SUMMARY:2.Liga NORD Gruppe Weiß: SV Wörnitzstein-Berg 2 vs. Bulls-Eye Dar
 ter Deisenhofen 1 (Sportheim SV Wörnitzstein-Berg)
CLASS:PUBLIC
DTSTAMP:20260419T195056Z
END:VEVENT
BEGIN:VEVENT
UID:69e51600e0239
DTSTART:20200330T180000Z
SEQUENCE:0
TRANSP:OPAQUE
LOCATION:Am Sportplatz 3\, 86707 Kühlenthal
SUMMARY:2.Liga NORD Gruppe Weiß: Steeldarter Kühlenthal 4 vs. DC Laub 2 (
 Madhouse)
CLASS:PUBLIC
DTSTAMP:20260419T195056Z
END:VEVENT
BEGIN:VEVENT
UID:69e51600e024e
DTSTART:20200331T180000Z
SEQUENCE:0
TRANSP:OPAQUE
LOCATION:Erzbischof Schreiber Weg 12\, 86657 Bissingen
SUMMARY:2.Liga NORD Gruppe Weiß: Steeldarter Bissingen 2 vs. Dart-Freunde 
 Tagmersheim (Sportheim Bissingen)
CLASS:PUBLIC
DTSTAMP:20260419T195056Z
END:VEVENT
BEGIN:VEVENT
UID:69e51600e0263
DTSTART:20200331T180000Z
SEQUENCE:0
TRANSP:OPAQUE
LOCATION:Schulstraße 6\, 89420 Höchstäd OT Deisenhofen
SUMMARY:2.Liga NORD Gruppe Weiß: Bulls-Eye Darter Deisenhofen 2 vs. SV Wö
 rnitzstein-Berg 2 (Vereinsräume im 1. OG)
CLASS:PUBLIC
DTSTAMP:20260419T195056Z
END:VEVENT
BEGIN:VEVENT
UID:69e51600e0278
DTSTART:20200401T180000Z
SEQUENCE:0
TRANSP:OPAQUE
LOCATION:Schulstraße 6\, 89420 Höchstäd OT Deisenhofen
SUMMARY:2.Liga NORD Gruppe Weiß: Bulls-Eye Darter Deisenhofen 1 vs. Dschei
 na Darter Donauwörth 2 (Vereinsräume im 1. OG)
CLASS:PUBLIC
DTSTAMP:20260419T195056Z
END:VEVENT
BEGIN:VEVENT
UID:69e51600e028e
DTSTART:20200420T180000Z
SEQUENCE:0
TRANSP:OPAQUE
LOCATION:Am Sportplatz 3\, 86707 Kühlenthal
SUMMARY:2.Liga NORD Gruppe Weiß: Steeldarter Kühlenthal 4 vs. Dart-Freund
 e Tagmersheim (Madhouse)
CLASS:PUBLIC
DTSTAMP:20260419T195056Z
END:VEVENT
BEGIN:VEVENT
UID:69e51600e02a3
DTSTART:20200420T180000Z
SEQUENCE:0
TRANSP:OPAQUE
LOCATION:Schlossplatz 2\, 86685 Huisheim OT Gosheim
SUMMARY:2.Liga NORD Gruppe Weiß: Firedarters Gosheim 3 vs. Bulls-Eye Darte
 r Deisenhofen 1 (Dartstempel Gosheim)
CLASS:PUBLIC
DTSTAMP:20260419T195056Z
END:VEVENT
BEGIN:VEVENT
UID:69e51600e02bb
DTSTART:20200421T180000Z
SEQUENCE:0
TRANSP:OPAQUE
LOCATION:Eichholzweg 7\, 86754 Laub
SUMMARY:2.Liga NORD Gruppe Weiß: DC Laub 2 vs. Bulls-Eye Darter Deisenhofe
 n 2 (Sportheim Laub)
CLASS:PUBLIC
DTSTAMP:20260419T195056Z
END:VEVENT
BEGIN:VEVENT
UID:69e51600e02d9
DTSTART:20200421T180000Z
SEQUENCE:0
TRANSP:OPAQUE
LOCATION:Erzbischof Schreiber Weg 12\, 86657 Bissingen
SUMMARY:2.Liga NORD Gruppe Weiß: Steeldarter Bissingen 2 vs. SV Wörnitzst
 ein-Berg 2 (Sportheim Bissingen)
CLASS:PUBLIC
DTSTAMP:20260419T195056Z
END:VEVENT
BEGIN:VEVENT
UID:69e51600e02f0
DTSTART:20200504T180000Z
SEQUENCE:0
TRANSP:OPAQUE
LOCATION:Schlossplatz 2\, 86685 Huisheim OT Gosheim
SUMMARY:2.Liga NORD Gruppe Weiß: Firedarters Gosheim 3 vs. Bulls-Eye Darte
 r Deisenhofen 2 (Dartstempel Gosheim)
CLASS:PUBLIC
DTSTAMP:20260419T195056Z
END:VEVENT
BEGIN:VEVENT
UID:69e51600e030c
DTSTART:20200505T180000Z
SEQUENCE:0
TRANSP:OPAQUE
LOCATION:Eichholzweg 7\, 86754 Laub
SUMMARY:2.Liga NORD Gruppe Weiß: DC Laub 2 vs. SV Wörnitzstein-Berg 2 (Sp
 ortheim Laub)
CLASS:PUBLIC
DTSTAMP:20260419T195056Z
END:VEVENT
BEGIN:VEVENT
UID:69e51600e0321
DTSTART:20200506T180000Z
SEQUENCE:0
TRANSP:OPAQUE
LOCATION:Auenweg 7\, 86698 Eggelstetten / Oberndorf am Lech
SUMMARY:2.Liga NORD Gruppe Weiß: Dscheina Darter Donauwörth 2 vs. Steelda
 rter Kühlenthal 4 (Vereinsheim SV Eggelstetten)
CLASS:PUBLIC
DTSTAMP:20260419T195056Z
END:VEVENT
BEGIN:VEVENT
UID:69e51600e0337
DTSTART:20200506T180000Z
SEQUENCE:0
TRANSP:OPAQUE
LOCATION:Schulstraße 6\, 89420 Höchstäd OT Deisenhofen
SUMMARY:2.Liga NORD Gruppe Weiß: Bulls-Eye Darter Deisenhofen 1 vs. Dart-F
 reunde Tagmersheim (Vereinsräume im 1. OG)
CLASS:PUBLIC
DTSTAMP:20260419T195056Z
END:VEVENT
BEGIN:VEVENT
UID:69e51600e034e
DTSTART:20200512T180000Z
SEQUENCE:0
TRANSP:OPAQUE
LOCATION:Am Sportplatz 3\, 86707 Kühlenthal
SUMMARY:2.Liga NORD Gruppe Weiß: Steeldarter Kühlenthal 4 vs. Bulls-Eye D
 arter Deisenhofen 1 (Madhouse)
CLASS:PUBLIC
DTSTAMP:20260419T195056Z
END:VEVENT
BEGIN:VEVENT
UID:69e51600e0362
DTSTART:20200512T180000Z
SEQUENCE:0
TRANSP:OPAQUE
LOCATION:Eichholzweg 7\, 86754 Laub
SUMMARY:2.Liga NORD Gruppe Weiß: DC Laub 2 vs. Firedarters Gosheim 3 (Spor
 theim Laub)
CLASS:PUBLIC
DTSTAMP:20260419T195056Z
END:VEVENT
BEGIN:VEVENT
UID:69e51600e037e
DTSTART:20200512T180000Z
SEQUENCE:0
TRANSP:OPAQUE
LOCATION:Erzbischof Schreiber Weg 12\, 86657 Bissingen
SUMMARY:2.Liga NORD Gruppe Weiß: Steeldarter Bissingen 2 vs. Bulls-Eye Dar
 ter Deisenhofen 2 (Sportheim Bissingen)
CLASS:PUBLIC
DTSTAMP:20260419T195056Z
END:VEVENT
BEGIN:VEVENT
UID:69e51600e0393
DTSTART:20200512T180000Z
SEQUENCE:0
TRANSP:OPAQUE
LOCATION:Wörnitzstraße 4\, 86609 Donauwörth-Wörnitzstein
SUMMARY:2.Liga NORD Gruppe Weiß: SV Wörnitzstein-Berg 2 vs. Dscheina Dart
 er Donauwörth 2 (Sportheim SV Wörnitzstein-Berg)
CLASS:PUBLIC
DTSTAMP:20260419T195056Z
END:VEVENT
END:VCALENDAR