BEGIN:VCALENDAR
VERSION:2.0
PRODID:NSDV - Nordschwäbischer Dartverband e. V.
BEGIN:VEVENT
UID:69e51a32e727e
DTSTART:20190910T180000Z
SEQUENCE:0
TRANSP:OPAQUE
LOCATION:Sportweg 6\, 86529 Schrobenhausen
SUMMARY:2.Liga SÜD Gruppe Schwarz: SV Steingriff 3 vs. SV Steingriff 4 (Sp
 ortgaststätte Liberty)
CLASS:PUBLIC
DTSTAMP:20260419T200850Z
END:VEVENT
BEGIN:VEVENT
UID:69e51a32e782e
DTSTART:20190910T180000Z
SEQUENCE:0
TRANSP:OPAQUE
LOCATION:Bismarckstraße 7\, 86159 Augsburg
SUMMARY:2.Liga SÜD Gruppe Schwarz: Clochard Darter Augsburg 3 vs. SpVgg We
 stheim (Bismarck Bistro)
CLASS:PUBLIC
DTSTAMP:20260419T200850Z
END:VEVENT
BEGIN:VEVENT
UID:69e51a32e793e
DTSTART:20190911T180000Z
SEQUENCE:0
TRANSP:OPAQUE
LOCATION:Ringstr. 9\, 86326 Friedberg
SUMMARY:2.Liga SÜD Gruppe Schwarz: DC Paar-Harthausen 1 vs. DC Paar-Hartha
 usen 2 (Zum Saustall)
CLASS:PUBLIC
DTSTAMP:20260419T200850Z
END:VEVENT
BEGIN:VEVENT
UID:69e51a32e7a2b
DTSTART:20191007T180000Z
SEQUENCE:0
TRANSP:OPAQUE
LOCATION:Hauptstraße 8\, 86853 Langerringen
SUMMARY:2.Liga SÜD Gruppe Schwarz: DC Schwabmünchen 2 vs. DJK Lechhausen 
 3 (Gasthof Deutsches Haus)
CLASS:PUBLIC
DTSTAMP:20260419T200850Z
END:VEVENT
BEGIN:VEVENT
UID:69e51a32e7b01
DTSTART:20191126T190000Z
SEQUENCE:0
TRANSP:OPAQUE
LOCATION:Georgenstr. 2\, 86152 Augsburg
SUMMARY:2.Liga SÜD Gruppe Schwarz: Power and Glory Augsburg vs. Schmutter 
 Dart Boyz Gablingen 2 (Oki's)
CLASS:PUBLIC
DTSTAMP:20260419T200850Z
END:VEVENT
BEGIN:VEVENT
UID:69e51a32e7be1
DTSTART:20190923T180000Z
SEQUENCE:0
TRANSP:OPAQUE
LOCATION:Kobelstraße 39\, 86356 Neusäß
SUMMARY:2.Liga SÜD Gruppe Schwarz: SpVgg Westheim vs. SV Steingriff 3 (Spo
 rtheim SpVgg Westheim)
CLASS:PUBLIC
DTSTAMP:20260419T200850Z
END:VEVENT
BEGIN:VEVENT
UID:69e51a32e7cba
DTSTART:20190924T180000Z
SEQUENCE:0
TRANSP:OPAQUE
LOCATION:Sportweg 6\, 86529 Schrobenhausen
SUMMARY:2.Liga SÜD Gruppe Schwarz: SV Steingriff 4 vs. Power and Glory Aug
 sburg (Sportgaststätte Liberty)
CLASS:PUBLIC
DTSTAMP:20260419T200850Z
END:VEVENT
BEGIN:VEVENT
UID:69e51a32e7cd6
DTSTART:20190925T180000Z
SEQUENCE:0
TRANSP:OPAQUE
LOCATION:Ringstr. 9\, 86326 Friedberg
SUMMARY:2.Liga SÜD Gruppe Schwarz: DC Paar-Harthausen 2 vs. DC Schwabmünc
 hen 2 (Zum Saustall)
CLASS:PUBLIC
DTSTAMP:20260419T200850Z
END:VEVENT
BEGIN:VEVENT
UID:69e51a32e7ced
DTSTART:20190925T180000Z
SEQUENCE:0
TRANSP:OPAQUE
LOCATION:Derchinger Str. 118 c\, 86165 Augsburg
SUMMARY:2.Liga SÜD Gruppe Schwarz: DJK Lechhausen 3 vs. Clochard Darter Au
 gsburg 3 (DJK Lechhausen Sporth. Fußball)
CLASS:PUBLIC
DTSTAMP:20260419T200850Z
END:VEVENT
BEGIN:VEVENT
UID:69e51a32e7db9
DTSTART:20191111T190000Z
SEQUENCE:0
TRANSP:OPAQUE
LOCATION:Gersthofer Straße 1\, 86456 Gablingen
SUMMARY:2.Liga SÜD Gruppe Schwarz: Schmutter Dart Boyz Gablingen 2 vs. DC 
 Paar-Harthausen 1 (Sportheim SV Gablingen)
CLASS:PUBLIC
DTSTAMP:20260419T200850Z
END:VEVENT
BEGIN:VEVENT
UID:69e51a32e7e84
DTSTART:20191007T180000Z
SEQUENCE:0
TRANSP:OPAQUE
LOCATION:Gersthofer Straße 1\, 86456 Gablingen
SUMMARY:2.Liga SÜD Gruppe Schwarz: Schmutter Dart Boyz Gablingen 2 vs. SV 
 Steingriff 4 (Sportheim SV Gablingen)
CLASS:PUBLIC
DTSTAMP:20260419T200850Z
END:VEVENT
BEGIN:VEVENT
UID:69e51a32e7e9c
DTSTART:20191008T180000Z
SEQUENCE:0
TRANSP:OPAQUE
LOCATION:Ringstr. 9\, 86326 Friedberg
SUMMARY:2.Liga SÜD Gruppe Schwarz: DC Paar-Harthausen 1 vs. DC Schwabmünc
 hen 2 (Zum Saustall)
CLASS:PUBLIC
DTSTAMP:20260419T200850Z
END:VEVENT
BEGIN:VEVENT
UID:69e51a32e7eb3
DTSTART:20191008T180000Z
SEQUENCE:0
TRANSP:OPAQUE
LOCATION:Bismarckstraße 7\, 86159 Augsburg
SUMMARY:2.Liga SÜD Gruppe Schwarz: Clochard Darter Augsburg 3 vs. DC Paar-
 Harthausen 2 (Bismarck Bistro)
CLASS:PUBLIC
DTSTAMP:20260419T200850Z
END:VEVENT
BEGIN:VEVENT
UID:69e51a32e7ec9
DTSTART:20191009T180000Z
SEQUENCE:0
TRANSP:OPAQUE
LOCATION:Georgenstr. 2\, 86152 Augsburg
SUMMARY:2.Liga SÜD Gruppe Schwarz: Power and Glory Augsburg vs. SpVgg West
 heim (Oki's)
CLASS:PUBLIC
DTSTAMP:20260419T200850Z
END:VEVENT
BEGIN:VEVENT
UID:69e51a32e7edf
DTSTART:20191009T180000Z
SEQUENCE:0
TRANSP:OPAQUE
LOCATION:Sportweg 6\, 86529 Schrobenhausen
SUMMARY:2.Liga SÜD Gruppe Schwarz: SV Steingriff 3 vs. DJK Lechhausen 3 (S
 portgaststätte Liberty)
CLASS:PUBLIC
DTSTAMP:20260419T200850Z
END:VEVENT
BEGIN:VEVENT
UID:69e51a32e7ef8
DTSTART:20191021T180000Z
SEQUENCE:0
TRANSP:OPAQUE
LOCATION:Kobelstraße 39\, 86356 Neusäß
SUMMARY:2.Liga SÜD Gruppe Schwarz: SpVgg Westheim vs. Schmutter Dart Boyz 
 Gablingen 2 (Sportheim SpVgg Westheim)
CLASS:PUBLIC
DTSTAMP:20260419T200850Z
END:VEVENT
BEGIN:VEVENT
UID:69e51a32e7f0f
DTSTART:20191022T180000Z
SEQUENCE:0
TRANSP:OPAQUE
LOCATION:Sportweg 6\, 86529 Schrobenhausen
SUMMARY:2.Liga SÜD Gruppe Schwarz: SV Steingriff 4 vs. DC Paar-Harthausen 
 1 (Sportgaststätte Liberty)
CLASS:PUBLIC
DTSTAMP:20260419T200850Z
END:VEVENT
BEGIN:VEVENT
UID:69e51a32e7f25
DTSTART:20191023T180000Z
SEQUENCE:0
TRANSP:OPAQUE
LOCATION:Derchinger Str. 118 c\, 86165 Augsburg
SUMMARY:2.Liga SÜD Gruppe Schwarz: DJK Lechhausen 3 vs. Power and Glory Au
 gsburg (DJK Lechhausen Sporth. Fußball)
CLASS:PUBLIC
DTSTAMP:20260419T200850Z
END:VEVENT
BEGIN:VEVENT
UID:69e51a32e7f3a
DTSTART:20191023T180000Z
SEQUENCE:0
TRANSP:OPAQUE
LOCATION:Hauptstraße 8\, 86853 Langerringen
SUMMARY:2.Liga SÜD Gruppe Schwarz: DC Schwabmünchen 2 vs. Clochard Darter
  Augsburg 3 (Gasthof Deutsches Haus)
CLASS:PUBLIC
DTSTAMP:20260419T200850Z
END:VEVENT
BEGIN:VEVENT
UID:69e51a32e7f50
DTSTART:20191023T180000Z
SEQUENCE:0
TRANSP:OPAQUE
LOCATION:Ringstr. 9\, 86326 Friedberg
SUMMARY:2.Liga SÜD Gruppe Schwarz: DC Paar-Harthausen 2 vs. SV Steingriff 
 3 (Zum Saustall)
CLASS:PUBLIC
DTSTAMP:20260419T200850Z
END:VEVENT
BEGIN:VEVENT
UID:69e51a32e7f65
DTSTART:20191104T190000Z
SEQUENCE:0
TRANSP:OPAQUE
LOCATION:Gersthofer Straße 1\, 86456 Gablingen
SUMMARY:2.Liga SÜD Gruppe Schwarz: Schmutter Dart Boyz Gablingen 2 vs. DJK
  Lechhausen 3 (Sportheim SV Gablingen)
CLASS:PUBLIC
DTSTAMP:20260419T200850Z
END:VEVENT
BEGIN:VEVENT
UID:69e51a32e7f7b
DTSTART:20191105T190000Z
SEQUENCE:0
TRANSP:OPAQUE
LOCATION:Sportweg 6\, 86529 Schrobenhausen
SUMMARY:2.Liga SÜD Gruppe Schwarz: SV Steingriff 3 vs. DC Schwabmünchen 2
  (Sportgaststätte Liberty)
CLASS:PUBLIC
DTSTAMP:20260419T200850Z
END:VEVENT
BEGIN:VEVENT
UID:69e51a32e7f90
DTSTART:20191106T190000Z
SEQUENCE:0
TRANSP:OPAQUE
LOCATION:Georgenstr. 2\, 86152 Augsburg
SUMMARY:2.Liga SÜD Gruppe Schwarz: Power and Glory Augsburg vs. DC Paar-Ha
 rthausen 2 (Oki's)
CLASS:PUBLIC
DTSTAMP:20260419T200850Z
END:VEVENT
BEGIN:VEVENT
UID:69e51a32e7fa6
DTSTART:20191106T190000Z
SEQUENCE:0
TRANSP:OPAQUE
LOCATION:Ringstr. 9\, 86326 Friedberg
SUMMARY:2.Liga SÜD Gruppe Schwarz: DC Paar-Harthausen 1 vs. Clochard Darte
 r Augsburg 3 (Zum Saustall)
CLASS:PUBLIC
DTSTAMP:20260419T200850Z
END:VEVENT
BEGIN:VEVENT
UID:69e51a32e7fbb
DTSTART:20191107T190000Z
SEQUENCE:0
TRANSP:OPAQUE
LOCATION:Sportweg 6\, 86529 Schrobenhausen
SUMMARY:2.Liga SÜD Gruppe Schwarz: SV Steingriff 4 vs. SpVgg Westheim (Spo
 rtgaststätte Liberty)
CLASS:PUBLIC
DTSTAMP:20260419T200850Z
END:VEVENT
BEGIN:VEVENT
UID:69e51a32e7fd2
DTSTART:20191118T190000Z
SEQUENCE:0
TRANSP:OPAQUE
LOCATION:Kobelstraße 39\, 86356 Neusäß
SUMMARY:2.Liga SÜD Gruppe Schwarz: SpVgg Westheim vs. DC Paar-Harthausen 1
  (Sportheim SpVgg Westheim)
CLASS:PUBLIC
DTSTAMP:20260419T200850Z
END:VEVENT
BEGIN:VEVENT
UID:69e51a32e7fe7
DTSTART:20191118T190000Z
SEQUENCE:0
TRANSP:OPAQUE
LOCATION:Bismarckstraße 7\, 86159 Augsburg
SUMMARY:2.Liga SÜD Gruppe Schwarz: Clochard Darter Augsburg 3 vs. SV Stein
 griff 3 (Bismarck Bistro)
CLASS:PUBLIC
DTSTAMP:20260419T200850Z
END:VEVENT
BEGIN:VEVENT
UID:69e51a32e7ffc
DTSTART:20191127T190000Z
SEQUENCE:0
TRANSP:OPAQUE
LOCATION:Derchinger Str. 118 c\, 86165 Augsburg
SUMMARY:2.Liga SÜD Gruppe Schwarz: DJK Lechhausen 3 vs. SV Steingriff 4 (D
 JK Lechhausen Sporth. Fußball)
CLASS:PUBLIC
DTSTAMP:20260419T200850Z
END:VEVENT
BEGIN:VEVENT
UID:69e51a32e8012
DTSTART:20191211T190000Z
SEQUENCE:0
TRANSP:OPAQUE
LOCATION:Ringstr. 9\, 86326 Friedberg
SUMMARY:2.Liga SÜD Gruppe Schwarz: DC Paar-Harthausen 2 vs. Schmutter Dart
  Boyz Gablingen 2 (Zum Saustall)
CLASS:PUBLIC
DTSTAMP:20260419T200850Z
END:VEVENT
BEGIN:VEVENT
UID:69e51a32e8027
DTSTART:20200108T190000Z
SEQUENCE:0
TRANSP:OPAQUE
LOCATION:Hauptstraße 8\, 86853 Langerringen
SUMMARY:2.Liga SÜD Gruppe Schwarz: DC Schwabmünchen 2 vs. Power and Glory
  Augsburg (Gasthof Deutsches Haus)
CLASS:PUBLIC
DTSTAMP:20260419T200850Z
END:VEVENT
BEGIN:VEVENT
UID:69e51a32e804a
DTSTART:20191202T190000Z
SEQUENCE:0
TRANSP:OPAQUE
LOCATION:Kobelstraße 39\, 86356 Neusäß
SUMMARY:2.Liga SÜD Gruppe Schwarz: SpVgg Westheim vs. DJK Lechhausen 3 (Sp
 ortheim SpVgg Westheim)
CLASS:PUBLIC
DTSTAMP:20260419T200850Z
END:VEVENT
BEGIN:VEVENT
UID:69e51a32e8060
DTSTART:20191202T190000Z
SEQUENCE:0
TRANSP:OPAQUE
LOCATION:Gersthofer Straße 1\, 86456 Gablingen
SUMMARY:2.Liga SÜD Gruppe Schwarz: Schmutter Dart Boyz Gablingen 2 vs. DC 
 Schwabmünchen 2 (Sportheim SV Gablingen)
CLASS:PUBLIC
DTSTAMP:20260419T200850Z
END:VEVENT
BEGIN:VEVENT
UID:69e51a32e8076
DTSTART:20191203T190000Z
SEQUENCE:0
TRANSP:OPAQUE
LOCATION:Ringstr. 9\, 86326 Friedberg
SUMMARY:2.Liga SÜD Gruppe Schwarz: DC Paar-Harthausen 1 vs. SV Steingriff 
 3 (Zum Saustall)
CLASS:PUBLIC
DTSTAMP:20260419T200850Z
END:VEVENT
BEGIN:VEVENT
UID:69e51a32e808c
DTSTART:20191203T190000Z
SEQUENCE:0
TRANSP:OPAQUE
LOCATION:Sportweg 6\, 86529 Schrobenhausen
SUMMARY:2.Liga SÜD Gruppe Schwarz: SV Steingriff 4 vs. DC Paar-Harthausen 
 2 (Sportgaststätte Liberty)
CLASS:PUBLIC
DTSTAMP:20260419T200850Z
END:VEVENT
BEGIN:VEVENT
UID:69e51a32e80a2
DTSTART:20191204T190000Z
SEQUENCE:0
TRANSP:OPAQUE
LOCATION:Georgenstr. 2\, 86152 Augsburg
SUMMARY:2.Liga SÜD Gruppe Schwarz: Power and Glory Augsburg vs. Clochard D
 arter Augsburg 3 (Oki's)
CLASS:PUBLIC
DTSTAMP:20260419T200850Z
END:VEVENT
BEGIN:VEVENT
UID:69e51a32e80b7
DTSTART:20191217T190000Z
SEQUENCE:0
TRANSP:OPAQUE
LOCATION:Ringstr. 9\, 86326 Friedberg
SUMMARY:2.Liga SÜD Gruppe Schwarz: DC Paar-Harthausen 1 vs. DJK Lechhausen
  3 (Zum Saustall)
CLASS:PUBLIC
DTSTAMP:20260419T200850Z
END:VEVENT
BEGIN:VEVENT
UID:69e51a32e80cd
DTSTART:20191218T190000Z
SEQUENCE:0
TRANSP:OPAQUE
LOCATION:Sportweg 6\, 86529 Schrobenhausen
SUMMARY:2.Liga SÜD Gruppe Schwarz: SV Steingriff 3 vs. Power and Glory Aug
 sburg (Sportgaststätte Liberty)
CLASS:PUBLIC
DTSTAMP:20260419T200850Z
END:VEVENT
BEGIN:VEVENT
UID:69e51a32e80e2
DTSTART:20191218T190000Z
SEQUENCE:0
TRANSP:OPAQUE
LOCATION:Hauptstraße 8\, 86853 Langerringen
SUMMARY:2.Liga SÜD Gruppe Schwarz: DC Schwabmünchen 2 vs. SV Steingriff 4
  (Gasthof Deutsches Haus)
CLASS:PUBLIC
DTSTAMP:20260419T200850Z
END:VEVENT
BEGIN:VEVENT
UID:69e51a32e80f7
DTSTART:20191218T190000Z
SEQUENCE:0
TRANSP:OPAQUE
LOCATION:Ringstr. 9\, 86326 Friedberg
SUMMARY:2.Liga SÜD Gruppe Schwarz: DC Paar-Harthausen 2 vs. SpVgg Westheim
  (Zum Saustall)
CLASS:PUBLIC
DTSTAMP:20260419T200850Z
END:VEVENT
BEGIN:VEVENT
UID:69e51a32e810d
DTSTART:20191218T190000Z
SEQUENCE:0
TRANSP:OPAQUE
LOCATION:Bismarckstraße 7\, 86159 Augsburg
SUMMARY:2.Liga SÜD Gruppe Schwarz: Clochard Darter Augsburg 3 vs. Schmutte
 r Dart Boyz Gablingen 2 (Bismarck Bistro)
CLASS:PUBLIC
DTSTAMP:20260419T200850Z
END:VEVENT
BEGIN:VEVENT
UID:69e51a32e8122
DTSTART:20200113T190000Z
SEQUENCE:0
TRANSP:OPAQUE
LOCATION:Derchinger Str. 118 c\, 86165 Augsburg
SUMMARY:2.Liga SÜD Gruppe Schwarz: DJK Lechhausen 3 vs. DC Paar-Harthausen
  2 (DJK Lechhausen Sporth. Fußball)
CLASS:PUBLIC
DTSTAMP:20260419T200850Z
END:VEVENT
BEGIN:VEVENT
UID:69e51a32e8138
DTSTART:20200113T190000Z
SEQUENCE:0
TRANSP:OPAQUE
LOCATION:Kobelstraße 39\, 86356 Neusäß
SUMMARY:2.Liga SÜD Gruppe Schwarz: SpVgg Westheim vs. DC Schwabmünchen 2 
 (Sportheim SpVgg Westheim)
CLASS:PUBLIC
DTSTAMP:20260419T200850Z
END:VEVENT
BEGIN:VEVENT
UID:69e51a32e814e
DTSTART:20200113T190000Z
SEQUENCE:0
TRANSP:OPAQUE
LOCATION:Gersthofer Straße 1\, 86456 Gablingen
SUMMARY:2.Liga SÜD Gruppe Schwarz: Schmutter Dart Boyz Gablingen 2 vs. SV 
 Steingriff 3 (Sportheim SV Gablingen)
CLASS:PUBLIC
DTSTAMP:20260419T200850Z
END:VEVENT
BEGIN:VEVENT
UID:69e51a32e8164
DTSTART:20200114T190000Z
SEQUENCE:0
TRANSP:OPAQUE
LOCATION:Sportweg 6\, 86529 Schrobenhausen
SUMMARY:2.Liga SÜD Gruppe Schwarz: SV Steingriff 4 vs. Clochard Darter Aug
 sburg 3 (Sportgaststätte Liberty)
CLASS:PUBLIC
DTSTAMP:20260419T200850Z
END:VEVENT
BEGIN:VEVENT
UID:69e51a32e8179
DTSTART:20200204T190000Z
SEQUENCE:0
TRANSP:OPAQUE
LOCATION:Ringstr. 9\, 86326 Friedberg
SUMMARY:2.Liga SÜD Gruppe Schwarz: DC Paar-Harthausen 1 vs. Power and Glor
 y Augsburg (Zum Saustall)
CLASS:PUBLIC
DTSTAMP:20260419T200850Z
END:VEVENT
BEGIN:VEVENT
UID:69e51a32e818f
DTSTART:20200127T190000Z
SEQUENCE:0
TRANSP:OPAQUE
LOCATION:Kobelstraße 39\, 86356 Neusäß
SUMMARY:2.Liga SÜD Gruppe Schwarz: SpVgg Westheim vs. Clochard Darter Augs
 burg 3 (Sportheim SpVgg Westheim)
CLASS:PUBLIC
DTSTAMP:20260419T200850Z
END:VEVENT
BEGIN:VEVENT
UID:69e51a32e81a4
DTSTART:20200127T190000Z
SEQUENCE:0
TRANSP:OPAQUE
LOCATION:Gersthofer Straße 1\, 86456 Gablingen
SUMMARY:2.Liga SÜD Gruppe Schwarz: Schmutter Dart Boyz Gablingen 2 vs. Pow
 er and Glory Augsburg (Sportheim SV Gablingen)
CLASS:PUBLIC
DTSTAMP:20260419T200850Z
END:VEVENT
BEGIN:VEVENT
UID:69e51a32e81b9
DTSTART:20200128T190000Z
SEQUENCE:0
TRANSP:OPAQUE
LOCATION:Sportweg 6\, 86529 Schrobenhausen
SUMMARY:2.Liga SÜD Gruppe Schwarz: SV Steingriff 4 vs. SV Steingriff 3 (Sp
 ortgaststätte Liberty)
CLASS:PUBLIC
DTSTAMP:20260419T200850Z
END:VEVENT
BEGIN:VEVENT
UID:69e51a32e81cf
DTSTART:20200129T190000Z
SEQUENCE:0
TRANSP:OPAQUE
LOCATION:Ringstr. 9\, 86326 Friedberg
SUMMARY:2.Liga SÜD Gruppe Schwarz: DC Paar-Harthausen 2 vs. DC Paar-Hartha
 usen 1 (Zum Saustall)
CLASS:PUBLIC
DTSTAMP:20260419T200850Z
END:VEVENT
BEGIN:VEVENT
UID:69e51a32e81e5
DTSTART:20200129T190000Z
SEQUENCE:0
TRANSP:OPAQUE
LOCATION:Derchinger Str. 118 c\, 86165 Augsburg
SUMMARY:2.Liga SÜD Gruppe Schwarz: DJK Lechhausen 3 vs. DC Schwabmünchen 
 2 (DJK Lechhausen Sporth. Fußball)
CLASS:PUBLIC
DTSTAMP:20260419T200850Z
END:VEVENT
BEGIN:VEVENT
UID:69e51a32e81f9
DTSTART:20200205T190000Z
SEQUENCE:0
TRANSP:OPAQUE
LOCATION:Hauptstraße 8\, 86853 Langerringen
SUMMARY:2.Liga SÜD Gruppe Schwarz: DC Schwabmünchen 2 vs. DC Paar-Harthau
 sen 2 (Gasthof Deutsches Haus)
CLASS:PUBLIC
DTSTAMP:20260419T200850Z
END:VEVENT
BEGIN:VEVENT
UID:69e51a32e820f
DTSTART:20200211T190000Z
SEQUENCE:0
TRANSP:OPAQUE
LOCATION:Bismarckstraße 7\, 86159 Augsburg
SUMMARY:2.Liga SÜD Gruppe Schwarz: Clochard Darter Augsburg 3 vs. DJK Lech
 hausen 3 (Bismarck Bistro)
CLASS:PUBLIC
DTSTAMP:20260419T200850Z
END:VEVENT
BEGIN:VEVENT
UID:69e51a32e8224
DTSTART:20200211T190000Z
SEQUENCE:0
TRANSP:OPAQUE
LOCATION:Ringstr. 9\, 86326 Friedberg
SUMMARY:2.Liga SÜD Gruppe Schwarz: DC Paar-Harthausen 1 vs. Schmutter Dart
  Boyz Gablingen 2 (Zum Saustall)
CLASS:PUBLIC
DTSTAMP:20260419T200850Z
END:VEVENT
BEGIN:VEVENT
UID:69e51a32e8239
DTSTART:20200212T190000Z
SEQUENCE:0
TRANSP:OPAQUE
LOCATION:Sportweg 6\, 86529 Schrobenhausen
SUMMARY:2.Liga SÜD Gruppe Schwarz: SV Steingriff 3 vs. SpVgg Westheim (Spo
 rtgaststätte Liberty)
CLASS:PUBLIC
DTSTAMP:20260419T200850Z
END:VEVENT
BEGIN:VEVENT
UID:69e51a32e8256
DTSTART:20200212T190000Z
SEQUENCE:0
TRANSP:OPAQUE
LOCATION:Georgenstr. 2\, 86152 Augsburg
SUMMARY:2.Liga SÜD Gruppe Schwarz: Power and Glory Augsburg vs. SV Steingr
 iff 4 (Oki's)
CLASS:PUBLIC
DTSTAMP:20260419T200850Z
END:VEVENT
BEGIN:VEVENT
UID:69e51a32e826c
DTSTART:20200217T190000Z
SEQUENCE:0
TRANSP:OPAQUE
LOCATION:Kobelstraße 39\, 86356 Neusäß
SUMMARY:2.Liga SÜD Gruppe Schwarz: SpVgg Westheim vs. Power and Glory Augs
 burg (Sportheim SpVgg Westheim)
CLASS:PUBLIC
DTSTAMP:20260419T200850Z
END:VEVENT
BEGIN:VEVENT
UID:69e51a32e8281
DTSTART:20200218T190000Z
SEQUENCE:0
TRANSP:OPAQUE
LOCATION:Sportweg 6\, 86529 Schrobenhausen
SUMMARY:2.Liga SÜD Gruppe Schwarz: SV Steingriff 4 vs. Schmutter Dart Boyz
  Gablingen 2 (Sportgaststätte Liberty)
CLASS:PUBLIC
DTSTAMP:20260419T200850Z
END:VEVENT
BEGIN:VEVENT
UID:69e51a32e8297
DTSTART:20200219T190000Z
SEQUENCE:0
TRANSP:OPAQUE
LOCATION:Hauptstraße 8\, 86853 Langerringen
SUMMARY:2.Liga SÜD Gruppe Schwarz: DC Schwabmünchen 2 vs. DC Paar-Harthau
 sen 1 (Gasthof Deutsches Haus)
CLASS:PUBLIC
DTSTAMP:20260419T200850Z
END:VEVENT
BEGIN:VEVENT
UID:69e51a32e82ad
DTSTART:20200219T190000Z
SEQUENCE:0
TRANSP:OPAQUE
LOCATION:Derchinger Str. 118 c\, 86165 Augsburg
SUMMARY:2.Liga SÜD Gruppe Schwarz: DJK Lechhausen 3 vs. SV Steingriff 3 (D
 JK Lechhausen Sporth. Fußball)
CLASS:PUBLIC
DTSTAMP:20260419T200850Z
END:VEVENT
BEGIN:VEVENT
UID:69e51a32e82c2
DTSTART:20200219T190000Z
SEQUENCE:0
TRANSP:OPAQUE
LOCATION:Ringstr. 9\, 86326 Friedberg
SUMMARY:2.Liga SÜD Gruppe Schwarz: DC Paar-Harthausen 2 vs. Clochard Darte
 r Augsburg 3 (Zum Saustall)
CLASS:PUBLIC
DTSTAMP:20260419T200850Z
END:VEVENT
BEGIN:VEVENT
UID:69e51a32e82d7
DTSTART:20200302T190000Z
SEQUENCE:0
TRANSP:OPAQUE
LOCATION:Gersthofer Straße 1\, 86456 Gablingen
SUMMARY:2.Liga SÜD Gruppe Schwarz: Schmutter Dart Boyz Gablingen 2 vs. SpV
 gg Westheim (Sportheim SV Gablingen)
CLASS:PUBLIC
DTSTAMP:20260419T200850Z
END:VEVENT
BEGIN:VEVENT
UID:69e51a32e82ee
DTSTART:20200303T190000Z
SEQUENCE:0
TRANSP:OPAQUE
LOCATION:Bismarckstraße 7\, 86159 Augsburg
SUMMARY:2.Liga SÜD Gruppe Schwarz: Clochard Darter Augsburg 3 vs. DC Schwa
 bmünchen 2 (Bismarck Bistro)
CLASS:PUBLIC
DTSTAMP:20260419T200850Z
END:VEVENT
BEGIN:VEVENT
UID:69e51a32e830c
DTSTART:20200304T190000Z
SEQUENCE:0
TRANSP:OPAQUE
LOCATION:Ringstr. 9\, 86326 Friedberg
SUMMARY:2.Liga SÜD Gruppe Schwarz: DC Paar-Harthausen 1 vs. SV Steingriff 
 4 (Zum Saustall)
CLASS:PUBLIC
DTSTAMP:20260419T200850Z
END:VEVENT
BEGIN:VEVENT
UID:69e51a32e8322
DTSTART:20200304T190000Z
SEQUENCE:0
TRANSP:OPAQUE
LOCATION:Sportweg 6\, 86529 Schrobenhausen
SUMMARY:2.Liga SÜD Gruppe Schwarz: SV Steingriff 3 vs. DC Paar-Harthausen 
 2 (Sportgaststätte Liberty)
CLASS:PUBLIC
DTSTAMP:20260419T200850Z
END:VEVENT
BEGIN:VEVENT
UID:69e51a32e8337
DTSTART:20200304T190000Z
SEQUENCE:0
TRANSP:OPAQUE
LOCATION:Georgenstr. 2\, 86152 Augsburg
SUMMARY:2.Liga SÜD Gruppe Schwarz: Power and Glory Augsburg vs. DJK Lechha
 usen 3 (Oki's)
CLASS:PUBLIC
DTSTAMP:20260419T200850Z
END:VEVENT
BEGIN:VEVENT
UID:69e51a32e8380
DTSTART:20200316T190000Z
SEQUENCE:0
TRANSP:OPAQUE
LOCATION:Kobelstraße 39\, 86356 Neusäß
SUMMARY:2.Liga SÜD Gruppe Schwarz: SpVgg Westheim vs. SV Steingriff 4 (Spo
 rtheim SpVgg Westheim)
CLASS:PUBLIC
DTSTAMP:20260419T200850Z
END:VEVENT
BEGIN:VEVENT
UID:69e51a32e839b
DTSTART:20200317T190000Z
SEQUENCE:0
TRANSP:OPAQUE
LOCATION:Bismarckstraße 7\, 86159 Augsburg
SUMMARY:2.Liga SÜD Gruppe Schwarz: Clochard Darter Augsburg 3 vs. DC Paar-
 Harthausen 1 (Bismarck Bistro)
CLASS:PUBLIC
DTSTAMP:20260419T200850Z
END:VEVENT
BEGIN:VEVENT
UID:69e51a32e83b4
DTSTART:20200318T190000Z
SEQUENCE:0
TRANSP:OPAQUE
LOCATION:Hauptstraße 8\, 86853 Langerringen
SUMMARY:2.Liga SÜD Gruppe Schwarz: DC Schwabmünchen 2 vs. SV Steingriff 3
  (Gasthof Deutsches Haus)
CLASS:PUBLIC
DTSTAMP:20260419T200850Z
END:VEVENT
BEGIN:VEVENT
UID:69e51a32e83ce
DTSTART:20200318T190000Z
SEQUENCE:0
TRANSP:OPAQUE
LOCATION:Ringstr. 9\, 86326 Friedberg
SUMMARY:2.Liga SÜD Gruppe Schwarz: DC Paar-Harthausen 2 vs. Power and Glor
 y Augsburg (Zum Saustall)
CLASS:PUBLIC
DTSTAMP:20260419T200850Z
END:VEVENT
BEGIN:VEVENT
UID:69e51a32e83ef
DTSTART:20200318T190000Z
SEQUENCE:0
TRANSP:OPAQUE
LOCATION:Derchinger Str. 118 c\, 86165 Augsburg
SUMMARY:2.Liga SÜD Gruppe Schwarz: DJK Lechhausen 3 vs. Schmutter Dart Boy
 z Gablingen 2 (DJK Lechhausen Sporth. Fußball)
CLASS:PUBLIC
DTSTAMP:20260419T200850Z
END:VEVENT
BEGIN:VEVENT
UID:69e51a32e8408
DTSTART:20200330T180000Z
SEQUENCE:0
TRANSP:OPAQUE
LOCATION:Gersthofer Straße 1\, 86456 Gablingen
SUMMARY:2.Liga SÜD Gruppe Schwarz: Schmutter Dart Boyz Gablingen 2 vs. DC 
 Paar-Harthausen 2 (Sportheim SV Gablingen)
CLASS:PUBLIC
DTSTAMP:20260419T200850Z
END:VEVENT
BEGIN:VEVENT
UID:69e51a32e8421
DTSTART:20200331T180000Z
SEQUENCE:0
TRANSP:OPAQUE
LOCATION:Ringstr. 9\, 86326 Friedberg
SUMMARY:2.Liga SÜD Gruppe Schwarz: DC Paar-Harthausen 1 vs. SpVgg Westheim
  (Zum Saustall)
CLASS:PUBLIC
DTSTAMP:20260419T200850Z
END:VEVENT
BEGIN:VEVENT
UID:69e51a32e843b
DTSTART:20200331T180000Z
SEQUENCE:0
TRANSP:OPAQUE
LOCATION:Sportweg 6\, 86529 Schrobenhausen
SUMMARY:2.Liga SÜD Gruppe Schwarz: SV Steingriff 3 vs. Clochard Darter Aug
 sburg 3 (Sportgaststätte Liberty)
CLASS:PUBLIC
DTSTAMP:20260419T200850Z
END:VEVENT
BEGIN:VEVENT
UID:69e51a32e8454
DTSTART:20200401T180000Z
SEQUENCE:0
TRANSP:OPAQUE
LOCATION:Georgenstr. 2\, 86152 Augsburg
SUMMARY:2.Liga SÜD Gruppe Schwarz: Power and Glory Augsburg vs. DC Schwabm
 ünchen 2 (Oki's)
CLASS:PUBLIC
DTSTAMP:20260419T200850Z
END:VEVENT
BEGIN:VEVENT
UID:69e51a32e846e
DTSTART:20200402T180000Z
SEQUENCE:0
TRANSP:OPAQUE
LOCATION:Sportweg 6\, 86529 Schrobenhausen
SUMMARY:2.Liga SÜD Gruppe Schwarz: SV Steingriff 4 vs. DJK Lechhausen 3 (S
 portgaststätte Liberty)
CLASS:PUBLIC
DTSTAMP:20260419T200850Z
END:VEVENT
BEGIN:VEVENT
UID:69e51a32e8487
DTSTART:20200421T180000Z
SEQUENCE:0
TRANSP:OPAQUE
LOCATION:Bismarckstraße 7\, 86159 Augsburg
SUMMARY:2.Liga SÜD Gruppe Schwarz: Clochard Darter Augsburg 3 vs. Power an
 d Glory Augsburg (Bismarck Bistro)
CLASS:PUBLIC
DTSTAMP:20260419T200850Z
END:VEVENT
BEGIN:VEVENT
UID:69e51a32e84a0
DTSTART:20200422T180000Z
SEQUENCE:0
TRANSP:OPAQUE
LOCATION:Sportweg 6\, 86529 Schrobenhausen
SUMMARY:2.Liga SÜD Gruppe Schwarz: SV Steingriff 3 vs. DC Paar-Harthausen 
 1 (Sportgaststätte Liberty)
CLASS:PUBLIC
DTSTAMP:20260419T200850Z
END:VEVENT
BEGIN:VEVENT
UID:69e51a32e84ba
DTSTART:20200422T180000Z
SEQUENCE:0
TRANSP:OPAQUE
LOCATION:Derchinger Str. 118 c\, 86165 Augsburg
SUMMARY:2.Liga SÜD Gruppe Schwarz: DJK Lechhausen 3 vs. SpVgg Westheim (DJ
 K Lechhausen Sporth. Fußball)
CLASS:PUBLIC
DTSTAMP:20260419T200850Z
END:VEVENT
BEGIN:VEVENT
UID:69e51a32e84d4
DTSTART:20200422T180000Z
SEQUENCE:0
TRANSP:OPAQUE
LOCATION:Ringstr. 9\, 86326 Friedberg
SUMMARY:2.Liga SÜD Gruppe Schwarz: DC Paar-Harthausen 2 vs. SV Steingriff 
 4 (Zum Saustall)
CLASS:PUBLIC
DTSTAMP:20260419T200850Z
END:VEVENT
BEGIN:VEVENT
UID:69e51a32e84ed
DTSTART:20200429T180000Z
SEQUENCE:0
TRANSP:OPAQUE
LOCATION:Hauptstraße 8\, 86853 Langerringen
SUMMARY:2.Liga SÜD Gruppe Schwarz: DC Schwabmünchen 2 vs. Schmutter Dart 
 Boyz Gablingen 2 (Gasthof Deutsches Haus)
CLASS:PUBLIC
DTSTAMP:20260419T200850Z
END:VEVENT
BEGIN:VEVENT
UID:69e51a32e8506
DTSTART:20200504T180000Z
SEQUENCE:0
TRANSP:OPAQUE
LOCATION:Kobelstraße 39\, 86356 Neusäß
SUMMARY:2.Liga SÜD Gruppe Schwarz: SpVgg Westheim vs. DC Paar-Harthausen 2
  (Sportheim SpVgg Westheim)
CLASS:PUBLIC
DTSTAMP:20260419T200850Z
END:VEVENT
BEGIN:VEVENT
UID:69e51a32e8520
DTSTART:20200504T180000Z
SEQUENCE:0
TRANSP:OPAQUE
LOCATION:Gersthofer Straße 1\, 86456 Gablingen
SUMMARY:2.Liga SÜD Gruppe Schwarz: Schmutter Dart Boyz Gablingen 2 vs. Clo
 chard Darter Augsburg 3 (Sportheim SV Gablingen)
CLASS:PUBLIC
DTSTAMP:20260419T200850Z
END:VEVENT
BEGIN:VEVENT
UID:69e51a32e8539
DTSTART:20200505T180000Z
SEQUENCE:0
TRANSP:OPAQUE
LOCATION:Sportweg 6\, 86529 Schrobenhausen
SUMMARY:2.Liga SÜD Gruppe Schwarz: SV Steingriff 4 vs. DC Schwabmünchen 2
  (Sportgaststätte Liberty)
CLASS:PUBLIC
DTSTAMP:20260419T200850Z
END:VEVENT
BEGIN:VEVENT
UID:69e51a32e8552
DTSTART:20200506T180000Z
SEQUENCE:0
TRANSP:OPAQUE
LOCATION:Derchinger Str. 118 c\, 86165 Augsburg
SUMMARY:2.Liga SÜD Gruppe Schwarz: DJK Lechhausen 3 vs. DC Paar-Harthausen
  1 (DJK Lechhausen Sporth. Fußball)
CLASS:PUBLIC
DTSTAMP:20260419T200850Z
END:VEVENT
BEGIN:VEVENT
UID:69e51a32e856c
DTSTART:20200506T180000Z
SEQUENCE:0
TRANSP:OPAQUE
LOCATION:Georgenstr. 2\, 86152 Augsburg
SUMMARY:2.Liga SÜD Gruppe Schwarz: Power and Glory Augsburg vs. SV Steingr
 iff 3 (Oki's)
CLASS:PUBLIC
DTSTAMP:20260419T200850Z
END:VEVENT
BEGIN:VEVENT
UID:69e51a32e8585
DTSTART:20200513T180000Z
SEQUENCE:0
TRANSP:OPAQUE
LOCATION:Ringstr. 9\, 86326 Friedberg
SUMMARY:2.Liga SÜD Gruppe Schwarz: DC Paar-Harthausen 2 vs. DJK Lechhausen
  3 (Zum Saustall)
CLASS:PUBLIC
DTSTAMP:20260419T200850Z
END:VEVENT
BEGIN:VEVENT
UID:69e51a32e85a7
DTSTART:20200513T180000Z
SEQUENCE:0
TRANSP:OPAQUE
LOCATION:Hauptstraße 8\, 86853 Langerringen
SUMMARY:2.Liga SÜD Gruppe Schwarz: DC Schwabmünchen 2 vs. SpVgg Westheim 
 (Gasthof Deutsches Haus)
CLASS:PUBLIC
DTSTAMP:20260419T200850Z
END:VEVENT
BEGIN:VEVENT
UID:69e51a32e85c1
DTSTART:20200513T180000Z
SEQUENCE:0
TRANSP:OPAQUE
LOCATION:Bismarckstraße 7\, 86159 Augsburg
SUMMARY:2.Liga SÜD Gruppe Schwarz: Clochard Darter Augsburg 3 vs. SV Stein
 griff 4 (Bismarck Bistro)
CLASS:PUBLIC
DTSTAMP:20260419T200850Z
END:VEVENT
BEGIN:VEVENT
UID:69e51a32e85da
DTSTART:20200513T180000Z
SEQUENCE:0
TRANSP:OPAQUE
LOCATION:Georgenstr. 2\, 86152 Augsburg
SUMMARY:2.Liga SÜD Gruppe Schwarz: Power and Glory Augsburg vs. DC Paar-Ha
 rthausen 1 (Oki's)
CLASS:PUBLIC
DTSTAMP:20260419T200850Z
END:VEVENT
BEGIN:VEVENT
UID:69e51a32e85f3
DTSTART:20200513T180000Z
SEQUENCE:0
TRANSP:OPAQUE
LOCATION:Sportweg 6\, 86529 Schrobenhausen
SUMMARY:2.Liga SÜD Gruppe Schwarz: SV Steingriff 3 vs. Schmutter Dart Boyz
  Gablingen 2 (Sportgaststätte Liberty)
CLASS:PUBLIC
DTSTAMP:20260419T200850Z
END:VEVENT
END:VCALENDAR