BEGIN:VCALENDAR
VERSION:2.0
PRODID:NSDV - Nordschwäbischer Dartverband e. V.
BEGIN:VEVENT
UID:69e530bd3194a
DTSTART:20190910T180000Z
SEQUENCE:0
TRANSP:OPAQUE
LOCATION:Ringstr. 9\, 86326 Friedberg
SUMMARY:2.Liga SÜD Gruppe Weiß: DC Paar-Harthausen 3 vs. DC Paar-Harthaus
 en 4 (Zum Saustall)
CLASS:PUBLIC
DTSTAMP:20260419T214501Z
END:VEVENT
BEGIN:VEVENT
UID:69e530bd32291
DTSTART:20190911T180000Z
SEQUENCE:0
TRANSP:OPAQUE
LOCATION:Sportweg 6\, 86529 Schrobenhausen
SUMMARY:2.Liga SÜD Gruppe Weiß: SV Steingriff 2 vs. Clochard Darter Augsb
 urg 4 (Sportgaststätte Liberty)
CLASS:PUBLIC
DTSTAMP:20260419T214501Z
END:VEVENT
BEGIN:VEVENT
UID:69e530bd324f2
DTSTART:20190911T180000Z
SEQUENCE:0
TRANSP:OPAQUE
LOCATION:\,  
SUMMARY:2.Liga SÜD Gruppe Weiß: Dart'agnans Augsburg vs. Underground Dart
 er Aitingen ()
CLASS:PUBLIC
DTSTAMP:20260419T214501Z
END:VEVENT
BEGIN:VEVENT
UID:69e530bd326df
DTSTART:20190918T180000Z
SEQUENCE:0
TRANSP:OPAQUE
LOCATION:Georgenstr. 2\, 86152 Augsburg
SUMMARY:2.Liga SÜD Gruppe Weiß: D'Augschburger 2 vs. DC Schwabmünchen 1 
 (Oki's)
CLASS:PUBLIC
DTSTAMP:20260419T214501Z
END:VEVENT
BEGIN:VEVENT
UID:69e530bd328eb
DTSTART:20191028T190000Z
SEQUENCE:0
TRANSP:OPAQUE
LOCATION:Gersthofer Straße 1\, 86456 Gablingen
SUMMARY:2.Liga SÜD Gruppe Weiß: Schmutter Dart Boyz Gablingen 1 vs. Wild 
 Things Augsburg (Sportheim SV Gablingen)
CLASS:PUBLIC
DTSTAMP:20260419T214501Z
END:VEVENT
BEGIN:VEVENT
UID:69e530bd32b01
DTSTART:20190923T180000Z
SEQUENCE:0
TRANSP:OPAQUE
LOCATION:Ringstr. 9\, 86326 Friedberg
SUMMARY:2.Liga SÜD Gruppe Weiß: DC Paar-Harthausen 4 vs. Dart'agnans Augs
 burg (Zum Saustall)
CLASS:PUBLIC
DTSTAMP:20260419T214501Z
END:VEVENT
BEGIN:VEVENT
UID:69e530bd32b46
DTSTART:20190930T180000Z
SEQUENCE:0
TRANSP:OPAQUE
LOCATION:Keltenstraße 17\, 86845 Großaitingen
SUMMARY:2.Liga SÜD Gruppe Weiß: Underground Darter Aitingen vs. DC Schwab
 münchen 1 (Vereinsraum im UG)
CLASS:PUBLIC
DTSTAMP:20260419T214501Z
END:VEVENT
BEGIN:VEVENT
UID:69e530bd32d15
DTSTART:20191001T180000Z
SEQUENCE:0
TRANSP:OPAQUE
LOCATION:Georgenstr. 2\, 86152 Augsburg
SUMMARY:2.Liga SÜD Gruppe Weiß: D'Augschburger 2 vs. SV Steingriff 2 (Oki
 's)
CLASS:PUBLIC
DTSTAMP:20260419T214501Z
END:VEVENT
BEGIN:VEVENT
UID:69e530bd32d50
DTSTART:20191011T180000Z
SEQUENCE:0
TRANSP:OPAQUE
LOCATION:Bismarckstraße 7\, 86159 Augsburg
SUMMARY:2.Liga SÜD Gruppe Weiß: Clochard Darter Augsburg 4 vs. Wild Thing
 s Augsburg (Bismarck Bistro)
CLASS:PUBLIC
DTSTAMP:20260419T214501Z
END:VEVENT
BEGIN:VEVENT
UID:69e530bd32f06
DTSTART:20191112T190000Z
SEQUENCE:0
TRANSP:OPAQUE
LOCATION:Ringstr. 9\, 86326 Friedberg
SUMMARY:2.Liga SÜD Gruppe Weiß: DC Paar-Harthausen 3 vs. Schmutter Dart B
 oyz Gablingen 1 (Zum Saustall)
CLASS:PUBLIC
DTSTAMP:20260419T214501Z
END:VEVENT
BEGIN:VEVENT
UID:69e530bd32f32
DTSTART:20191007T180000Z
SEQUENCE:0
TRANSP:OPAQUE
LOCATION:Bismarckstraße 7\, 86159 Augsburg
SUMMARY:2.Liga SÜD Gruppe Weiß: Wild Things Augsburg vs. D'Augschburger 2
  (Bismarck Bistro)
CLASS:PUBLIC
DTSTAMP:20260419T214501Z
END:VEVENT
BEGIN:VEVENT
UID:69e530bd32f58
DTSTART:20191007T180000Z
SEQUENCE:0
TRANSP:OPAQUE
LOCATION:Ringstr. 9\, 86326 Friedberg
SUMMARY:2.Liga SÜD Gruppe Weiß: DC Paar-Harthausen 3 vs. Dart'agnans Augs
 burg (Zum Saustall)
CLASS:PUBLIC
DTSTAMP:20260419T214501Z
END:VEVENT
BEGIN:VEVENT
UID:69e530bd32f7d
DTSTART:20191008T180000Z
SEQUENCE:0
TRANSP:OPAQUE
LOCATION:Sportweg 6\, 86529 Schrobenhausen
SUMMARY:2.Liga SÜD Gruppe Weiß: SV Steingriff 2 vs. Underground Darter Ai
 tingen (Sportgaststätte Liberty)
CLASS:PUBLIC
DTSTAMP:20260419T214501Z
END:VEVENT
BEGIN:VEVENT
UID:69e530bd32fa1
DTSTART:20191009T180000Z
SEQUENCE:0
TRANSP:OPAQUE
LOCATION:Hauptstraße 8\, 86853 Langerringen
SUMMARY:2.Liga SÜD Gruppe Weiß: DC Schwabmünchen 1 vs. DC Paar-Harthause
 n 4 (Gasthof Deutsches Haus)
CLASS:PUBLIC
DTSTAMP:20260419T214501Z
END:VEVENT
BEGIN:VEVENT
UID:69e530bd3326d
DTSTART:20191015T180000Z
SEQUENCE:0
TRANSP:OPAQUE
LOCATION:Bismarckstraße 7\, 86159 Augsburg
SUMMARY:2.Liga SÜD Gruppe Weiß: Clochard Darter Augsburg 4 vs. Schmutter 
 Dart Boyz Gablingen 1 (Bismarck Bistro)
CLASS:PUBLIC
DTSTAMP:20260419T214501Z
END:VEVENT
BEGIN:VEVENT
UID:69e530bd3329b
DTSTART:20191021T180000Z
SEQUENCE:0
TRANSP:OPAQUE
LOCATION:Keltenstraße 17\, 86845 Großaitingen
SUMMARY:2.Liga SÜD Gruppe Weiß: Underground Darter Aitingen vs. Wild Thin
 gs Augsburg (Vereinsraum im UG)
CLASS:PUBLIC
DTSTAMP:20260419T214501Z
END:VEVENT
BEGIN:VEVENT
UID:69e530bd332bf
DTSTART:20191021T180000Z
SEQUENCE:0
TRANSP:OPAQUE
LOCATION:Bismarckstraße 7\, 86159 Augsburg
SUMMARY:2.Liga SÜD Gruppe Weiß: Clochard Darter Augsburg 4 vs. DC Paar-Ha
 rthausen 3 (Bismarck Bistro)
CLASS:PUBLIC
DTSTAMP:20260419T214501Z
END:VEVENT
BEGIN:VEVENT
UID:69e530bd332e3
DTSTART:20191021T180000Z
SEQUENCE:0
TRANSP:OPAQUE
LOCATION:Ringstr. 9\, 86326 Friedberg
SUMMARY:2.Liga SÜD Gruppe Weiß: DC Paar-Harthausen 4 vs. SV Steingriff 2 
 (Zum Saustall)
CLASS:PUBLIC
DTSTAMP:20260419T214501Z
END:VEVENT
BEGIN:VEVENT
UID:69e530bd33306
DTSTART:20191021T180000Z
SEQUENCE:0
TRANSP:OPAQUE
LOCATION:Gersthofer Straße 1\, 86456 Gablingen
SUMMARY:2.Liga SÜD Gruppe Weiß: Schmutter Dart Boyz Gablingen 1 vs. D'Aug
 schburger 2 (Sportheim SV Gablingen)
CLASS:PUBLIC
DTSTAMP:20260419T214501Z
END:VEVENT
BEGIN:VEVENT
UID:69e530bd3332a
DTSTART:20191023T180000Z
SEQUENCE:0
TRANSP:OPAQUE
LOCATION:\,  
SUMMARY:2.Liga SÜD Gruppe Weiß: Dart'agnans Augsburg vs. DC Schwabmünche
 n 1 ()
CLASS:PUBLIC
DTSTAMP:20260419T214501Z
END:VEVENT
BEGIN:VEVENT
UID:69e530bd33599
DTSTART:20191104T190000Z
SEQUENCE:0
TRANSP:OPAQUE
LOCATION:Keltenstraße 17\, 86845 Großaitingen
SUMMARY:2.Liga SÜD Gruppe Weiß: Underground Darter Aitingen vs. Schmutter
  Dart Boyz Gablingen 1 (Vereinsraum im UG)
CLASS:PUBLIC
DTSTAMP:20260419T214501Z
END:VEVENT
BEGIN:VEVENT
UID:69e530bd335c0
DTSTART:20191105T190000Z
SEQUENCE:0
TRANSP:OPAQUE
LOCATION:Bismarckstraße 7\, 86159 Augsburg
SUMMARY:2.Liga SÜD Gruppe Weiß: Clochard Darter Augsburg 4 vs. D'Augschbu
 rger 2 (Bismarck Bistro)
CLASS:PUBLIC
DTSTAMP:20260419T214501Z
END:VEVENT
BEGIN:VEVENT
UID:69e530bd335e5
DTSTART:20191106T190000Z
SEQUENCE:0
TRANSP:OPAQUE
LOCATION:Sportweg 6\, 86529 Schrobenhausen
SUMMARY:2.Liga SÜD Gruppe Weiß: SV Steingriff 2 vs. Dart'agnans Augsburg 
 (Sportgaststätte Liberty)
CLASS:PUBLIC
DTSTAMP:20260419T214501Z
END:VEVENT
BEGIN:VEVENT
UID:69e530bd33608
DTSTART:20191111T190000Z
SEQUENCE:0
TRANSP:OPAQUE
LOCATION:Bismarckstraße 7\, 86159 Augsburg
SUMMARY:2.Liga SÜD Gruppe Weiß: Wild Things Augsburg vs. DC Paar-Harthaus
 en 4 (Bismarck Bistro)
CLASS:PUBLIC
DTSTAMP:20260419T214501Z
END:VEVENT
BEGIN:VEVENT
UID:69e530bd3362c
DTSTART:20191111T190000Z
SEQUENCE:0
TRANSP:OPAQUE
LOCATION:Ringstr. 9\, 86326 Friedberg
SUMMARY:2.Liga SÜD Gruppe Weiß: DC Paar-Harthausen 3 vs. DC Schwabmünche
 n 1 (Zum Saustall)
CLASS:PUBLIC
DTSTAMP:20260419T214501Z
END:VEVENT
BEGIN:VEVENT
UID:69e530bd3364f
DTSTART:20191118T190000Z
SEQUENCE:0
TRANSP:OPAQUE
LOCATION:Gersthofer Straße 1\, 86456 Gablingen
SUMMARY:2.Liga SÜD Gruppe Weiß: Schmutter Dart Boyz Gablingen 1 vs. DC Pa
 ar-Harthausen 4 (Sportheim SV Gablingen)
CLASS:PUBLIC
DTSTAMP:20260419T214501Z
END:VEVENT
BEGIN:VEVENT
UID:69e530bd33675
DTSTART:20191119T190000Z
SEQUENCE:0
TRANSP:OPAQUE
LOCATION:Georgenstr. 2\, 86152 Augsburg
SUMMARY:2.Liga SÜD Gruppe Weiß: D'Augschburger 2 vs. DC Paar-Harthausen 3
  (Oki's)
CLASS:PUBLIC
DTSTAMP:20260419T214501Z
END:VEVENT
BEGIN:VEVENT
UID:69e530bd33699
DTSTART:20191125T190000Z
SEQUENCE:0
TRANSP:OPAQUE
LOCATION:Keltenstraße 17\, 86845 Großaitingen
SUMMARY:2.Liga SÜD Gruppe Weiß: Underground Darter Aitingen vs. Clochard 
 Darter Augsburg 4 (Vereinsraum im UG)
CLASS:PUBLIC
DTSTAMP:20260419T214501Z
END:VEVENT
BEGIN:VEVENT
UID:69e530bd336bb
DTSTART:20191127T190000Z
SEQUENCE:0
TRANSP:OPAQUE
LOCATION:Hauptstraße 8\, 86853 Langerringen
SUMMARY:2.Liga SÜD Gruppe Weiß: DC Schwabmünchen 1 vs. SV Steingriff 2 (
 Gasthof Deutsches Haus)
CLASS:PUBLIC
DTSTAMP:20260419T214501Z
END:VEVENT
BEGIN:VEVENT
UID:69e530bd336de
DTSTART:20191203T190000Z
SEQUENCE:0
TRANSP:OPAQUE
LOCATION:\,  
SUMMARY:2.Liga SÜD Gruppe Weiß: Dart'agnans Augsburg vs. Wild Things Augs
 burg ()
CLASS:PUBLIC
DTSTAMP:20260419T214501Z
END:VEVENT
BEGIN:VEVENT
UID:69e530bd338fa
DTSTART:20191202T190000Z
SEQUENCE:0
TRANSP:OPAQUE
LOCATION:Keltenstraße 17\, 86845 Großaitingen
SUMMARY:2.Liga SÜD Gruppe Weiß: Underground Darter Aitingen vs. D'Augschb
 urger 2 (Vereinsraum im UG)
CLASS:PUBLIC
DTSTAMP:20260419T214501Z
END:VEVENT
BEGIN:VEVENT
UID:69e530bd33966
DTSTART:20191202T190000Z
SEQUENCE:0
TRANSP:OPAQUE
LOCATION:Ringstr. 9\, 86326 Friedberg
SUMMARY:2.Liga SÜD Gruppe Weiß: DC Paar-Harthausen 3 vs. SV Steingriff 2 
 (Zum Saustall)
CLASS:PUBLIC
DTSTAMP:20260419T214501Z
END:VEVENT
BEGIN:VEVENT
UID:69e530bd339a5
DTSTART:20191203T190000Z
SEQUENCE:0
TRANSP:OPAQUE
LOCATION:Bismarckstraße 7\, 86159 Augsburg
SUMMARY:2.Liga SÜD Gruppe Weiß: Clochard Darter Augsburg 4 vs. DC Paar-Ha
 rthausen 4 (Bismarck Bistro)
CLASS:PUBLIC
DTSTAMP:20260419T214501Z
END:VEVENT
BEGIN:VEVENT
UID:69e530bd339e0
DTSTART:20191204T190000Z
SEQUENCE:0
TRANSP:OPAQUE
LOCATION:\,  
SUMMARY:2.Liga SÜD Gruppe Weiß: Dart'agnans Augsburg vs. Schmutter Dart B
 oyz Gablingen 1 ()
CLASS:PUBLIC
DTSTAMP:20260419T214501Z
END:VEVENT
BEGIN:VEVENT
UID:69e530bd33bb7
DTSTART:20191210T190000Z
SEQUENCE:0
TRANSP:OPAQUE
LOCATION:Bismarckstraße 7\, 86159 Augsburg
SUMMARY:2.Liga SÜD Gruppe Weiß: Wild Things Augsburg vs. DC Schwabmünche
 n 1 (Bismarck Bistro)
CLASS:PUBLIC
DTSTAMP:20260419T214501Z
END:VEVENT
BEGIN:VEVENT
UID:69e530bd33be4
DTSTART:20191216T190000Z
SEQUENCE:0
TRANSP:OPAQUE
LOCATION:Ringstr. 9\, 86326 Friedberg
SUMMARY:2.Liga SÜD Gruppe Weiß: DC Paar-Harthausen 4 vs. D'Augschburger 2
  (Zum Saustall)
CLASS:PUBLIC
DTSTAMP:20260419T214501Z
END:VEVENT
BEGIN:VEVENT
UID:69e530bd33c08
DTSTART:20191216T190000Z
SEQUENCE:0
TRANSP:OPAQUE
LOCATION:Gersthofer Straße 1\, 86456 Gablingen
SUMMARY:2.Liga SÜD Gruppe Weiß: Schmutter Dart Boyz Gablingen 1 vs. DC Sc
 hwabmünchen 1 (Sportheim SV Gablingen)
CLASS:PUBLIC
DTSTAMP:20260419T214501Z
END:VEVENT
BEGIN:VEVENT
UID:69e530bd33c2d
DTSTART:20191218T190000Z
SEQUENCE:0
TRANSP:OPAQUE
LOCATION:\,  
SUMMARY:2.Liga SÜD Gruppe Weiß: Dart'agnans Augsburg vs. Clochard Darter 
 Augsburg 4 ()
CLASS:PUBLIC
DTSTAMP:20260419T214501Z
END:VEVENT
BEGIN:VEVENT
UID:69e530bd33d9a
DTSTART:20200104T190000Z
SEQUENCE:0
TRANSP:OPAQUE
LOCATION:Ringstr. 9\, 86326 Friedberg
SUMMARY:2.Liga SÜD Gruppe Weiß: DC Paar-Harthausen 3 vs. Underground Dart
 er Aitingen (Zum Saustall)
CLASS:PUBLIC
DTSTAMP:20260419T214501Z
END:VEVENT
BEGIN:VEVENT
UID:69e530bd33dc1
DTSTART:20200110T190000Z
SEQUENCE:0
TRANSP:OPAQUE
LOCATION:Sportweg 6\, 86529 Schrobenhausen
SUMMARY:2.Liga SÜD Gruppe Weiß: SV Steingriff 2 vs. Wild Things Augsburg 
 (Sportgaststätte Liberty)
CLASS:PUBLIC
DTSTAMP:20260419T214501Z
END:VEVENT
BEGIN:VEVENT
UID:69e530bd33de6
DTSTART:20200113T190000Z
SEQUENCE:0
TRANSP:OPAQUE
LOCATION:Ringstr. 9\, 86326 Friedberg
SUMMARY:2.Liga SÜD Gruppe Weiß: DC Paar-Harthausen 4 vs. Underground Dart
 er Aitingen (Zum Saustall)
CLASS:PUBLIC
DTSTAMP:20260419T214501Z
END:VEVENT
BEGIN:VEVENT
UID:69e530bd33e09
DTSTART:20200114T190000Z
SEQUENCE:0
TRANSP:OPAQUE
LOCATION:Georgenstr. 2\, 86152 Augsburg
SUMMARY:2.Liga SÜD Gruppe Weiß: D'Augschburger 2 vs. Dart'agnans Augsburg
  (Oki's)
CLASS:PUBLIC
DTSTAMP:20260419T214501Z
END:VEVENT
BEGIN:VEVENT
UID:69e530bd33e2b
DTSTART:20200115T190000Z
SEQUENCE:0
TRANSP:OPAQUE
LOCATION:Hauptstraße 8\, 86853 Langerringen
SUMMARY:2.Liga SÜD Gruppe Weiß: DC Schwabmünchen 1 vs. Clochard Darter A
 ugsburg 4 (Gasthof Deutsches Haus)
CLASS:PUBLIC
DTSTAMP:20260419T214501Z
END:VEVENT
BEGIN:VEVENT
UID:69e530bd33e4e
DTSTART:20200121T190000Z
SEQUENCE:0
TRANSP:OPAQUE
LOCATION:Bismarckstraße 7\, 86159 Augsburg
SUMMARY:2.Liga SÜD Gruppe Weiß: Wild Things Augsburg vs. DC Paar-Harthaus
 en 3 (Bismarck Bistro)
CLASS:PUBLIC
DTSTAMP:20260419T214501Z
END:VEVENT
BEGIN:VEVENT
UID:69e530bd33e86
DTSTART:20200121T190000Z
SEQUENCE:0
TRANSP:OPAQUE
LOCATION:Sportweg 6\, 86529 Schrobenhausen
SUMMARY:2.Liga SÜD Gruppe Weiß: SV Steingriff 2 vs. Schmutter Dart Boyz G
 ablingen 1 (Sportgaststätte Liberty)
CLASS:PUBLIC
DTSTAMP:20260419T214501Z
END:VEVENT
BEGIN:VEVENT
UID:69e530bd33eb5
DTSTART:20200120T190000Z
SEQUENCE:0
TRANSP:OPAQUE
LOCATION:Keltenstraße 17\, 86845 Großaitingen
SUMMARY:2.Liga SÜD Gruppe Weiß: Underground Darter Aitingen vs. Dart'agna
 ns Augsburg (Vereinsraum im UG)
CLASS:PUBLIC
DTSTAMP:20260419T214501Z
END:VEVENT
BEGIN:VEVENT
UID:69e530bd33ee5
DTSTART:20200127T190000Z
SEQUENCE:0
TRANSP:OPAQUE
LOCATION:Ringstr. 9\, 86326 Friedberg
SUMMARY:2.Liga SÜD Gruppe Weiß: DC Paar-Harthausen 4 vs. DC Paar-Harthaus
 en 3 (Zum Saustall)
CLASS:PUBLIC
DTSTAMP:20260419T214501Z
END:VEVENT
BEGIN:VEVENT
UID:69e530bd33f15
DTSTART:20200203T190000Z
SEQUENCE:0
TRANSP:OPAQUE
LOCATION:Bismarckstraße 7\, 86159 Augsburg
SUMMARY:2.Liga SÜD Gruppe Weiß: Wild Things Augsburg vs. Schmutter Dart B
 oyz Gablingen 1 (Bismarck Bistro)
CLASS:PUBLIC
DTSTAMP:20260419T214501Z
END:VEVENT
BEGIN:VEVENT
UID:69e530bd33f44
DTSTART:20200205T190000Z
SEQUENCE:0
TRANSP:OPAQUE
LOCATION:Bismarckstraße 7\, 86159 Augsburg
SUMMARY:2.Liga SÜD Gruppe Weiß: Clochard Darter Augsburg 4 vs. SV Steingr
 iff 2 (Bismarck Bistro)
CLASS:PUBLIC
DTSTAMP:20260419T214501Z
END:VEVENT
BEGIN:VEVENT
UID:69e530bd33f73
DTSTART:20200215T190000Z
SEQUENCE:0
TRANSP:OPAQUE
LOCATION:Hauptstraße 8\, 86853 Langerringen
SUMMARY:2.Liga SÜD Gruppe Weiß: DC Schwabmünchen 1 vs. D'Augschburger 2 
 (Gasthof Deutsches Haus)
CLASS:PUBLIC
DTSTAMP:20260419T214501Z
END:VEVENT
BEGIN:VEVENT
UID:69e530bd33fa3
DTSTART:20200210T190000Z
SEQUENCE:0
TRANSP:OPAQUE
LOCATION:Bismarckstraße 7\, 86159 Augsburg
SUMMARY:2.Liga SÜD Gruppe Weiß: Wild Things Augsburg vs. Clochard Darter 
 Augsburg 4 (Bismarck Bistro)
CLASS:PUBLIC
DTSTAMP:20260419T214501Z
END:VEVENT
BEGIN:VEVENT
UID:69e530bd33fd2
DTSTART:20200210T190000Z
SEQUENCE:0
TRANSP:OPAQUE
LOCATION:Gersthofer Straße 1\, 86456 Gablingen
SUMMARY:2.Liga SÜD Gruppe Weiß: Schmutter Dart Boyz Gablingen 1 vs. DC Pa
 ar-Harthausen 3 (Sportheim SV Gablingen)
CLASS:PUBLIC
DTSTAMP:20260419T214501Z
END:VEVENT
BEGIN:VEVENT
UID:69e530bd34001
DTSTART:20200211T190000Z
SEQUENCE:0
TRANSP:OPAQUE
LOCATION:Sportweg 6\, 86529 Schrobenhausen
SUMMARY:2.Liga SÜD Gruppe Weiß: SV Steingriff 2 vs. D'Augschburger 2 (Spo
 rtgaststätte Liberty)
CLASS:PUBLIC
DTSTAMP:20260419T214501Z
END:VEVENT
BEGIN:VEVENT
UID:69e530bd34030
DTSTART:20200212T190000Z
SEQUENCE:0
TRANSP:OPAQUE
LOCATION:Hauptstraße 8\, 86853 Langerringen
SUMMARY:2.Liga SÜD Gruppe Weiß: DC Schwabmünchen 1 vs. Underground Darte
 r Aitingen (Gasthof Deutsches Haus)
CLASS:PUBLIC
DTSTAMP:20260419T214501Z
END:VEVENT
BEGIN:VEVENT
UID:69e530bd3405f
DTSTART:20200212T190000Z
SEQUENCE:0
TRANSP:OPAQUE
LOCATION:\,  
SUMMARY:2.Liga SÜD Gruppe Weiß: Dart'agnans Augsburg vs. DC Paar-Harthaus
 en 4 ()
CLASS:PUBLIC
DTSTAMP:20260419T214501Z
END:VEVENT
BEGIN:VEVENT
UID:69e530bd3428e
DTSTART:20200217T190000Z
SEQUENCE:0
TRANSP:OPAQUE
LOCATION:Keltenstraße 17\, 86845 Großaitingen
SUMMARY:2.Liga SÜD Gruppe Weiß: Underground Darter Aitingen vs. SV Steing
 riff 2 (Vereinsraum im UG)
CLASS:PUBLIC
DTSTAMP:20260419T214501Z
END:VEVENT
BEGIN:VEVENT
UID:69e530bd342c3
DTSTART:20200217T190000Z
SEQUENCE:0
TRANSP:OPAQUE
LOCATION:Ringstr. 9\, 86326 Friedberg
SUMMARY:2.Liga SÜD Gruppe Weiß: DC Paar-Harthausen 4 vs. DC Schwabmünche
 n 1 (Zum Saustall)
CLASS:PUBLIC
DTSTAMP:20260419T214501Z
END:VEVENT
BEGIN:VEVENT
UID:69e530bd342f3
DTSTART:20200218T190000Z
SEQUENCE:0
TRANSP:OPAQUE
LOCATION:Georgenstr. 2\, 86152 Augsburg
SUMMARY:2.Liga SÜD Gruppe Weiß: D'Augschburger 2 vs. Wild Things Augsburg
  (Oki's)
CLASS:PUBLIC
DTSTAMP:20260419T214501Z
END:VEVENT
BEGIN:VEVENT
UID:69e530bd34324
DTSTART:20200219T190000Z
SEQUENCE:0
TRANSP:OPAQUE
LOCATION:\,  
SUMMARY:2.Liga SÜD Gruppe Weiß: Dart'agnans Augsburg vs. DC Paar-Harthaus
 en 3 ()
CLASS:PUBLIC
DTSTAMP:20260419T214501Z
END:VEVENT
BEGIN:VEVENT
UID:69e530bd34463
DTSTART:20200316T190000Z
SEQUENCE:0
TRANSP:OPAQUE
LOCATION:Gersthofer Straße 1\, 86456 Gablingen
SUMMARY:2.Liga SÜD Gruppe Weiß: Schmutter Dart Boyz Gablingen 1 vs. Cloch
 ard Darter Augsburg 4 (Sportheim SV Gablingen)
CLASS:PUBLIC
DTSTAMP:20260419T214501Z
END:VEVENT
BEGIN:VEVENT
UID:69e530bd34496
DTSTART:20200302T190000Z
SEQUENCE:0
TRANSP:OPAQUE
LOCATION:Bismarckstraße 7\, 86159 Augsburg
SUMMARY:2.Liga SÜD Gruppe Weiß: Wild Things Augsburg vs. Underground Dart
 er Aitingen (Bismarck Bistro)
CLASS:PUBLIC
DTSTAMP:20260419T214501Z
END:VEVENT
BEGIN:VEVENT
UID:69e530bd344c7
DTSTART:20200303T190000Z
SEQUENCE:0
TRANSP:OPAQUE
LOCATION:Ringstr. 9\, 86326 Friedberg
SUMMARY:2.Liga SÜD Gruppe Weiß: DC Paar-Harthausen 3 vs. Clochard Darter 
 Augsburg 4 (Zum Saustall)
CLASS:PUBLIC
DTSTAMP:20260419T214501Z
END:VEVENT
BEGIN:VEVENT
UID:69e530bd344f7
DTSTART:20200303T190000Z
SEQUENCE:0
TRANSP:OPAQUE
LOCATION:Sportweg 6\, 86529 Schrobenhausen
SUMMARY:2.Liga SÜD Gruppe Weiß: SV Steingriff 2 vs. DC Paar-Harthausen 4 
 (Sportgaststätte Liberty)
CLASS:PUBLIC
DTSTAMP:20260419T214501Z
END:VEVENT
BEGIN:VEVENT
UID:69e530bd34538
DTSTART:20200304T190000Z
SEQUENCE:0
TRANSP:OPAQUE
LOCATION:Hauptstraße 8\, 86853 Langerringen
SUMMARY:2.Liga SÜD Gruppe Weiß: DC Schwabmünchen 1 vs. Dart'agnans Augsb
 urg (Gasthof Deutsches Haus)
CLASS:PUBLIC
DTSTAMP:20260419T214501Z
END:VEVENT
BEGIN:VEVENT
UID:69e530bd34568
DTSTART:20200310T190000Z
SEQUENCE:0
TRANSP:OPAQUE
LOCATION:Georgenstr. 2\, 86152 Augsburg
SUMMARY:2.Liga SÜD Gruppe Weiß: D'Augschburger 2 vs. Schmutter Dart Boyz 
 Gablingen 1 (Oki's)
CLASS:PUBLIC
DTSTAMP:20260419T214501Z
END:VEVENT
BEGIN:VEVENT
UID:69e530bd345a8
DTSTART:20200303T190000Z
SEQUENCE:0
TRANSP:OPAQUE
LOCATION:Gersthofer Straße 1\, 86456 Gablingen
SUMMARY:2.Liga SÜD Gruppe Weiß: Schmutter Dart Boyz Gablingen 1 vs. Under
 ground Darter Aitingen (Sportheim SV Gablingen)
CLASS:PUBLIC
DTSTAMP:20260419T214501Z
END:VEVENT
BEGIN:VEVENT
UID:69e530bd345d8
DTSTART:20200316T190000Z
SEQUENCE:0
TRANSP:OPAQUE
LOCATION:Ringstr. 9\, 86326 Friedberg
SUMMARY:2.Liga SÜD Gruppe Weiß: DC Paar-Harthausen 4 vs. Wild Things Augs
 burg (Zum Saustall)
CLASS:PUBLIC
DTSTAMP:20260419T214501Z
END:VEVENT
BEGIN:VEVENT
UID:69e530bd34607
DTSTART:20200317T190000Z
SEQUENCE:0
TRANSP:OPAQUE
LOCATION:Georgenstr. 2\, 86152 Augsburg
SUMMARY:2.Liga SÜD Gruppe Weiß: D'Augschburger 2 vs. Clochard Darter Augs
 burg 4 (Oki's)
CLASS:PUBLIC
DTSTAMP:20260419T214501Z
END:VEVENT
BEGIN:VEVENT
UID:69e530bd34636
DTSTART:20200318T190000Z
SEQUENCE:0
TRANSP:OPAQUE
LOCATION:\,  
SUMMARY:2.Liga SÜD Gruppe Weiß: Dart'agnans Augsburg vs. SV Steingriff 2 
 ()
CLASS:PUBLIC
DTSTAMP:20260419T214501Z
END:VEVENT
BEGIN:VEVENT
UID:69e530bd34782
DTSTART:20200325T190000Z
SEQUENCE:0
TRANSP:OPAQUE
LOCATION:Hauptstraße 8\, 86853 Langerringen
SUMMARY:2.Liga SÜD Gruppe Weiß: DC Schwabmünchen 1 vs. DC Paar-Harthause
 n 3 (Gasthof Deutsches Haus)
CLASS:PUBLIC
DTSTAMP:20260419T214501Z
END:VEVENT
BEGIN:VEVENT
UID:69e530bd347b5
DTSTART:20200330T180000Z
SEQUENCE:0
TRANSP:OPAQUE
LOCATION:Ringstr. 9\, 86326 Friedberg
SUMMARY:2.Liga SÜD Gruppe Weiß: DC Paar-Harthausen 3 vs. D'Augschburger 2
  (Zum Saustall)
CLASS:PUBLIC
DTSTAMP:20260419T214501Z
END:VEVENT
BEGIN:VEVENT
UID:69e530bd347e6
DTSTART:20200331T180000Z
SEQUENCE:0
TRANSP:OPAQUE
LOCATION:Bismarckstraße 7\, 86159 Augsburg
SUMMARY:2.Liga SÜD Gruppe Weiß: Clochard Darter Augsburg 4 vs. Undergroun
 d Darter Aitingen (Bismarck Bistro)
CLASS:PUBLIC
DTSTAMP:20260419T214501Z
END:VEVENT
BEGIN:VEVENT
UID:69e530bd34815
DTSTART:20200401T180000Z
SEQUENCE:0
TRANSP:OPAQUE
LOCATION:Sportweg 6\, 86529 Schrobenhausen
SUMMARY:2.Liga SÜD Gruppe Weiß: SV Steingriff 2 vs. DC Schwabmünchen 1 (
 Sportgaststätte Liberty)
CLASS:PUBLIC
DTSTAMP:20260419T214501Z
END:VEVENT
BEGIN:VEVENT
UID:69e530bd34844
DTSTART:20200401T180000Z
SEQUENCE:0
TRANSP:OPAQUE
LOCATION:Bismarckstraße 7\, 86159 Augsburg
SUMMARY:2.Liga SÜD Gruppe Weiß: Wild Things Augsburg vs. Dart'agnans Augs
 burg (Bismarck Bistro)
CLASS:PUBLIC
DTSTAMP:20260419T214501Z
END:VEVENT
BEGIN:VEVENT
UID:69e530bd34893
DTSTART:20200401T180000Z
SEQUENCE:0
TRANSP:OPAQUE
LOCATION:Ringstr. 9\, 86326 Friedberg
SUMMARY:2.Liga SÜD Gruppe Weiß: DC Paar-Harthausen 4 vs. Schmutter Dart B
 oyz Gablingen 1 (Zum Saustall)
CLASS:PUBLIC
DTSTAMP:20260419T214501Z
END:VEVENT
BEGIN:VEVENT
UID:69e530bd348c3
DTSTART:20200420T180000Z
SEQUENCE:0
TRANSP:OPAQUE
LOCATION:Ringstr. 9\, 86326 Friedberg
SUMMARY:2.Liga SÜD Gruppe Weiß: DC Paar-Harthausen 4 vs. Clochard Darter 
 Augsburg 4 (Zum Saustall)
CLASS:PUBLIC
DTSTAMP:20260419T214501Z
END:VEVENT
BEGIN:VEVENT
UID:69e530bd348f2
DTSTART:20200420T180000Z
SEQUENCE:0
TRANSP:OPAQUE
LOCATION:Gersthofer Straße 1\, 86456 Gablingen
SUMMARY:2.Liga SÜD Gruppe Weiß: Schmutter Dart Boyz Gablingen 1 vs. Dart'
 agnans Augsburg (Sportheim SV Gablingen)
CLASS:PUBLIC
DTSTAMP:20260419T214501Z
END:VEVENT
BEGIN:VEVENT
UID:69e530bd34921
DTSTART:20200421T180000Z
SEQUENCE:0
TRANSP:OPAQUE
LOCATION:Sportweg 6\, 86529 Schrobenhausen
SUMMARY:2.Liga SÜD Gruppe Weiß: SV Steingriff 2 vs. DC Paar-Harthausen 3 
 (Sportgaststätte Liberty)
CLASS:PUBLIC
DTSTAMP:20260419T214501Z
END:VEVENT
BEGIN:VEVENT
UID:69e530bd34950
DTSTART:20200422T180000Z
SEQUENCE:0
TRANSP:OPAQUE
LOCATION:Hauptstraße 8\, 86853 Langerringen
SUMMARY:2.Liga SÜD Gruppe Weiß: DC Schwabmünchen 1 vs. Wild Things Augsb
 urg (Gasthof Deutsches Haus)
CLASS:PUBLIC
DTSTAMP:20260419T214501Z
END:VEVENT
BEGIN:VEVENT
UID:69e530bd34980
DTSTART:20200428T180000Z
SEQUENCE:0
TRANSP:OPAQUE
LOCATION:Georgenstr. 2\, 86152 Augsburg
SUMMARY:2.Liga SÜD Gruppe Weiß: D'Augschburger 2 vs. Underground Darter A
 itingen (Oki's)
CLASS:PUBLIC
DTSTAMP:20260419T214501Z
END:VEVENT
BEGIN:VEVENT
UID:69e530bd349af
DTSTART:20200504T180000Z
SEQUENCE:0
TRANSP:OPAQUE
LOCATION:Keltenstraße 17\, 86845 Großaitingen
SUMMARY:2.Liga SÜD Gruppe Weiß: Underground Darter Aitingen vs. DC Paar-H
 arthausen 3 (Vereinsraum im UG)
CLASS:PUBLIC
DTSTAMP:20260419T214501Z
END:VEVENT
BEGIN:VEVENT
UID:69e530bd349de
DTSTART:20200504T180000Z
SEQUENCE:0
TRANSP:OPAQUE
LOCATION:Bismarckstraße 7\, 86159 Augsburg
SUMMARY:2.Liga SÜD Gruppe Weiß: Wild Things Augsburg vs. SV Steingriff 2 
 (Bismarck Bistro)
CLASS:PUBLIC
DTSTAMP:20260419T214501Z
END:VEVENT
BEGIN:VEVENT
UID:69e530bd34a0d
DTSTART:20200505T180000Z
SEQUENCE:0
TRANSP:OPAQUE
LOCATION:Bismarckstraße 7\, 86159 Augsburg
SUMMARY:2.Liga SÜD Gruppe Weiß: Clochard Darter Augsburg 4 vs. Dart'agnan
 s Augsburg (Bismarck Bistro)
CLASS:PUBLIC
DTSTAMP:20260419T214501Z
END:VEVENT
BEGIN:VEVENT
UID:69e530bd34a3c
DTSTART:20200505T180000Z
SEQUENCE:0
TRANSP:OPAQUE
LOCATION:Georgenstr. 2\, 86152 Augsburg
SUMMARY:2.Liga SÜD Gruppe Weiß: D'Augschburger 2 vs. DC Paar-Harthausen 4
  (Oki's)
CLASS:PUBLIC
DTSTAMP:20260419T214501Z
END:VEVENT
BEGIN:VEVENT
UID:69e530bd34a6b
DTSTART:20200506T180000Z
SEQUENCE:0
TRANSP:OPAQUE
LOCATION:Hauptstraße 8\, 86853 Langerringen
SUMMARY:2.Liga SÜD Gruppe Weiß: DC Schwabmünchen 1 vs. Schmutter Dart Bo
 yz Gablingen 1 (Gasthof Deutsches Haus)
CLASS:PUBLIC
DTSTAMP:20260419T214501Z
END:VEVENT
BEGIN:VEVENT
UID:69e530bd34a9b
DTSTART:20200512T180000Z
SEQUENCE:0
TRANSP:OPAQUE
LOCATION:Keltenstraße 17\, 86845 Großaitingen
SUMMARY:2.Liga SÜD Gruppe Weiß: Underground Darter Aitingen vs. DC Paar-H
 arthausen 4 (Vereinsraum im UG)
CLASS:PUBLIC
DTSTAMP:20260419T214501Z
END:VEVENT
BEGIN:VEVENT
UID:69e530bd34ac9
DTSTART:20200512T180000Z
SEQUENCE:0
TRANSP:OPAQUE
LOCATION:\,  
SUMMARY:2.Liga SÜD Gruppe Weiß: Dart'agnans Augsburg vs. D'Augschburger 2
  ()
CLASS:PUBLIC
DTSTAMP:20260419T214501Z
END:VEVENT
BEGIN:VEVENT
UID:69e530bd34cf3
DTSTART:20200512T180000Z
SEQUENCE:0
TRANSP:OPAQUE
LOCATION:Bismarckstraße 7\, 86159 Augsburg
SUMMARY:2.Liga SÜD Gruppe Weiß: Clochard Darter Augsburg 4 vs. DC Schwabm
 ünchen 1 (Bismarck Bistro)
CLASS:PUBLIC
DTSTAMP:20260419T214501Z
END:VEVENT
BEGIN:VEVENT
UID:69e530bd34d29
DTSTART:20200512T180000Z
SEQUENCE:0
TRANSP:OPAQUE
LOCATION:Ringstr. 9\, 86326 Friedberg
SUMMARY:2.Liga SÜD Gruppe Weiß: DC Paar-Harthausen 3 vs. Wild Things Augs
 burg (Zum Saustall)
CLASS:PUBLIC
DTSTAMP:20260419T214501Z
END:VEVENT
BEGIN:VEVENT
UID:69e530bd34d5b
DTSTART:20200512T180000Z
SEQUENCE:0
TRANSP:OPAQUE
LOCATION:Gersthofer Straße 1\, 86456 Gablingen
SUMMARY:2.Liga SÜD Gruppe Weiß: Schmutter Dart Boyz Gablingen 1 vs. SV St
 eingriff 2 (Sportheim SV Gablingen)
CLASS:PUBLIC
DTSTAMP:20260419T214501Z
END:VEVENT
END:VCALENDAR